{"text_format":"1","workbook":"xlsx","n_sheets":25,"sheets":["様式一覧","CSV出力","0) 基本情報","1) 室仕様","2-1) 空調ゾーン","2-2) 外壁構成 ","2-3) 窓仕様","2-4) 外皮 ","2-5) 熱源","SP-3) 熱源水温度","2-6) 2次ﾎﾟﾝﾌﾟ","2-7) 空調機","SP-2) 熱源特性","3-1) 換気室","3-2) 換気送風機","3-3) 換気空調機","4) 照明","5-1) 給湯室","5-2) 給湯機器","6) 昇降機","7-1) 太陽光発電","7-2) コージェネレーション設備(CASCADE用)","7-3) コージェネレーション設備","8) 非空調外皮","9) モデル建物"],"not_rendered":{"charts":0,"images":2,"macros":1,"external_links":1,"defined_names":31,"comments":0,"pivot_tables":0},"unopened":[],"bounds":{"document_bytes":16777216,"sheet_cells":100000,"rows_first":2000,"rows_last":500,"rows_between":2000,"halvings":0,"cell_chars":16384,"cell_head_chars":4096},"cells_cut":0,"cells_raw":0,"read":"whole","date_system":"1900"}

{"sheet":"様式一覧","index":0,"n_rows":22,"n_cols":1,"rows_kept":22,"cut":false,"hidden":false,"merged":[]}
["様式一覧"]
["様式 0. 基本情報入力シート"]
["様式 1. (共通)室仕様入力シート"]
["様式 2-1. (空調)空調ゾーン入力シート"]
["様式 2-2. (空調)外壁構成入力シート"]
["様式 2-3. (空調)窓仕様入力シート"]
["様式 2-4. (空調)外皮仕様入力シート"]
["様式 2-5. (空調)熱源入力シート"]
["様式 2-6. (空調)二次ポンプ入力シート"]
["様式 2-7. (空調)空調機入力シート"]
["様式 3-1. (換気)換気対象室入力シート"]
["様式 3-2. (換気)給排気送風機入力シート"]
["様式 3-3. (換気)換気代替空調機入力シート"]
["様式 4. (照明)照明入力シート"]
["様式 5-1. (給湯)給湯対象室入力シート"]
["様式 5-2. (給湯)給湯機器入力シート"]
["様式 6. (昇降機)昇降機入力シート"]
["様式 7-1. (効率化)太陽光発電システム入力シート"]
["様式 7-2. (効率化)コ-ジェネレーション設備入力シート(CASCADE用)"]
["様式 7-3. (効率化)コ-ジェネレーション設備入力シート"]
["様式 8. (外皮)非空調外皮仕様入力シート"]
["様式 9. (共通)モデル建物設定シート"]

{"sheet":"CSV出力","index":1,"n_rows":10,"n_cols":2,"rows_kept":10,"cut":false,"hidden":false,"merged":[[9,1,10,9]]}
[]
[]
[]
[]
[]
[]
[]
[]
[]
["注）","Mac版のExcel では、CSVファイルの出力はできません。\nExcelファイル自体をプログラムにアップロードいただくか、Windows版のExcelをご利用ください。"]

{"sheet":"0) 基本情報","index":2,"n_rows":20,"n_cols":5,"rows_kept":20,"cut":false,"hidden":false,"merged":[[19,2,19,5],[5,2,5,5],[6,2,6,5],[8,2,8,5],[10,2,10,5],[15,2,15,5],[17,2,17,5],[18,2,18,5],[16,2,16,5],[9,0,10,0],[9,1,10,1],[11,2,11,5],[12,2,12,5],[14,2,14,5]]}
[{"$f":"様式一覧!A2","v":"様式 0. 基本情報入力シート"}]
[]
[]
[]
[]
["①","シート作成月日","年　　　　　　　月　　　　　　　日"]
["②","入力責任者"]
[]
["③","建物の名称","テストビル"]
["④","建築物所在地","都道府県",null,"市区町村"]
[]
["⑤","省エネ基準地域区分",2]
["⑥","構造"]
["⑦","階数","地上",null,"地下"]
["⑧","敷地面積 [㎡]"]
["⑨","建築面積 [㎡]"]
["⑩","延べ面積 [㎡]",1000]
["⑪","年間日射地域区分"]
["⑫","「他人から供給された熱」の\n一次エネルギー換算値（冷熱）",1.36]
["⑬","「他人から供給された熱」の\n一次エネルギー換算値（温熱）",1.36]

{"sheet":"1) 室仕様","index":3,"n_rows":227,"n_cols":17,"rows_kept":227,"cut":false,"hidden":false,"merged":[]}
[{"$f":"様式一覧!A3","v":"様式 1. (共通)室仕様入力シート"}]
[]
[]
["①","①","②","②","③","④","⑤","⑥","⑥","⑥","⑥","⑦","⑧"]
[]
["階","室名","建物用途","室用途","室面積","階高","天井高","空調計算対象室","換気計算対象室","照明計算対象室","給湯計算対象室","モデル建物","備考"]
[]
[null,null,null,null,"[㎡]","[m]","[m]"]
[null,null,"(選択)","(選択)",null,null,null,"(選択)","(選択)","(選択)","(選択)"]
[null,null,null,null,null,null,null,null,null,null,null,null,null,null,"Room Type List","Model Building List","Calculation Target Room List"]
["1F","事務室","事務所等","事務室",1000,5,4,"■",null,null,null,null,null,null,"事務室","事務所モデル"]
[null,null,null,null,null,null,null,null,null,null,null,null,null,null,"電子計算機器事務室","ビジネスホテルモデル","■"]
[null,null,null,null,null,null,null,null,null,null,null,null,null,null,"会議室","シティホテルモデル"]
[null,null,null,null,null,null,null,null,null,null,null,null,null,null,"喫茶室","総合病院モデル"]
[null,null,null,null,null,null,null,null,null,null,null,null,null,null,"社員食堂","クリニックモデル"]
[null,null,null,null,null,null,null,null,null,null,null,null,null,null,"中央監視室","福祉施設モデル"]
[null,null,null,null,null,null,null,null,null,null,null,null,null,null,"更衣室又は倉庫","大規模物販モデル"]
[null,null,null,null,null,null,null,null,null,null,null,null,null,null,"廊下","小規模物販モデル"]
[null,null,null,null,null,null,null,null,null,null,null,null,null,null,"ロビー","学校モデル"]
[null,null,null,null,null,null,null,null,null,null,null,null,null,null,"便所","幼稚園モデル"]
[null,null,null,null,null,null,null,null,null,null,null,null,null,null,"喫煙室","大学モデル"]
[null,null,null,null,null,null,null,null,null,null,null,null,null,null,"厨房","講堂モデル"]
[null,null,null,null,null,null,null,null,null,null,null,null,null,null,"屋内駐車場","飲食店モデル"]
[null,null,null,null,null,null,null,null,null,null,null,null,null,null,"機械室","集会所モデル（アスレチック場）"]
[null,null,null,null,null,null,null,null,null,null,null,null,null,null,"電気室","集会所モデル（体育館）"]
[null,null,null,null,null,null,null,null,null,null,null,null,null,null,"湯沸室等","集会所モデル（公衆浴場）"]
[null,null,null,null,null,null,null,null,null,null,null,null,null,null,"食品庫等","集会所モデル（映画館）"]
[null,null,null,null,null,null,null,null,null,null,null,null,null,null,"印刷室等","集会所モデル（図書館）"]
[null,null,null,null,null,null,null,null,null,null,null,null,null,null,"廃棄物保管場所等","集会所モデル（博物館）"]
[null,null,null,null,null,null,null,null,null,null,null,null,null,null,"非主要室","集会所モデル（劇場）"]
[null,null,null,null,null,null,null,null,null,null,null,null,null,null,"客室","集会所モデル（カラオケボックス）"]
[null,null,null,null,null,null,null,null,null,null,null,null,null,null,"客室内の浴室等","集会所モデル（ボーリング場）"]
[null,null,null,null,null,null,null,null,null,null,null,null,null,null,"終日利用されるフロント","集会所モデル（ぱちんこ屋）"]
[null,null,null,null,null,null,null,null,null,null,null,null,null,null,"終日利用される事務室","集会所モデル（競馬場又は競輪場）"]
[null,null,null,null,null,null,null,null,null,null,null,null,null,null,"終日利用される廊下","集会所モデル（社寺）"]
[null,null,null,null,null,null,null,null,null,null,null,null,null,null,"終日利用されるロビー","工場モデル"]
[null,null,null,null,null,null,null,null,null,null,null,null,null,null,"終日利用される共用部の便所"]
[null,null,null,null,null,null,null,null,null,null,null,null,null,null,"終日利用される喫煙室"]
[null,null,null,null,null,null,null,null,null,null,null,null,null,null,"宴会場"]
[null,null,null,null,null,null,null,null,null,null,null,null,null,null,"会議室"]
[null,null,null,null,null,null,null,null,null,null,null,null,null,null,"結婚式場"]
[null,null,null,null,null,null,null,null,null,null,null,null,null,null,"レストラン"]
[null,null,null,null,null,null,null,null,null,null,null,null,null,null,"ラウンジ"]
[null,null,null,null,null,null,null,null,null,null,null,null,null,null,"バー"]
[null,null,null,null,null,null,null,null,null,null,null,null,null,null,"店舗"]
[null,null,null,null,null,null,null,null,null,null,null,null,null,null,"社員食堂"]
[null,null,null,null,null,null,null,null,null,null,null,null,null,null,"更衣室又は倉庫"]
[null,null,null,null,null,null,null,null,null,null,null,null,null,null,"日中のみ利用されるフロント"]
[null,null,null,null,null,null,null,null,null,null,null,null,null,null,"日中のみ利用される事務室"]
[null,null,null,null,null,null,null,null,null,null,null,null,null,null,"日中のみ利用される廊下"]
[null,null,null,null,null,null,null,null,null,null,null,null,null,null,"日中のみ利用されるロビー"]
[null,null,null,null,null,null,null,null,null,null,null,null,null,null,"日中のみ利用される共用部の便所"]
[null,null,null,null,null,null,null,null,null,null,null,null,null,null,"日中のみ利用される喫煙室"]
[null,null,null,null,null,null,null,null,null,null,null,null,null,null,"厨房"]
[null,null,null,null,null,null,null,null,null,null,null,null,null,null,"屋内駐車場"]
[null,null,null,null,null,null,null,null,null,null,null,null,null,null,"機械室"]
[null,null,null,null,null,null,null,null,null,null,null,null,null,null,"電気室"]
[null,null,null,null,null,null,null,null,null,null,null,null,null,null,"湯沸室等"]
[null,null,null,null,null,null,null,null,null,null,null,null,null,null,"食品庫等"]
[null,null,null,null,null,null,null,null,null,null,null,null,null,null,"印刷室等"]
[null,null,null,null,null,null,null,null,null,null,null,null,null,null,"廃棄物保管場所等"]
[null,null,null,null,null,null,null,null,null,null,null,null,null,null,"非主要室"]
[null,null,null,null,null,null,null,null,null,null,null,null,null,null,"病室"]
[null,null,null,null,null,null,null,null,null,null,null,null,null,null,"浴室等"]
[null,null,null,null,null,null,null,null,null,null,null,null,null,null,"看護職員室"]
[null,null,null,null,null,null,null,null,null,null,null,null,null,null,"終日利用される廊下"]
[null,null,null,null,null,null,null,null,null,null,null,null,null,null,"終日利用されるロビー"]
[null,null,null,null,null,null,null,null,null,null,null,null,null,null,"終日利用される共用部の便所"]
[null,null,null,null,null,null,null,null,null,null,null,null,null,null,"終日利用される喫煙室"]
[null,null,null,null,null,null,null,null,null,null,null,null,null,null,"診察室"]
[null,null,null,null,null,null,null,null,null,null,null,null,null,null,"待合室"]
[null,null,null,null,null,null,null,null,null,null,null,null,null,null,"手術室"]
[null,null,null,null,null,null,null,null,null,null,null,null,null,null,"検査室"]
[null,null,null,null,null,null,null,null,null,null,null,null,null,null,"集中治療室"]
[null,null,null,null,null,null,null,null,null,null,null,null,null,null,"解剖室等"]
[null,null,null,null,null,null,null,null,null,null,null,null,null,null,"レストラン"]
[null,null,null,null,null,null,null,null,null,null,null,null,null,null,"事務室"]
[null,null,null,null,null,null,null,null,null,null,null,null,null,null,"更衣室又は倉庫"]
[null,null,null,null,null,null,null,null,null,null,null,null,null,null,"日中のみ利用される廊下"]
[null,null,null,null,null,null,null,null,null,null,null,null,null,null,"日中のみ利用されるロビー"]
[null,null,null,null,null,null,null,null,null,null,null,null,null,null,"日中のみ利用される共用部の便所"]
[null,null,null,null,null,null,null,null,null,null,null,null,null,null,"日中のみ利用される喫煙室"]
[null,null,null,null,null,null,null,null,null,null,null,null,null,null,"厨房"]
[null,null,null,null,null,null,null,null,null,null,null,null,null,null,"屋内駐車場"]
[null,null,null,null,null,null,null,null,null,null,null,null,null,null,"機械室"]
[null,null,null,null,null,null,null,null,null,null,null,null,null,null,"電気室"]
[null,null,null,null,null,null,null,null,null,null,null,null,null,null,"湯沸室等"]
[null,null,null,null,null,null,null,null,null,null,null,null,null,null,"食品庫等"]
[null,null,null,null,null,null,null,null,null,null,null,null,null,null,"印刷室等"]
[null,null,null,null,null,null,null,null,null,null,null,null,null,null,"廃棄物保管場所等"]
[null,null,null,null,null,null,null,null,null,null,null,null,null,null,"非主要室"]
[null,null,null,null,null,null,null,null,null,null,null,null,null,null,"大型店の売場"]
[null,null,null,null,null,null,null,null,null,null,null,null,null,null,"専門店の売場"]
[null,null,null,null,null,null,null,null,null,null,null,null,null,null,"スーパーマーケットの売場"]
[null,null,null,null,null,null,null,null,null,null,null,null,null,null,"荷さばき場"]
[null,null,null,null,null,null,null,null,null,null,null,null,null,null,"事務室"]
[null,null,null,null,null,null,null,null,null,null,null,null,null,null,"更衣室又は倉庫"]
[null,null,null,null,null,null,null,null,null,null,null,null,null,null,"ロビー"]
[null,null,null,null,null,null,null,null,null,null,null,null,null,null,"便所"]
[null,null,null,null,null,null,null,null,null,null,null,null,null,null,"喫煙室"]
[null,null,null,null,null,null,null,null,null,null,null,null,null,null,"厨房"]
[null,null,null,null,null,null,null,null,null,null,null,null,null,null,"屋内駐車場"]
[null,null,null,null,null,null,null,null,null,null,null,null,null,null,"機械室"]
[null,null,null,null,null,null,null,null,null,null,null,null,null,null,"電気室"]
[null,null,null,null,null,null,null,null,null,null,null,null,null,null,"湯沸室等"]
[null,null,null,null,null,null,null,null,null,null,null,null,null,null,"食品庫等"]
[null,null,null,null,null,null,null,null,null,null,null,null,null,null,"印刷室等"]
[null,null,null,null,null,null,null,null,null,null,null,null,null,null,"廃棄物保管場所等"]
[null,null,null,null,null,null,null,null,null,null,null,null,null,null,"非主要室"]
[null,null,null,null,null,null,null,null,null,null,null,null,null,null,"小中学校の教室"]
[null,null,null,null,null,null,null,null,null,null,null,null,null,null,"高等学校の教室"]
[null,null,null,null,null,null,null,null,null,null,null,null,null,null,"職員室"]
[null,null,null,null,null,null,null,null,null,null,null,null,null,null,"小中学校又は高等学校の食堂"]
[null,null,null,null,null,null,null,null,null,null,null,null,null,null,"大学の教室"]
[null,null,null,null,null,null,null,null,null,null,null,null,null,null,"大学の食堂"]
[null,null,null,null,null,null,null,null,null,null,null,null,null,null,"事務室"]
[null,null,null,null,null,null,null,null,null,null,null,null,null,null,"研究室"]
[null,null,null,null,null,null,null,null,null,null,null,null,null,null,"電子計算機器演習室"]
[null,null,null,null,null,null,null,null,null,null,null,null,null,null,"実験室"]
[null,null,null,null,null,null,null,null,null,null,null,null,null,null,"実習室"]
[null,null,null,null,null,null,null,null,null,null,null,null,null,null,"講堂又は体育館"]
[null,null,null,null,null,null,null,null,null,null,null,null,null,null,"宿直室"]
[null,null,null,null,null,null,null,null,null,null,null,null,null,null,"更衣室又は倉庫"]
[null,null,null,null,null,null,null,null,null,null,null,null,null,null,"廊下"]
[null,null,null,null,null,null,null,null,null,null,null,null,null,null,"ロビー"]
[null,null,null,null,null,null,null,null,null,null,null,null,null,null,"便所"]
[null,null,null,null,null,null,null,null,null,null,null,null,null,null,"喫煙室"]
[null,null,null,null,null,null,null,null,null,null,null,null,null,null,"厨房"]
[null,null,null,null,null,null,null,null,null,null,null,null,null,null,"屋内駐車場"]
[null,null,null,null,null,null,null,null,null,null,null,null,null,null,"機械室"]
[null,null,null,null,null,null,null,null,null,null,null,null,null,null,"電気室"]
[null,null,null,null,null,null,null,null,null,null,null,null,null,null,"湯沸室等"]
[null,null,null,null,null,null,null,null,null,null,null,null,null,null,"食品庫等"]
[null,null,null,null,null,null,null,null,null,null,null,null,null,null,"印刷室等"]
[null,null,null,null,null,null,null,null,null,null,null,null,null,null,"廃棄物保管場所等"]
[null,null,null,null,null,null,null,null,null,null,null,null,null,null,"非主要室"]
[null,null,null,null,null,null,null,null,null,null,null,null,null,null,"レストランの客室"]
[null,null,null,null,null,null,null,null,null,null,null,null,null,null,"軽食店の客室"]
[null,null,null,null,null,null,null,null,null,null,null,null,null,null,"喫茶店の客室"]
[null,null,null,null,null,null,null,null,null,null,null,null,null,null,"バー"]
[null,null,null,null,null,null,null,null,null,null,null,null,null,null,"フロント"]
[null,null,null,null,null,null,null,null,null,null,null,null,null,null,"事務室"]
[null,null,null,null,null,null,null,null,null,null,null,null,null,null,"更衣室又は倉庫"]
[null,null,null,null,null,null,null,null,null,null,null,null,null,null,"廊下"]
[null,null,null,null,null,null,null,null,null,null,null,null,null,null,"ロビー"]
[null,null,null,null,null,null,null,null,null,null,null,null,null,null,"便所"]
[null,null,null,null,null,null,null,null,null,null,null,null,null,null,"喫煙室"]
[null,null,null,null,null,null,null,null,null,null,null,null,null,null,"厨房"]
[null,null,null,null,null,null,null,null,null,null,null,null,null,null,"屋内駐車場"]
[null,null,null,null,null,null,null,null,null,null,null,null,null,null,"機械室"]
[null,null,null,null,null,null,null,null,null,null,null,null,null,null,"電気室"]
[null,null,null,null,null,null,null,null,null,null,null,null,null,null,"湯沸室等"]
[null,null,null,null,null,null,null,null,null,null,null,null,null,null,"食品庫等"]
[null,null,null,null,null,null,null,null,null,null,null,null,null,null,"印刷室等"]
[null,null,null,null,null,null,null,null,null,null,null,null,null,null,"廃棄物保管場所等"]
[null,null,null,null,null,null,null,null,null,null,null,null,null,null,"非主要室"]
[null,null,null,null,null,null,null,null,null,null,null,null,null,null,"アスレチック場の運動室"]
[null,null,null,null,null,null,null,null,null,null,null,null,null,null,"アスレチック場のロビー"]
[null,null,null,null,null,null,null,null,null,null,null,null,null,null,"アスレチック場の便所"]
[null,null,null,null,null,null,null,null,null,null,null,null,null,null,"アスレチック場の喫煙室"]
[null,null,null,null,null,null,null,null,null,null,null,null,null,null,"公式競技用スケート場"]
[null,null,null,null,null,null,null,null,null,null,null,null,null,null,"公式競技用体育館"]
[null,null,null,null,null,null,null,null,null,null,null,null,null,null,"一般競技用スケート場"]
[null,null,null,null,null,null,null,null,null,null,null,null,null,null,"一般競技用体育館"]
[null,null,null,null,null,null,null,null,null,null,null,null,null,null,"レクリエーション用スケート場"]
[null,null,null,null,null,null,null,null,null,null,null,null,null,null,"レクリエーション用体育館"]
[null,null,null,null,null,null,null,null,null,null,null,null,null,null,"競技場の客席"]
[null,null,null,null,null,null,null,null,null,null,null,null,null,null,"競技場のロビー"]
[null,null,null,null,null,null,null,null,null,null,null,null,null,null,"競技場の便所"]
[null,null,null,null,null,null,null,null,null,null,null,null,null,null,"競技場の喫煙室"]
[null,null,null,null,null,null,null,null,null,null,null,null,null,null,"公衆浴場の浴室"]
[null,null,null,null,null,null,null,null,null,null,null,null,null,null,"公衆浴場の脱衣所"]
[null,null,null,null,null,null,null,null,null,null,null,null,null,null,"公衆浴場の休憩室"]
[null,null,null,null,null,null,null,null,null,null,null,null,null,null,"公衆浴場のロビー"]
[null,null,null,null,null,null,null,null,null,null,null,null,null,null,"公衆浴場の便所"]
[null,null,null,null,null,null,null,null,null,null,null,null,null,null,"公衆浴場の喫煙室"]
[null,null,null,null,null,null,null,null,null,null,null,null,null,null,"映画館の客席"]
[null,null,null,null,null,null,null,null,null,null,null,null,null,null,"映画館のロビー"]
[null,null,null,null,null,null,null,null,null,null,null,null,null,null,"映画館の便所"]
[null,null,null,null,null,null,null,null,null,null,null,null,null,null,"映画館の喫煙室"]
[null,null,null,null,null,null,null,null,null,null,null,null,null,null,"図書館の図書室"]
[null,null,null,null,null,null,null,null,null,null,null,null,null,null,"図書館のロビー"]
[null,null,null,null,null,null,null,null,null,null,null,null,null,null,"図書館の便所"]
[null,null,null,null,null,null,null,null,null,null,null,null,null,null,"図書館の喫煙室"]
[null,null,null,null,null,null,null,null,null,null,null,null,null,null,"博物館の展示室"]
[null,null,null,null,null,null,null,null,null,null,null,null,null,null,"博物館のロビー"]
[null,null,null,null,null,null,null,null,null,null,null,null,null,null,"博物館の便所"]
[null,null,null,null,null,null,null,null,null,null,null,null,null,null,"博物館の喫煙室"]
[null,null,null,null,null,null,null,null,null,null,null,null,null,null,"劇場の楽屋"]
[null,null,null,null,null,null,null,null,null,null,null,null,null,null,"劇場の舞台"]
[null,null,null,null,null,null,null,null,null,null,null,null,null,null,"劇場の客席"]
[null,null,null,null,null,null,null,null,null,null,null,null,null,null,"劇場のロビー"]
[null,null,null,null,null,null,null,null,null,null,null,null,null,null,"劇場の便所"]
[null,null,null,null,null,null,null,null,null,null,null,null,null,null,"劇場の喫煙室"]
[null,null,null,null,null,null,null,null,null,null,null,null,null,null,"カラオケボックス"]
[null,null,null,null,null,null,null,null,null,null,null,null,null,null,"ボーリング場"]
[null,null,null,null,null,null,null,null,null,null,null,null,null,null,"ぱちんこ屋"]
[null,null,null,null,null,null,null,null,null,null,null,null,null,null,"競馬場又は競輪場の客席"]
[null,null,null,null,null,null,null,null,null,null,null,null,null,null,"競馬場又は競輪場の券売場"]
[null,null,null,null,null,null,null,null,null,null,null,null,null,null,"競馬場又は競輪場の店舗"]
[null,null,null,null,null,null,null,null,null,null,null,null,null,null,"競馬場又は競輪場のロビー"]
[null,null,null,null,null,null,null,null,null,null,null,null,null,null,"競馬場又は競輪場の便所"]
[null,null,null,null,null,null,null,null,null,null,null,null,null,null,"競馬場又は競輪場の喫煙室"]
[null,null,null,null,null,null,null,null,null,null,null,null,null,null,"社寺の本殿"]
[null,null,null,null,null,null,null,null,null,null,null,null,null,null,"社寺のロビー"]
[null,null,null,null,null,null,null,null,null,null,null,null,null,null,"社寺の便所"]
[null,null,null,null,null,null,null,null,null,null,null,null,null,null,"社寺の喫煙室"]
[null,null,null,null,null,null,null,null,null,null,null,null,null,null,"厨房"]
[null,null,null,null,null,null,null,null,null,null,null,null,null,null,"屋内駐車場"]
[null,null,null,null,null,null,null,null,null,null,null,null,null,null,"機械室"]
[null,null,null,null,null,null,null,null,null,null,null,null,null,null,"電気室"]
[null,null,null,null,null,null,null,null,null,null,null,null,null,null,"湯沸室等"]
[null,null,null,null,null,null,null,null,null,null,null,null,null,null,"食品庫等"]
[null,null,null,null,null,null,null,null,null,null,null,null,null,null,"印刷室等"]
[null,null,null,null,null,null,null,null,null,null,null,null,null,null,"廃棄物保管場所等"]
[null,null,null,null,null,null,null,null,null,null,null,null,null,null,"非主要室"]
[null,null,null,null,null,null,null,null,null,null,null,null,null,null,"倉庫"]
[null,null,null,null,null,null,null,null,null,null,null,null,null,null,"屋外駐車場又は駐輪場"]
[null,null,null,null,null,null,null,null,null,null,null,null,null,null,"屋内廊下"]
[null,null,null,null,null,null,null,null,null,null,null,null,null,null,"ロビー"]
[null,null,null,null,null,null,null,null,null,null,null,null,null,null,"管理人室"]
[null,null,null,null,null,null,null,null,null,null,null,null,null,null,"集会室"]
[null,null,null,null,null,null,null,null,null,null,null,null,null,null,"屋外廊下"]
[null,null,null,null,null,null,null,null,null,null,null,null,null,null,"屋内駐車場"]
[null,null,null,null,null,null,null,null,null,null,null,null,null,null,"機械室"]
[null,null,null,null,null,null,null,null,null,null,null,null,null,null,"電気室"]
[null,null,null,null,null,null,null,null,null,null,null,null,null,null,"廃棄物保管場所等"]

{"sheet":"2-1) 空調ゾーン","index":4,"n_rows":11,"n_cols":12,"rows_kept":11,"cut":false,"hidden":false,"merged":[[3,9,3,10],[3,0,3,6],[3,7,3,8]]}
[{"$f":"様式一覧!A4","v":"様式 2-1. (空調)空調ゾーン入力シート"}]
[]
[]
["室の仕様",null,null,null,null,null,null,"空調ゾーン",null,"空調機群名称",null,"⑤"]
["①","①","①","①","①","①","①","②","②","③","④"]
["階","室名","建物用途","室用途","室面積","階高","天井高","階","空調ゾーン名","室負荷処理","外気負荷処理","備考"]
[]
[null,null,null,null,"[㎡]","[m]","[m]"]
["(転記)","(転記)","(転記)","(転記)","(転記)","(転記)","(転記)",null,null,"(転記)","(転記)"]
[]
["1F","事務室","事務所等","事務室",1000,5,4,"1F","事務室","AHU","AHU"]

{"sheet":"2-2) 外壁構成 ","index":5,"n_rows":1000,"n_cols":12,"rows_kept":1000,"cut":false,"hidden":false,"merged":[]}
[{"$f":"様式一覧!A5","v":"様式 2-2. (空調)外壁構成入力シート"}]
[null,null,null,null,null,null,"　　　　　　　　　※ 建材名称は室内側から記入"]
["①","②","③","④","⑤","⑥","⑦"]
[]
["外壁名称","壁の種類","熱貫流率","建材番号","建材名称","厚み","備考"]
[]
[]
[null,null,"[W/㎡K]",null,null,"[mm]"]
[null,"(選択)",null,"(選択)","(選択)"]
[null,null,null,null,null,null,null,null,null,null,"Material Number List","Material Name List"]
["外壁","外壁",1,null,"室内側",null,null,null,{"$f":"IF(A11=\"\",\"\",MAX(I$10:I10)+1)","v":1},{"$f":"IFERROR(INDEX($A$11:$A$99922,MATCH(ROW()-10,$I$11:$I$99922,0)),\"\")","v":"外壁"},1,"鋼"]
[null,null,null,185,"鋼",100,null,null,{"$f":"IF(A12=\"\",\"\",MAX(I$10:I11)+1)","v":""},"",2,"アルミニウム"]
[null,null,null,null,null,null,null,null,{"$f":"IF(A13=\"\",\"\",MAX(I$10:I12)+1)","v":""},"",3,"銅"]
[null,null,null,null,null,null,null,null,{"$f":"IF(A14=\"\",\"\",MAX(I$10:I13)+1)","v":""},"",4,"ステンレス鋼"]
[null,null,null,null,null,null,null,null,{"$f":"IF(A15=\"\",\"\",MAX(I$10:I14)+1)","v":""},"",21,"岩石"]
[null,null,null,null,null,null,null,null,{"$f":"IF(A16=\"\",\"\",MAX(I$10:I15)+1)","v":""},"",22,"土壌"]
[null,null,null,null,null,null,null,null,{"$f":"IF(A17=\"\",\"\",MAX(I$10:I16)+1)","v":""},"",41,"コンクリート"]
[null,null,null,null,null,null,null,null,{"$f":"IF(A18=\"\",\"\",MAX(I$10:I17)+1)","v":""},"",42,"軽量コンクリート(軽量1種)"]
[null,null,null,null,null,null,null,null,{"$f":"IF(A19=\"\",\"\",MAX(I$10:I18)+1)","v":""},"",43,"軽量コンクリート(軽量2種)"]
[null,null,null,null,null,null,null,null,{"$f":"IF(A20=\"\",\"\",MAX(I$10:I19)+1)","v":""},"",44,"気泡コンクリート(ALC)"]
[null,null,null,null,"室外側",null,null,null,{"$f":"IF(A21=\"\",\"\",MAX(I$10:I20)+1)","v":""},"",45,"コンクリートブロック(重量)"]
[null,null,null,null,"室内側",null,null,null,{"$f":"IF(A22=\"\",\"\",MAX(I$10:I21)+1)","v":""},"",46,"コンクリートブロック(軽量)"]
[null,null,null,null,null,null,null,null,{"$f":"IF(A23=\"\",\"\",MAX(I$10:I22)+1)","v":""},"",47,"セメント・モルタル"]
[null,null,null,null,null,null,null,null,{"$f":"IF(A24=\"\",\"\",MAX(I$10:I23)+1)","v":""},"",48,"押出成型セメント板"]
[null,null,null,null,null,null,null,null,{"$f":"IF(A25=\"\",\"\",MAX(I$10:I24)+1)","v":""},"",61,"せっこうプラスター"]
[null,null,null,null,null,null,null,null,{"$f":"IF(A26=\"\",\"\",MAX(I$10:I25)+1)","v":""},"",62,"せっこうボード"]
[null,null,null,null,null,null,null,null,{"$f":"IF(A27=\"\",\"\",MAX(I$10:I26)+1)","v":""},"",63,"硬質せっこうボード"]
[null,null,null,null,null,null,null,null,{"$f":"IF(A28=\"\",\"\",MAX(I$10:I27)+1)","v":""},"",64,"しっくい"]
[null,null,null,null,null,null,null,null,{"$f":"IF(A29=\"\",\"\",MAX(I$10:I28)+1)","v":""},"",65,"土壁"]
[null,null,null,null,null,null,null,null,{"$f":"IF(A30=\"\",\"\",MAX(I$10:I29)+1)","v":""},"",66,"ガラス"]
[null,null,null,null,null,null,null,null,{"$f":"IF(A31=\"\",\"\",MAX(I$10:I30)+1)","v":""},"",67,"タイル"]
[null,null,null,null,"室外側",null,null,null,{"$f":"IF(A32=\"\",\"\",MAX(I$10:I31)+1)","v":""},"",68,"れんが"]
[null,null,null,null,"室内側",null,null,null,{"$f":"IF(A33=\"\",\"\",MAX(I$10:I32)+1)","v":""},"",69,"かわら"]
[null,null,null,null,null,null,null,null,{"$f":"IF(A34=\"\",\"\",MAX(I$10:I33)+1)","v":""},"",70,"ロックウール化粧吸音板"]
[null,null,null,null,null,null,null,null,{"$f":"IF(A35=\"\",\"\",MAX(I$10:I34)+1)","v":""},"",71,"火山性ガラス質複合板"]
[null,null,null,null,null,null,null,null,{"$f":"IF(A36=\"\",\"\",MAX(I$10:I35)+1)","v":""},"",72,"ケイ酸カルシウム板　0.8mm"]
[null,null,null,null,null,null,null,null,{"$f":"IF(A37=\"\",\"\",MAX(I$10:I36)+1)","v":""},"",73,"ケイ酸カルシウム板　1.0mm"]
[null,null,null,null,null,null,null,null,{"$f":"IF(A38=\"\",\"\",MAX(I$10:I37)+1)","v":""},"",81,"天然木材"]
[null,null,null,null,null,null,null,null,{"$f":"IF(A39=\"\",\"\",MAX(I$10:I38)+1)","v":""},"",82,"合板"]
[null,null,null,null,null,null,null,null,{"$f":"IF(A40=\"\",\"\",MAX(I$10:I39)+1)","v":""},"",83,"タタミボード"]
[null,null,null,null,null,null,null,null,{"$f":"IF(A41=\"\",\"\",MAX(I$10:I40)+1)","v":""},"",84,"シージングボード"]
[null,null,null,null,null,null,null,null,{"$f":"IF(A42=\"\",\"\",MAX(I$10:I41)+1)","v":""},"",85,"Ａ級インシュレーションボード"]
[null,null,null,null,"室外側",null,null,null,{"$f":"IF(A43=\"\",\"\",MAX(I$10:I42)+1)","v":""},"",86,"パーティクルボード"]
[null,null,null,null,"室内側",null,null,null,{"$f":"IF(A44=\"\",\"\",MAX(I$10:I43)+1)","v":""},"",87,"木毛セメント板"]
[null,null,null,null,null,null,null,null,{"$f":"IF(A45=\"\",\"\",MAX(I$10:I44)+1)","v":""},"",88,"木片セメント板"]
[null,null,null,null,null,null,null,null,{"$f":"IF(A46=\"\",\"\",MAX(I$10:I45)+1)","v":""},"",89,"ハードファイバーボード(ハードボード)"]
[null,null,null,null,null,null,null,null,{"$f":"IF(A47=\"\",\"\",MAX(I$10:I46)+1)","v":""},"",90,"ミディアムデンシティファイバーボード(MDF)"]
[null,null,null,null,null,null,null,null,{"$f":"IF(A48=\"\",\"\",MAX(I$10:I47)+1)","v":""},"",101,"ビニル系床材"]
[null,null,null,null,null,null,null,null,{"$f":"IF(A49=\"\",\"\",MAX(I$10:I48)+1)","v":""},"",102,"FRP"]
[null,null,null,null,null,null,null,null,{"$f":"IF(A50=\"\",\"\",MAX(I$10:I49)+1)","v":""},"",103,"アスファルト類"]
[null,null,null,null,null,null,null,null,{"$f":"IF(A51=\"\",\"\",MAX(I$10:I50)+1)","v":""},"",104,"畳床"]
[null,null,null,null,null,null,null,null,{"$f":"IF(A52=\"\",\"\",MAX(I$10:I51)+1)","v":""},"",105,"建材畳床(Ⅲ型50mm厚)"]
[null,null,null,null,null,null,null,null,{"$f":"IF(A53=\"\",\"\",MAX(I$10:I52)+1)","v":""},"",106,"建材畳床(K,N型50mm厚)"]
[null,null,null,null,"室外側",null,null,null,{"$f":"IF(A54=\"\",\"\",MAX(I$10:I53)+1)","v":""},"",107,"カーペット類"]
[null,null,null,null,"室内側",null,null,null,{"$f":"IF(A55=\"\",\"\",MAX(I$10:I54)+1)","v":""},"",121,"グラスウール断熱材　10K相当"]
[null,null,null,null,null,null,null,null,{"$f":"IF(A56=\"\",\"\",MAX(I$10:I55)+1)","v":""},"",122,"グラスウール断熱材　16K相当"]
[null,null,null,null,null,null,null,null,{"$f":"IF(A57=\"\",\"\",MAX(I$10:I56)+1)","v":""},"",123,"グラスウール断熱材　20K相当"]
[null,null,null,null,null,null,null,null,{"$f":"IF(A58=\"\",\"\",MAX(I$10:I57)+1)","v":""},"",124,"グラスウール断熱材　24K相当"]
[null,null,null,null,null,null,null,null,{"$f":"IF(A59=\"\",\"\",MAX(I$10:I58)+1)","v":""},"",125,"グラスウール断熱材　32K相当"]
[null,null,null,null,null,null,null,null,{"$f":"IF(A60=\"\",\"\",MAX(I$10:I59)+1)","v":""},"",126,"高性能グラスウール断熱材　16K相当"]
[null,null,null,null,null,null,null,null,{"$f":"IF(A61=\"\",\"\",MAX(I$10:I60)+1)","v":""},"",127,"高性能グラスウール断熱材　24K相当"]
[null,null,null,null,null,null,null,null,{"$f":"IF(A62=\"\",\"\",MAX(I$10:I61)+1)","v":""},"",128,"高性能グラスウール断熱材　32K相当"]
[null,null,null,null,null,null,null,null,{"$f":"IF(A63=\"\",\"\",MAX(I$10:I62)+1)","v":""},"",129,"高性能グラスウール断熱材　40K相当"]
[null,null,null,null,null,null,null,null,{"$f":"IF(A64=\"\",\"\",MAX(I$10:I63)+1)","v":""},"",130,"高性能グラスウール断熱材　48K相当"]
[null,null,null,null,"室外側",null,null,null,{"$f":"IF(A65=\"\",\"\",MAX(I$10:I64)+1)","v":""},"",131,"吹込み用グラスウール　13K相当"]
[null,null,null,null,"室内側",null,null,null,{"$f":"IF(A66=\"\",\"\",MAX(I$10:I65)+1)","v":""},"",132,"吹込み用グラスウール　18K相当"]
[null,null,null,null,null,null,null,null,{"$f":"IF(A67=\"\",\"\",MAX(I$10:I66)+1)","v":""},"",133,"吹込み用グラスウール　30K相当"]
[null,null,null,null,null,null,null,null,{"$f":"IF(A68=\"\",\"\",MAX(I$10:I67)+1)","v":""},"",134,"吹込み用グラスウール　35K相当"]
[null,null,null,null,null,null,null,null,{"$f":"IF(A69=\"\",\"\",MAX(I$10:I68)+1)","v":""},"",141,"吹付けロックウール"]
[null,null,null,null,null,null,null,null,{"$f":"IF(A70=\"\",\"\",MAX(I$10:I69)+1)","v":""},"",142,"ロックウール断熱材(マット)"]
[null,null,null,null,null,null,null,null,{"$f":"IF(A71=\"\",\"\",MAX(I$10:I70)+1)","v":""},"",143,"ロックウール断熱材(フェルト)"]
[null,null,null,null,null,null,null,null,{"$f":"IF(A72=\"\",\"\",MAX(I$10:I71)+1)","v":""},"",144,"ロックウール断熱材(ボード)"]
[null,null,null,null,null,null,null,null,{"$f":"IF(A73=\"\",\"\",MAX(I$10:I72)+1)","v":""},"",145,"吹込み用ロックウール　25K相当"]
[null,null,null,null,null,null,null,null,{"$f":"IF(A74=\"\",\"\",MAX(I$10:I73)+1)","v":""},"",146,"吹込み用ロックウール　65K相当"]
[null,null,null,null,null,null,null,null,{"$f":"IF(A75=\"\",\"\",MAX(I$10:I74)+1)","v":""},{"$f":"IFERROR(INDEX($A$11:$A$99922,MATCH(ROW()-10,$I$11:$I$99922,0)),\"\")","v":""},161,"吹込み用セルローズファイバー　25K"]
[null,null,null,null,"室外側",null,null,null,{"$f":"IF(A76=\"\",\"\",MAX(I$10:I75)+1)","v":""},"",162,"吹込み用セルローズファイバー　45K"]
[null,null,null,null,"室内側",null,null,null,{"$f":"IF(A77=\"\",\"\",MAX(I$10:I76)+1)","v":""},"",163,"吹込み用セルローズファイバー　55K"]
[null,null,null,null,null,null,null,null,{"$f":"IF(A78=\"\",\"\",MAX(I$10:I77)+1)","v":""},"",181,"押出法ポリスチレンフォーム　保温板　1種"]
[null,null,null,null,null,null,null,null,{"$f":"IF(A79=\"\",\"\",MAX(I$10:I78)+1)","v":""},"",182,"押出法ポリスチレンフォーム　保温板　2種"]
[null,null,null,null,null,null,null,null,{"$f":"IF(A80=\"\",\"\",MAX(I$10:I79)+1)","v":""},"",183,"押出法ポリスチレンフォーム　保温板　3種"]
[null,null,null,null,null,null,null,null,{"$f":"IF(A81=\"\",\"\",MAX(I$10:I80)+1)","v":""},"",184,"A種ポリエチレンフォーム　保温板　1種2号"]
[null,null,null,null,null,null,null,null,{"$f":"IF(A82=\"\",\"\",MAX(I$10:I81)+1)","v":""},"",185,"Ａ種ポリエチレンフォーム　保温板　2種"]
[null,null,null,null,null,null,null,null,{"$f":"IF(A83=\"\",\"\",MAX(I$10:I82)+1)","v":""},"",186,"ビーズ法ポリスチレンフォーム　保温板　特号"]
[null,null,null,null,null,null,null,null,{"$f":"IF(A84=\"\",\"\",MAX(I$10:I83)+1)","v":""},"",187,"ビーズ法ポリスチレンフォーム　保温板　1号"]
[null,null,null,null,null,null,null,null,{"$f":"IF(A85=\"\",\"\",MAX(I$10:I84)+1)","v":""},"",188,"ビーズ法ポリスチレンフォーム　保温板　2号"]
[null,null,null,null,null,null,null,null,{"$f":"IF(A86=\"\",\"\",MAX(I$10:I85)+1)","v":""},"",189,"ビーズ法ポリスチレンフォーム　保温板　3号"]
[null,null,null,null,"室外側",null,null,null,{"$f":"IF(A87=\"\",\"\",MAX(I$10:I86)+1)","v":""},"",190,"ビーズ法ポリスチレンフォーム　保温板　4号"]
[null,null,null,null,"室内側",null,null,null,{"$f":"IF(A88=\"\",\"\",MAX(I$10:I87)+1)","v":""},"",201,"硬質ウレタンフォーム　保温板　2種1号"]
[null,null,null,null,null,null,null,null,{"$f":"IF(A89=\"\",\"\",MAX(I$10:I88)+1)","v":""},"",202,"硬質ウレタンフォーム　保温板　2種2号"]
[null,null,null,null,null,null,null,null,{"$f":"IF(A90=\"\",\"\",MAX(I$10:I89)+1)","v":""},"",203,"吹付け硬質ウレタンフォームＡ種１"]
[null,null,null,null,null,null,null,null,{"$f":"IF(A91=\"\",\"\",MAX(I$10:I90)+1)","v":""},"",204,"吹付け硬質ウレタンフォームＡ種3"]
[null,null,null,null,null,null,null,null,{"$f":"IF(A92=\"\",\"\",MAX(I$10:I91)+1)","v":""},"",221,"フェノールフォーム　保温板　1種1号"]
[null,null,null,null,null,null,null,null,{"$f":"IF(A93=\"\",\"\",MAX(I$10:I92)+1)","v":""},"",222,"フェノールフォーム　保温板　1種2号"]
[null,null,null,null,null,null,null,null,{"$f":"IF(A94=\"\",\"\",MAX(I$10:I93)+1)","v":""},"",301,"密閉中空層"]
[null,null,null,null,null,null,null,null,{"$f":"IF(A95=\"\",\"\",MAX(I$10:I94)+1)","v":""},"",302,"非密閉中空層"]
[null,null,null,null,null,null,null,null,{"$f":"IF(A96=\"\",\"\",MAX(I$10:I95)+1)","v":""},""]
[null,null,null,null,null,null,null,null,{"$f":"IF(A97=\"\",\"\",MAX(I$10:I96)+1)","v":""},""]
[null,null,null,null,"室外側",null,null,null,{"$f":"IF(A98=\"\",\"\",MAX(I$10:I97)+1)","v":""},""]
[null,null,null,null,"室内側",null,null,null,{"$f":"IF(A99=\"\",\"\",MAX(I$10:I98)+1)","v":""},""]
[null,null,null,null,null,null,null,null,{"$f":"IF(A100=\"\",\"\",MAX(I$10:I99)+1)","v":""},""]
[null,null,null,null,null,null,null,null,{"$f":"IF(A101=\"\",\"\",MAX(I$10:I100)+1)","v":""},""]
[null,null,null,null,null,null,null,null,{"$f":"IF(A102=\"\",\"\",MAX(I$10:I101)+1)","v":""},""]
[null,null,null,null,null,null,null,null,{"$f":"IF(A103=\"\",\"\",MAX(I$10:I102)+1)","v":""},""]
[null,null,null,null,null,null,null,null,{"$f":"IF(A104=\"\",\"\",MAX(I$10:I103)+1)","v":""},""]
[null,null,null,null,null,null,null,null,{"$f":"IF(A105=\"\",\"\",MAX(I$10:I104)+1)","v":""},""]
[null,null,null,null,null,null,null,null,{"$f":"IF(A106=\"\",\"\",MAX(I$10:I105)+1)","v":""},""]
[null,null,null,null,null,null,null,null,{"$f":"IF(A107=\"\",\"\",MAX(I$10:I106)+1)","v":""},""]
[null,null,null,null,null,null,null,null,{"$f":"IF(A108=\"\",\"\",MAX(I$10:I107)+1)","v":""},""]
[null,null,null,null,"室外側",null,null,null,{"$f":"IF(A109=\"\",\"\",MAX(I$10:I108)+1)","v":""},""]
[null,null,null,null,"室内側",null,null,null,{"$f":"IF(A110=\"\",\"\",MAX(I$10:I109)+1)","v":""},""]
[null,null,null,null,null,null,null,null,{"$f":"IF(A111=\"\",\"\",MAX(I$10:I110)+1)","v":""},""]
[null,null,null,null,null,null,null,null,{"$f":"IF(A112=\"\",\"\",MAX(I$10:I111)+1)","v":""},""]
[null,null,null,null,null,null,null,null,{"$f":"IF(A113=\"\",\"\",MAX(I$10:I112)+1)","v":""},""]
[null,null,null,null,null,null,null,null,{"$f":"IF(A114=\"\",\"\",MAX(I$10:I113)+1)","v":""},""]
[null,null,null,null,null,null,null,null,{"$f":"IF(A115=\"\",\"\",MAX(I$10:I114)+1)","v":""},""]
[null,null,null,null,null,null,null,null,{"$f":"IF(A116=\"\",\"\",MAX(I$10:I115)+1)","v":""},""]
[null,null,null,null,null,null,null,null,{"$f":"IF(A117=\"\",\"\",MAX(I$10:I116)+1)","v":""},""]
[null,null,null,null,null,null,null,null,{"$f":"IF(A118=\"\",\"\",MAX(I$10:I117)+1)","v":""},""]
[null,null,null,null,null,null,null,null,{"$f":"IF(A119=\"\",\"\",MAX(I$10:I118)+1)","v":""},""]
[null,null,null,null,"室外側",null,null,null,{"$f":"IF(A120=\"\",\"\",MAX(I$10:I119)+1)","v":""},""]
[null,null,null,null,"室内側",null,null,null,{"$f":"IF(A121=\"\",\"\",MAX(I$10:I120)+1)","v":""},""]
[null,null,null,null,null,null,null,null,{"$f":"IF(A122=\"\",\"\",MAX(I$10:I121)+1)","v":""},""]
[null,null,null,null,null,null,null,null,{"$f":"IF(A123=\"\",\"\",MAX(I$10:I122)+1)","v":""},""]
[null,null,null,null,null,null,null,null,{"$f":"IF(A124=\"\",\"\",MAX(I$10:I123)+1)","v":""},""]
[null,null,null,null,null,null,null,null,{"$f":"IF(A125=\"\",\"\",MAX(I$10:I124)+1)","v":""},""]
[null,null,null,null,null,null,null,null,{"$f":"IF(A126=\"\",\"\",MAX(I$10:I125)+1)","v":""},""]
[null,null,null,null,null,null,null,null,{"$f":"IF(A127=\"\",\"\",MAX(I$10:I126)+1)","v":""},""]
[null,null,null,null,null,null,null,null,{"$f":"IF(A128=\"\",\"\",MAX(I$10:I127)+1)","v":""},""]
[null,null,null,null,null,null,null,null,{"$f":"IF(A129=\"\",\"\",MAX(I$10:I128)+1)","v":""},""]
[null,null,null,null,null,null,null,null,{"$f":"IF(A130=\"\",\"\",MAX(I$10:I129)+1)","v":""},""]
[null,null,null,null,"室外側",null,null,null,{"$f":"IF(A131=\"\",\"\",MAX(I$10:I130)+1)","v":""},""]
[null,null,null,null,"室内側",null,null,null,{"$f":"IF(A132=\"\",\"\",MAX(I$10:I131)+1)","v":""},""]
[null,null,null,null,null,null,null,null,{"$f":"IF(A133=\"\",\"\",MAX(I$10:I132)+1)","v":""},""]
[null,null,null,null,null,null,null,null,{"$f":"IF(A134=\"\",\"\",MAX(I$10:I133)+1)","v":""},""]
[null,null,null,null,null,null,null,null,{"$f":"IF(A135=\"\",\"\",MAX(I$10:I134)+1)","v":""},""]
[null,null,null,null,null,null,null,null,{"$f":"IF(A136=\"\",\"\",MAX(I$10:I135)+1)","v":""},""]
[null,null,null,null,null,null,null,null,{"$f":"IF(A137=\"\",\"\",MAX(I$10:I136)+1)","v":""},""]
[null,null,null,null,null,null,null,null,{"$f":"IF(A138=\"\",\"\",MAX(I$10:I137)+1)","v":""},""]
[null,null,null,null,null,null,null,null,{"$f":"IF(A139=\"\",\"\",MAX(I$10:I138)+1)","v":""},{"$f":"IFERROR(INDEX($A$11:$A$99922,MATCH(ROW()-10,$I$11:$I$99922,0)),\"\")","v":""}]
[null,null,null,null,null,null,null,null,{"$f":"IF(A140=\"\",\"\",MAX(I$10:I139)+1)","v":""},""]
[null,null,null,null,null,null,null,null,{"$f":"IF(A141=\"\",\"\",MAX(I$10:I140)+1)","v":""},""]
[null,null,null,null,"室外側",null,null,null,{"$f":"IF(A142=\"\",\"\",MAX(I$10:I141)+1)","v":""},""]
[null,null,null,null,"室内側",null,null,null,{"$f":"IF(A143=\"\",\"\",MAX(I$10:I142)+1)","v":""},""]
[null,null,null,null,null,null,null,null,{"$f":"IF(A144=\"\",\"\",MAX(I$10:I143)+1)","v":""},""]
[null,null,null,null,null,null,null,null,{"$f":"IF(A145=\"\",\"\",MAX(I$10:I144)+1)","v":""},""]
[null,null,null,null,null,null,null,null,{"$f":"IF(A146=\"\",\"\",MAX(I$10:I145)+1)","v":""},""]
[null,null,null,null,null,null,null,null,{"$f":"IF(A147=\"\",\"\",MAX(I$10:I146)+1)","v":""},""]
[null,null,null,null,null,null,null,null,{"$f":"IF(A148=\"\",\"\",MAX(I$10:I147)+1)","v":""},""]
[null,null,null,null,null,null,null,null,{"$f":"IF(A149=\"\",\"\",MAX(I$10:I148)+1)","v":""},""]
[null,null,null,null,null,null,null,null,{"$f":"IF(A150=\"\",\"\",MAX(I$10:I149)+1)","v":""},""]
[null,null,null,null,null,null,null,null,{"$f":"IF(A151=\"\",\"\",MAX(I$10:I150)+1)","v":""},""]
[null,null,null,null,null,null,null,null,{"$f":"IF(A152=\"\",\"\",MAX(I$10:I151)+1)","v":""},""]
[null,null,null,null,"室外側",null,null,null,{"$f":"IF(A153=\"\",\"\",MAX(I$10:I152)+1)","v":""},""]
[null,null,null,null,"室内側",null,null,null,{"$f":"IF(A154=\"\",\"\",MAX(I$10:I153)+1)","v":""},""]
[null,null,null,null,null,null,null,null,{"$f":"IF(A155=\"\",\"\",MAX(I$10:I154)+1)","v":""},""]
[null,null,null,null,null,null,null,null,{"$f":"IF(A156=\"\",\"\",MAX(I$10:I155)+1)","v":""},""]
[null,null,null,null,null,null,null,null,{"$f":"IF(A157=\"\",\"\",MAX(I$10:I156)+1)","v":""},""]
[null,null,null,null,null,null,null,null,{"$f":"IF(A158=\"\",\"\",MAX(I$10:I157)+1)","v":""},""]
[null,null,null,null,null,null,null,null,{"$f":"IF(A159=\"\",\"\",MAX(I$10:I158)+1)","v":""},""]
[null,null,null,null,null,null,null,null,{"$f":"IF(A160=\"\",\"\",MAX(I$10:I159)+1)","v":""},""]
[null,null,null,null,null,null,null,null,{"$f":"IF(A161=\"\",\"\",MAX(I$10:I160)+1)","v":""},""]
[null,null,null,null,null,null,null,null,{"$f":"IF(A162=\"\",\"\",MAX(I$10:I161)+1)","v":""},""]
[null,null,null,null,null,null,null,null,{"$f":"IF(A163=\"\",\"\",MAX(I$10:I162)+1)","v":""},""]
[null,null,null,null,"室外側",null,null,null,{"$f":"IF(A164=\"\",\"\",MAX(I$10:I163)+1)","v":""},""]
[null,null,null,null,"室内側",null,null,null,{"$f":"IF(A165=\"\",\"\",MAX(I$10:I164)+1)","v":""},""]
[null,null,null,null,null,null,null,null,{"$f":"IF(A166=\"\",\"\",MAX(I$10:I165)+1)","v":""},""]
[null,null,null,null,null,null,null,null,{"$f":"IF(A167=\"\",\"\",MAX(I$10:I166)+1)","v":""},""]
[null,null,null,null,null,null,null,null,{"$f":"IF(A168=\"\",\"\",MAX(I$10:I167)+1)","v":""},""]
[null,null,null,null,null,null,null,null,{"$f":"IF(A169=\"\",\"\",MAX(I$10:I168)+1)","v":""},""]
[null,null,null,null,null,null,null,null,{"$f":"IF(A170=\"\",\"\",MAX(I$10:I169)+1)","v":""},""]
[null,null,null,null,null,null,null,null,{"$f":"IF(A171=\"\",\"\",MAX(I$10:I170)+1)","v":""},""]
[null,null,null,null,null,null,null,null,{"$f":"IF(A172=\"\",\"\",MAX(I$10:I171)+1)","v":""},""]
[null,null,null,null,null,null,null,null,{"$f":"IF(A173=\"\",\"\",MAX(I$10:I172)+1)","v":""},""]
[null,null,null,null,null,null,null,null,{"$f":"IF(A174=\"\",\"\",MAX(I$10:I173)+1)","v":""},""]
[null,null,null,null,"室外側",null,null,null,{"$f":"IF(A175=\"\",\"\",MAX(I$10:I174)+1)","v":""},""]
[null,null,null,null,"室内側",null,null,null,{"$f":"IF(A176=\"\",\"\",MAX(I$10:I175)+1)","v":""},""]
[null,null,null,null,null,null,null,null,{"$f":"IF(A177=\"\",\"\",MAX(I$10:I176)+1)","v":""},""]
[null,null,null,null,null,null,null,null,{"$f":"IF(A178=\"\",\"\",MAX(I$10:I177)+1)","v":""},""]
[null,null,null,null,null,null,null,null,{"$f":"IF(A179=\"\",\"\",MAX(I$10:I178)+1)","v":""},""]
[null,null,null,null,null,null,null,null,{"$f":"IF(A180=\"\",\"\",MAX(I$10:I179)+1)","v":""},""]
[null,null,null,null,null,null,null,null,{"$f":"IF(A181=\"\",\"\",MAX(I$10:I180)+1)","v":""},""]
[null,null,null,null,null,null,null,null,{"$f":"IF(A182=\"\",\"\",MAX(I$10:I181)+1)","v":""},""]
[null,null,null,null,null,null,null,null,{"$f":"IF(A183=\"\",\"\",MAX(I$10:I182)+1)","v":""},""]
[null,null,null,null,null,null,null,null,{"$f":"IF(A184=\"\",\"\",MAX(I$10:I183)+1)","v":""},""]
[null,null,null,null,null,null,null,null,{"$f":"IF(A185=\"\",\"\",MAX(I$10:I184)+1)","v":""},""]
[null,null,null,null,"室外側",null,null,null,{"$f":"IF(A186=\"\",\"\",MAX(I$10:I185)+1)","v":""},""]
[null,null,null,null,"室内側",null,null,null,{"$f":"IF(A187=\"\",\"\",MAX(I$10:I186)+1)","v":""},""]
[null,null,null,null,null,null,null,null,{"$f":"IF(A188=\"\",\"\",MAX(I$10:I187)+1)","v":""},""]
[null,null,null,null,null,null,null,null,{"$f":"IF(A189=\"\",\"\",MAX(I$10:I188)+1)","v":""},""]
[null,null,null,null,null,null,null,null,{"$f":"IF(A190=\"\",\"\",MAX(I$10:I189)+1)","v":""},""]
[null,null,null,null,null,null,null,null,{"$f":"IF(A191=\"\",\"\",MAX(I$10:I190)+1)","v":""},""]
[null,null,null,null,null,null,null,null,{"$f":"IF(A192=\"\",\"\",MAX(I$10:I191)+1)","v":""},""]
[null,null,null,null,null,null,null,null,{"$f":"IF(A193=\"\",\"\",MAX(I$10:I192)+1)","v":""},""]
[null,null,null,null,null,null,null,null,{"$f":"IF(A194=\"\",\"\",MAX(I$10:I193)+1)","v":""},""]
[null,null,null,null,null,null,null,null,{"$f":"IF(A195=\"\",\"\",MAX(I$10:I194)+1)","v":""},""]
[null,null,null,null,null,null,null,null,{"$f":"IF(A196=\"\",\"\",MAX(I$10:I195)+1)","v":""},""]
[null,null,null,null,"室外側",null,null,null,{"$f":"IF(A197=\"\",\"\",MAX(I$10:I196)+1)","v":""},""]
[null,null,null,null,"室内側",null,null,null,{"$f":"IF(A198=\"\",\"\",MAX(I$10:I197)+1)","v":""},""]
[null,null,null,null,null,null,null,null,{"$f":"IF(A199=\"\",\"\",MAX(I$10:I198)+1)","v":""},""]
[null,null,null,null,null,null,null,null,{"$f":"IF(A200=\"\",\"\",MAX(I$10:I199)+1)","v":""},""]
[null,null,null,null,null,null,null,null,{"$f":"IF(A201=\"\",\"\",MAX(I$10:I200)+1)","v":""},""]
[null,null,null,null,null,null,null,null,{"$f":"IF(A202=\"\",\"\",MAX(I$10:I201)+1)","v":""},""]
[null,null,null,null,null,null,null,null,{"$f":"IF(A203=\"\",\"\",MAX(I$10:I202)+1)","v":""},{"$f":"IFERROR(INDEX($A$11:$A$99922,MATCH(ROW()-10,$I$11:$I$99922,0)),\"\")","v":""}]
[null,null,null,null,null,null,null,null,{"$f":"IF(A204=\"\",\"\",MAX(I$10:I203)+1)","v":""},""]
[null,null,null,null,null,null,null,null,{"$f":"IF(A205=\"\",\"\",MAX(I$10:I204)+1)","v":""},""]
[null,null,null,null,null,null,null,null,{"$f":"IF(A206=\"\",\"\",MAX(I$10:I205)+1)","v":""},""]
[null,null,null,null,null,null,null,null,{"$f":"IF(A207=\"\",\"\",MAX(I$10:I206)+1)","v":""},""]
[null,null,null,null,"室外側",null,null,null,{"$f":"IF(A208=\"\",\"\",MAX(I$10:I207)+1)","v":""},""]
[null,null,null,null,"室内側",null,null,null,{"$f":"IF(A209=\"\",\"\",MAX(I$10:I208)+1)","v":""},""]
[null,null,null,null,null,null,null,null,{"$f":"IF(A210=\"\",\"\",MAX(I$10:I209)+1)","v":""},""]
[null,null,null,null,null,null,null,null,{"$f":"IF(A211=\"\",\"\",MAX(I$10:I210)+1)","v":""},""]
[null,null,null,null,null,null,null,null,{"$f":"IF(A212=\"\",\"\",MAX(I$10:I211)+1)","v":""},""]
[null,null,null,null,null,null,null,null,{"$f":"IF(A213=\"\",\"\",MAX(I$10:I212)+1)","v":""},""]
[null,null,null,null,null,null,null,null,{"$f":"IF(A214=\"\",\"\",MAX(I$10:I213)+1)","v":""},""]
[null,null,null,null,null,null,null,null,{"$f":"IF(A215=\"\",\"\",MAX(I$10:I214)+1)","v":""},""]
[null,null,null,null,null,null,null,null,{"$f":"IF(A216=\"\",\"\",MAX(I$10:I215)+1)","v":""},""]
[null,null,null,null,null,null,null,null,{"$f":"IF(A217=\"\",\"\",MAX(I$10:I216)+1)","v":""},""]
[null,null,null,null,null,null,null,null,{"$f":"IF(A218=\"\",\"\",MAX(I$10:I217)+1)","v":""},""]
[null,null,null,null,"室外側",null,null,null,{"$f":"IF(A219=\"\",\"\",MAX(I$10:I218)+1)","v":""},""]
[null,null,null,null,"室内側",null,null,null,{"$f":"IF(A220=\"\",\"\",MAX(I$10:I219)+1)","v":""},""]
[null,null,null,null,null,null,null,null,{"$f":"IF(A221=\"\",\"\",MAX(I$10:I220)+1)","v":""},""]
[null,null,null,null,null,null,null,null,{"$f":"IF(A222=\"\",\"\",MAX(I$10:I221)+1)","v":""},""]
[null,null,null,null,null,null,null,null,{"$f":"IF(A223=\"\",\"\",MAX(I$10:I222)+1)","v":""},""]
[null,null,null,null,null,null,null,null,{"$f":"IF(A224=\"\",\"\",MAX(I$10:I223)+1)","v":""},""]
[null,null,null,null,null,null,null,null,{"$f":"IF(A225=\"\",\"\",MAX(I$10:I224)+1)","v":""},""]
[null,null,null,null,null,null,null,null,{"$f":"IF(A226=\"\",\"\",MAX(I$10:I225)+1)","v":""},""]
[null,null,null,null,null,null,null,null,{"$f":"IF(A227=\"\",\"\",MAX(I$10:I226)+1)","v":""},""]
[null,null,null,null,null,null,null,null,{"$f":"IF(A228=\"\",\"\",MAX(I$10:I227)+1)","v":""},""]
[null,null,null,null,null,null,null,null,{"$f":"IF(A229=\"\",\"\",MAX(I$10:I228)+1)","v":""},""]
[null,null,null,null,"室外側",null,null,null,{"$f":"IF(A230=\"\",\"\",MAX(I$10:I229)+1)","v":""},""]
[null,null,null,null,"室内側",null,null,null,{"$f":"IF(A231=\"\",\"\",MAX(I$10:I230)+1)","v":""},""]
[null,null,null,null,null,null,null,null,{"$f":"IF(A232=\"\",\"\",MAX(I$10:I231)+1)","v":""},""]
[null,null,null,null,null,null,null,null,{"$f":"IF(A233=\"\",\"\",MAX(I$10:I232)+1)","v":""},""]
[null,null,null,null,null,null,null,null,{"$f":"IF(A234=\"\",\"\",MAX(I$10:I233)+1)","v":""},""]
[null,null,null,null,null,null,null,null,{"$f":"IF(A235=\"\",\"\",MAX(I$10:I234)+1)","v":""},""]
[null,null,null,null,null,null,null,null,{"$f":"IF(A236=\"\",\"\",MAX(I$10:I235)+1)","v":""},""]
[null,null,null,null,null,null,null,null,{"$f":"IF(A237=\"\",\"\",MAX(I$10:I236)+1)","v":""},""]
[null,null,null,null,null,null,null,null,{"$f":"IF(A238=\"\",\"\",MAX(I$10:I237)+1)","v":""},""]
[null,null,null,null,null,null,null,null,{"$f":"IF(A239=\"\",\"\",MAX(I$10:I238)+1)","v":""},""]
[null,null,null,null,null,null,null,null,{"$f":"IF(A240=\"\",\"\",MAX(I$10:I239)+1)","v":""},""]
[null,null,null,null,"室外側",null,null,null,{"$f":"IF(A241=\"\",\"\",MAX(I$10:I240)+1)","v":""},""]
[null,null,null,null,"室内側",null,null,null,{"$f":"IF(A242=\"\",\"\",MAX(I$10:I241)+1)","v":""},""]
[null,null,null,null,null,null,null,null,{"$f":"IF(A243=\"\",\"\",MAX(I$10:I242)+1)","v":""},""]
[null,null,null,null,null,null,null,null,{"$f":"IF(A244=\"\",\"\",MAX(I$10:I243)+1)","v":""},""]
[null,null,null,null,null,null,null,null,{"$f":"IF(A245=\"\",\"\",MAX(I$10:I244)+1)","v":""},""]
[null,null,null,null,null,null,null,null,{"$f":"IF(A246=\"\",\"\",MAX(I$10:I245)+1)","v":""},""]
[null,null,null,null,null,null,null,null,{"$f":"IF(A247=\"\",\"\",MAX(I$10:I246)+1)","v":""},""]
[null,null,null,null,null,null,null,null,{"$f":"IF(A248=\"\",\"\",MAX(I$10:I247)+1)","v":""},""]
[null,null,null,null,null,null,null,null,{"$f":"IF(A249=\"\",\"\",MAX(I$10:I248)+1)","v":""},""]
[null,null,null,null,null,null,null,null,{"$f":"IF(A250=\"\",\"\",MAX(I$10:I249)+1)","v":""},""]
[null,null,null,null,null,null,null,null,{"$f":"IF(A251=\"\",\"\",MAX(I$10:I250)+1)","v":""},""]
[null,null,null,null,"室外側",null,null,null,{"$f":"IF(A252=\"\",\"\",MAX(I$10:I251)+1)","v":""},""]
[null,null,null,null,"室内側",null,null,null,{"$f":"IF(A253=\"\",\"\",MAX(I$10:I252)+1)","v":""},""]
[null,null,null,null,null,null,null,null,{"$f":"IF(A254=\"\",\"\",MAX(I$10:I253)+1)","v":""},""]
[null,null,null,null,null,null,null,null,{"$f":"IF(A255=\"\",\"\",MAX(I$10:I254)+1)","v":""},""]
[null,null,null,null,null,null,null,null,{"$f":"IF(A256=\"\",\"\",MAX(I$10:I255)+1)","v":""},""]
[null,null,null,null,null,null,null,null,{"$f":"IF(A257=\"\",\"\",MAX(I$10:I256)+1)","v":""},""]
[null,null,null,null,null,null,null,null,{"$f":"IF(A258=\"\",\"\",MAX(I$10:I257)+1)","v":""},""]
[null,null,null,null,null,null,null,null,{"$f":"IF(A259=\"\",\"\",MAX(I$10:I258)+1)","v":""},""]
[null,null,null,null,null,null,null,null,{"$f":"IF(A260=\"\",\"\",MAX(I$10:I259)+1)","v":""},""]
[null,null,null,null,null,null,null,null,{"$f":"IF(A261=\"\",\"\",MAX(I$10:I260)+1)","v":""},""]
[null,null,null,null,null,null,null,null,{"$f":"IF(A262=\"\",\"\",MAX(I$10:I261)+1)","v":""},""]
[null,null,null,null,"室外側",null,null,null,{"$f":"IF(A263=\"\",\"\",MAX(I$10:I262)+1)","v":""},""]
[null,null,null,null,"室内側",null,null,null,{"$f":"IF(A264=\"\",\"\",MAX(I$10:I263)+1)","v":""},""]
[null,null,null,null,null,null,null,null,{"$f":"IF(A265=\"\",\"\",MAX(I$10:I264)+1)","v":""},""]
[null,null,null,null,null,null,null,null,{"$f":"IF(A266=\"\",\"\",MAX(I$10:I265)+1)","v":""},""]
[null,null,null,null,null,null,null,null,{"$f":"IF(A267=\"\",\"\",MAX(I$10:I266)+1)","v":""},{"$f":"IFERROR(INDEX($A$11:$A$99922,MATCH(ROW()-10,$I$11:$I$99922,0)),\"\")","v":""}]
[null,null,null,null,null,null,null,null,{"$f":"IF(A268=\"\",\"\",MAX(I$10:I267)+1)","v":""},""]
[null,null,null,null,null,null,null,null,{"$f":"IF(A269=\"\",\"\",MAX(I$10:I268)+1)","v":""},""]
[null,null,null,null,null,null,null,null,{"$f":"IF(A270=\"\",\"\",MAX(I$10:I269)+1)","v":""},""]
[null,null,null,null,null,null,null,null,{"$f":"IF(A271=\"\",\"\",MAX(I$10:I270)+1)","v":""},""]
[null,null,null,null,null,null,null,null,{"$f":"IF(A272=\"\",\"\",MAX(I$10:I271)+1)","v":""},""]
[null,null,null,null,null,null,null,null,{"$f":"IF(A273=\"\",\"\",MAX(I$10:I272)+1)","v":""},""]
[null,null,null,null,"室外側",null,null,null,{"$f":"IF(A274=\"\",\"\",MAX(I$10:I273)+1)","v":""},""]
[null,null,null,null,"室内側",null,null,null,{"$f":"IF(A275=\"\",\"\",MAX(I$10:I274)+1)","v":""},""]
[null,null,null,null,null,null,null,null,{"$f":"IF(A276=\"\",\"\",MAX(I$10:I275)+1)","v":""},""]
[null,null,null,null,null,null,null,null,{"$f":"IF(A277=\"\",\"\",MAX(I$10:I276)+1)","v":""},""]
[null,null,null,null,null,null,null,null,{"$f":"IF(A278=\"\",\"\",MAX(I$10:I277)+1)","v":""},""]
[null,null,null,null,null,null,null,null,{"$f":"IF(A279=\"\",\"\",MAX(I$10:I278)+1)","v":""},""]
[null,null,null,null,null,null,null,null,{"$f":"IF(A280=\"\",\"\",MAX(I$10:I279)+1)","v":""},""]
[null,null,null,null,null,null,null,null,{"$f":"IF(A281=\"\",\"\",MAX(I$10:I280)+1)","v":""},""]
[null,null,null,null,null,null,null,null,{"$f":"IF(A282=\"\",\"\",MAX(I$10:I281)+1)","v":""},""]
[null,null,null,null,null,null,null,null,{"$f":"IF(A283=\"\",\"\",MAX(I$10:I282)+1)","v":""},""]
[null,null,null,null,null,null,null,null,{"$f":"IF(A284=\"\",\"\",MAX(I$10:I283)+1)","v":""},""]
[null,null,null,null,"室外側",null,null,null,{"$f":"IF(A285=\"\",\"\",MAX(I$10:I284)+1)","v":""},""]
[null,null,null,null,"室内側",null,null,null,{"$f":"IF(A286=\"\",\"\",MAX(I$10:I285)+1)","v":""},""]
[null,null,null,null,null,null,null,null,{"$f":"IF(A287=\"\",\"\",MAX(I$10:I286)+1)","v":""},""]
[null,null,null,null,null,null,null,null,{"$f":"IF(A288=\"\",\"\",MAX(I$10:I287)+1)","v":""},""]
[null,null,null,null,null,null,null,null,{"$f":"IF(A289=\"\",\"\",MAX(I$10:I288)+1)","v":""},""]
[null,null,null,null,null,null,null,null,{"$f":"IF(A290=\"\",\"\",MAX(I$10:I289)+1)","v":""},""]
[null,null,null,null,null,null,null,null,{"$f":"IF(A291=\"\",\"\",MAX(I$10:I290)+1)","v":""},""]
[null,null,null,null,null,null,null,null,{"$f":"IF(A292=\"\",\"\",MAX(I$10:I291)+1)","v":""},""]
[null,null,null,null,null,null,null,null,{"$f":"IF(A293=\"\",\"\",MAX(I$10:I292)+1)","v":""},""]
[null,null,null,null,null,null,null,null,{"$f":"IF(A294=\"\",\"\",MAX(I$10:I293)+1)","v":""},""]
[null,null,null,null,null,null,null,null,{"$f":"IF(A295=\"\",\"\",MAX(I$10:I294)+1)","v":""},""]
[null,null,null,null,"室外側",null,null,null,{"$f":"IF(A296=\"\",\"\",MAX(I$10:I295)+1)","v":""},""]
[null,null,null,null,"室内側",null,null,null,{"$f":"IF(A297=\"\",\"\",MAX(I$10:I296)+1)","v":""},""]
[null,null,null,null,null,null,null,null,{"$f":"IF(A298=\"\",\"\",MAX(I$10:I297)+1)","v":""},""]
[null,null,null,null,null,null,null,null,{"$f":"IF(A299=\"\",\"\",MAX(I$10:I298)+1)","v":""},""]
[null,null,null,null,null,null,null,null,{"$f":"IF(A300=\"\",\"\",MAX(I$10:I299)+1)","v":""},""]
[null,null,null,null,null,null,null,null,{"$f":"IF(A301=\"\",\"\",MAX(I$10:I300)+1)","v":""},""]
[null,null,null,null,null,null,null,null,{"$f":"IF(A302=\"\",\"\",MAX(I$10:I301)+1)","v":""},""]
[null,null,null,null,null,null,null,null,{"$f":"IF(A303=\"\",\"\",MAX(I$10:I302)+1)","v":""},""]
[null,null,null,null,null,null,null,null,{"$f":"IF(A304=\"\",\"\",MAX(I$10:I303)+1)","v":""},""]
[null,null,null,null,null,null,null,null,{"$f":"IF(A305=\"\",\"\",MAX(I$10:I304)+1)","v":""},""]
[null,null,null,null,null,null,null,null,{"$f":"IF(A306=\"\",\"\",MAX(I$10:I305)+1)","v":""},""]
[null,null,null,null,"室外側",null,null,null,{"$f":"IF(A307=\"\",\"\",MAX(I$10:I306)+1)","v":""},""]
[null,null,null,null,"室内側",null,null,null,{"$f":"IF(A308=\"\",\"\",MAX(I$10:I307)+1)","v":""},""]
[null,null,null,null,null,null,null,null,{"$f":"IF(A309=\"\",\"\",MAX(I$10:I308)+1)","v":""},""]
[null,null,null,null,null,null,null,null,{"$f":"IF(A310=\"\",\"\",MAX(I$10:I309)+1)","v":""},""]
[null,null,null,null,null,null,null,null,{"$f":"IF(A311=\"\",\"\",MAX(I$10:I310)+1)","v":""},""]
[null,null,null,null,null,null,null,null,{"$f":"IF(A312=\"\",\"\",MAX(I$10:I311)+1)","v":""},""]
[null,null,null,null,null,null,null,null,{"$f":"IF(A313=\"\",\"\",MAX(I$10:I312)+1)","v":""},""]
[null,null,null,null,null,null,null,null,{"$f":"IF(A314=\"\",\"\",MAX(I$10:I313)+1)","v":""},""]
[null,null,null,null,null,null,null,null,{"$f":"IF(A315=\"\",\"\",MAX(I$10:I314)+1)","v":""},""]
[null,null,null,null,null,null,null,null,{"$f":"IF(A316=\"\",\"\",MAX(I$10:I315)+1)","v":""},""]
[null,null,null,null,null,null,null,null,{"$f":"IF(A317=\"\",\"\",MAX(I$10:I316)+1)","v":""},""]
[null,null,null,null,"室外側",null,null,null,{"$f":"IF(A318=\"\",\"\",MAX(I$10:I317)+1)","v":""},""]
[null,null,null,null,"室内側",null,null,null,{"$f":"IF(A319=\"\",\"\",MAX(I$10:I318)+1)","v":""},""]
[null,null,null,null,null,null,null,null,{"$f":"IF(A320=\"\",\"\",MAX(I$10:I319)+1)","v":""},""]
[null,null,null,null,null,null,null,null,{"$f":"IF(A321=\"\",\"\",MAX(I$10:I320)+1)","v":""},""]
[null,null,null,null,null,null,null,null,{"$f":"IF(A322=\"\",\"\",MAX(I$10:I321)+1)","v":""},""]
[null,null,null,null,null,null,null,null,{"$f":"IF(A323=\"\",\"\",MAX(I$10:I322)+1)","v":""},""]
[null,null,null,null,null,null,null,null,{"$f":"IF(A324=\"\",\"\",MAX(I$10:I323)+1)","v":""},""]
[null,null,null,null,null,null,null,null,{"$f":"IF(A325=\"\",\"\",MAX(I$10:I324)+1)","v":""},""]
[null,null,null,null,null,null,null,null,{"$f":"IF(A326=\"\",\"\",MAX(I$10:I325)+1)","v":""},""]
[null,null,null,null,null,null,null,null,{"$f":"IF(A327=\"\",\"\",MAX(I$10:I326)+1)","v":""},""]
[null,null,null,null,null,null,null,null,{"$f":"IF(A328=\"\",\"\",MAX(I$10:I327)+1)","v":""},""]
[null,null,null,null,"室外側",null,null,null,{"$f":"IF(A329=\"\",\"\",MAX(I$10:I328)+1)","v":""},""]
[null,null,null,null,"室内側",null,null,null,{"$f":"IF(A330=\"\",\"\",MAX(I$10:I329)+1)","v":""},""]
[null,null,null,null,null,null,null,null,{"$f":"IF(A331=\"\",\"\",MAX(I$10:I330)+1)","v":""},{"$f":"IFERROR(INDEX($A$11:$A$99922,MATCH(ROW()-10,$I$11:$I$99922,0)),\"\")","v":""}]
[null,null,null,null,null,null,null,null,{"$f":"IF(A332=\"\",\"\",MAX(I$10:I331)+1)","v":""},""]
[null,null,null,null,null,null,null,null,{"$f":"IF(A333=\"\",\"\",MAX(I$10:I332)+1)","v":""},""]
[null,null,null,null,null,null,null,null,{"$f":"IF(A334=\"\",\"\",MAX(I$10:I333)+1)","v":""},""]
[null,null,null,null,null,null,null,null,{"$f":"IF(A335=\"\",\"\",MAX(I$10:I334)+1)","v":""},""]
[null,null,null,null,null,null,null,null,{"$f":"IF(A336=\"\",\"\",MAX(I$10:I335)+1)","v":""},""]
[null,null,null,null,null,null,null,null,{"$f":"IF(A337=\"\",\"\",MAX(I$10:I336)+1)","v":""},""]
[null,null,null,null,null,null,null,null,{"$f":"IF(A338=\"\",\"\",MAX(I$10:I337)+1)","v":""},""]
[null,null,null,null,null,null,null,null,{"$f":"IF(A339=\"\",\"\",MAX(I$10:I338)+1)","v":""},""]
[null,null,null,null,"室外側",null,null,null,{"$f":"IF(A340=\"\",\"\",MAX(I$10:I339)+1)","v":""},""]
[null,null,null,null,"室内側",null,null,null,{"$f":"IF(A341=\"\",\"\",MAX(I$10:I340)+1)","v":""},""]
[null,null,null,null,null,null,null,null,{"$f":"IF(A342=\"\",\"\",MAX(I$10:I341)+1)","v":""},""]
[null,null,null,null,null,null,null,null,{"$f":"IF(A343=\"\",\"\",MAX(I$10:I342)+1)","v":""},""]
[null,null,null,null,null,null,null,null,{"$f":"IF(A344=\"\",\"\",MAX(I$10:I343)+1)","v":""},""]
[null,null,null,null,null,null,null,null,{"$f":"IF(A345=\"\",\"\",MAX(I$10:I344)+1)","v":""},""]
[null,null,null,null,null,null,null,null,{"$f":"IF(A346=\"\",\"\",MAX(I$10:I345)+1)","v":""},""]
[null,null,null,null,null,null,null,null,{"$f":"IF(A347=\"\",\"\",MAX(I$10:I346)+1)","v":""},""]
[null,null,null,null,null,null,null,null,{"$f":"IF(A348=\"\",\"\",MAX(I$10:I347)+1)","v":""},""]
[null,null,null,null,null,null,null,null,{"$f":"IF(A349=\"\",\"\",MAX(I$10:I348)+1)","v":""},""]
[null,null,null,null,null,null,null,null,{"$f":"IF(A350=\"\",\"\",MAX(I$10:I349)+1)","v":""},""]
[null,null,null,null,"室外側",null,null,null,{"$f":"IF(A351=\"\",\"\",MAX(I$10:I350)+1)","v":""},""]
[null,null,null,null,"室内側",null,null,null,{"$f":"IF(A352=\"\",\"\",MAX(I$10:I351)+1)","v":""},""]
[null,null,null,null,null,null,null,null,{"$f":"IF(A353=\"\",\"\",MAX(I$10:I352)+1)","v":""},""]
[null,null,null,null,null,null,null,null,{"$f":"IF(A354=\"\",\"\",MAX(I$10:I353)+1)","v":""},""]
[null,null,null,null,null,null,null,null,{"$f":"IF(A355=\"\",\"\",MAX(I$10:I354)+1)","v":""},""]
[null,null,null,null,null,null,null,null,{"$f":"IF(A356=\"\",\"\",MAX(I$10:I355)+1)","v":""},""]
[null,null,null,null,null,null,null,null,{"$f":"IF(A357=\"\",\"\",MAX(I$10:I356)+1)","v":""},""]
[null,null,null,null,null,null,null,null,{"$f":"IF(A358=\"\",\"\",MAX(I$10:I357)+1)","v":""},""]
[null,null,null,null,null,null,null,null,{"$f":"IF(A359=\"\",\"\",MAX(I$10:I358)+1)","v":""},""]
[null,null,null,null,null,null,null,null,{"$f":"IF(A360=\"\",\"\",MAX(I$10:I359)+1)","v":""},""]
[null,null,null,null,null,null,null,null,{"$f":"IF(A361=\"\",\"\",MAX(I$10:I360)+1)","v":""},""]
[null,null,null,null,"室外側",null,null,null,{"$f":"IF(A362=\"\",\"\",MAX(I$10:I361)+1)","v":""},""]
[null,null,null,null,"室内側",null,null,null,{"$f":"IF(A363=\"\",\"\",MAX(I$10:I362)+1)","v":""},""]
[null,null,null,null,null,null,null,null,{"$f":"IF(A364=\"\",\"\",MAX(I$10:I363)+1)","v":""},""]
[null,null,null,null,null,null,null,null,{"$f":"IF(A365=\"\",\"\",MAX(I$10:I364)+1)","v":""},""]
[null,null,null,null,null,null,null,null,{"$f":"IF(A366=\"\",\"\",MAX(I$10:I365)+1)","v":""},""]
[null,null,null,null,null,null,null,null,{"$f":"IF(A367=\"\",\"\",MAX(I$10:I366)+1)","v":""},""]
[null,null,null,null,null,null,null,null,{"$f":"IF(A368=\"\",\"\",MAX(I$10:I367)+1)","v":""},""]
[null,null,null,null,null,null,null,null,{"$f":"IF(A369=\"\",\"\",MAX(I$10:I368)+1)","v":""},""]
[null,null,null,null,null,null,null,null,{"$f":"IF(A370=\"\",\"\",MAX(I$10:I369)+1)","v":""},""]
[null,null,null,null,null,null,null,null,{"$f":"IF(A371=\"\",\"\",MAX(I$10:I370)+1)","v":""},""]
[null,null,null,null,null,null,null,null,{"$f":"IF(A372=\"\",\"\",MAX(I$10:I371)+1)","v":""},""]
[null,null,null,null,"室外側",null,null,null,{"$f":"IF(A373=\"\",\"\",MAX(I$10:I372)+1)","v":""},""]
[null,null,null,null,"室内側",null,null,null,{"$f":"IF(A374=\"\",\"\",MAX(I$10:I373)+1)","v":""},""]
[null,null,null,null,null,null,null,null,{"$f":"IF(A375=\"\",\"\",MAX(I$10:I374)+1)","v":""},""]
[null,null,null,null,null,null,null,null,{"$f":"IF(A376=\"\",\"\",MAX(I$10:I375)+1)","v":""},""]
[null,null,null,null,null,null,null,null,{"$f":"IF(A377=\"\",\"\",MAX(I$10:I376)+1)","v":""},""]
[null,null,null,null,null,null,null,null,{"$f":"IF(A378=\"\",\"\",MAX(I$10:I377)+1)","v":""},""]
[null,null,null,null,null,null,null,null,{"$f":"IF(A379=\"\",\"\",MAX(I$10:I378)+1)","v":""},""]
[null,null,null,null,null,null,null,null,{"$f":"IF(A380=\"\",\"\",MAX(I$10:I379)+1)","v":""},""]
[null,null,null,null,null,null,null,null,{"$f":"IF(A381=\"\",\"\",MAX(I$10:I380)+1)","v":""},""]
[null,null,null,null,null,null,null,null,{"$f":"IF(A382=\"\",\"\",MAX(I$10:I381)+1)","v":""},""]
[null,null,null,null,null,null,null,null,{"$f":"IF(A383=\"\",\"\",MAX(I$10:I382)+1)","v":""},""]
[null,null,null,null,"室外側",null,null,null,{"$f":"IF(A384=\"\",\"\",MAX(I$10:I383)+1)","v":""},""]
[null,null,null,null,"室内側",null,null,null,{"$f":"IF(A385=\"\",\"\",MAX(I$10:I384)+1)","v":""},""]
[null,null,null,null,null,null,null,null,{"$f":"IF(A386=\"\",\"\",MAX(I$10:I385)+1)","v":""},""]
[null,null,null,null,null,null,null,null,{"$f":"IF(A387=\"\",\"\",MAX(I$10:I386)+1)","v":""},""]
[null,null,null,null,null,null,null,null,{"$f":"IF(A388=\"\",\"\",MAX(I$10:I387)+1)","v":""},""]
[null,null,null,null,null,null,null,null,{"$f":"IF(A389=\"\",\"\",MAX(I$10:I388)+1)","v":""},""]
[null,null,null,null,null,null,null,null,{"$f":"IF(A390=\"\",\"\",MAX(I$10:I389)+1)","v":""},""]
[null,null,null,null,null,null,null,null,{"$f":"IF(A391=\"\",\"\",MAX(I$10:I390)+1)","v":""},""]
[null,null,null,null,null,null,null,null,{"$f":"IF(A392=\"\",\"\",MAX(I$10:I391)+1)","v":""},""]
[null,null,null,null,null,null,null,null,{"$f":"IF(A393=\"\",\"\",MAX(I$10:I392)+1)","v":""},""]
[null,null,null,null,null,null,null,null,{"$f":"IF(A394=\"\",\"\",MAX(I$10:I393)+1)","v":""},""]
[null,null,null,null,"室外側",null,null,null,{"$f":"IF(A395=\"\",\"\",MAX(I$10:I394)+1)","v":""},{"$f":"IFERROR(INDEX($A$11:$A$99922,MATCH(ROW()-10,$I$11:$I$99922,0)),\"\")","v":""}]
[null,null,null,null,"室内側",null,null,null,{"$f":"IF(A396=\"\",\"\",MAX(I$10:I395)+1)","v":""},""]
[null,null,null,null,null,null,null,null,{"$f":"IF(A397=\"\",\"\",MAX(I$10:I396)+1)","v":""},""]
[null,null,null,null,null,null,null,null,{"$f":"IF(A398=\"\",\"\",MAX(I$10:I397)+1)","v":""},""]
[null,null,null,null,null,null,null,null,{"$f":"IF(A399=\"\",\"\",MAX(I$10:I398)+1)","v":""},""]
[null,null,null,null,null,null,null,null,{"$f":"IF(A400=\"\",\"\",MAX(I$10:I399)+1)","v":""},""]
[null,null,null,null,null,null,null,null,{"$f":"IF(A401=\"\",\"\",MAX(I$10:I400)+1)","v":""},""]
[null,null,null,null,null,null,null,null,{"$f":"IF(A402=\"\",\"\",MAX(I$10:I401)+1)","v":""},""]
[null,null,null,null,null,null,null,null,{"$f":"IF(A403=\"\",\"\",MAX(I$10:I402)+1)","v":""},""]
[null,null,null,null,null,null,null,null,{"$f":"IF(A404=\"\",\"\",MAX(I$10:I403)+1)","v":""},""]
[null,null,null,null,null,null,null,null,{"$f":"IF(A405=\"\",\"\",MAX(I$10:I404)+1)","v":""},""]
[null,null,null,null,"室外側",null,null,null,{"$f":"IF(A406=\"\",\"\",MAX(I$10:I405)+1)","v":""},""]
[null,null,null,null,"室内側",null,null,null,{"$f":"IF(A407=\"\",\"\",MAX(I$10:I406)+1)","v":""},""]
[null,null,null,null,null,null,null,null,{"$f":"IF(A408=\"\",\"\",MAX(I$10:I407)+1)","v":""},""]
[null,null,null,null,null,null,null,null,{"$f":"IF(A409=\"\",\"\",MAX(I$10:I408)+1)","v":""},""]
[null,null,null,null,null,null,null,null,{"$f":"IF(A410=\"\",\"\",MAX(I$10:I409)+1)","v":""},""]
[null,null,null,null,null,null,null,null,{"$f":"IF(A411=\"\",\"\",MAX(I$10:I410)+1)","v":""},""]
[null,null,null,null,null,null,null,null,{"$f":"IF(A412=\"\",\"\",MAX(I$10:I411)+1)","v":""},""]
[null,null,null,null,null,null,null,null,{"$f":"IF(A413=\"\",\"\",MAX(I$10:I412)+1)","v":""},""]
[null,null,null,null,null,null,null,null,{"$f":"IF(A414=\"\",\"\",MAX(I$10:I413)+1)","v":""},""]
[null,null,null,null,null,null,null,null,{"$f":"IF(A415=\"\",\"\",MAX(I$10:I414)+1)","v":""},""]
[null,null,null,null,null,null,null,null,{"$f":"IF(A416=\"\",\"\",MAX(I$10:I415)+1)","v":""},""]
[null,null,null,null,"室外側",null,null,null,{"$f":"IF(A417=\"\",\"\",MAX(I$10:I416)+1)","v":""},""]
[null,null,null,null,"室内側",null,null,null,{"$f":"IF(A418=\"\",\"\",MAX(I$10:I417)+1)","v":""},""]
[null,null,null,null,null,null,null,null,{"$f":"IF(A419=\"\",\"\",MAX(I$10:I418)+1)","v":""},""]
[null,null,null,null,null,null,null,null,{"$f":"IF(A420=\"\",\"\",MAX(I$10:I419)+1)","v":""},""]
[null,null,null,null,null,null,null,null,{"$f":"IF(A421=\"\",\"\",MAX(I$10:I420)+1)","v":""},""]
[null,null,null,null,null,null,null,null,{"$f":"IF(A422=\"\",\"\",MAX(I$10:I421)+1)","v":""},""]
[null,null,null,null,null,null,null,null,{"$f":"IF(A423=\"\",\"\",MAX(I$10:I422)+1)","v":""},""]
[null,null,null,null,null,null,null,null,{"$f":"IF(A424=\"\",\"\",MAX(I$10:I423)+1)","v":""},""]
[null,null,null,null,null,null,null,null,{"$f":"IF(A425=\"\",\"\",MAX(I$10:I424)+1)","v":""},""]
[null,null,null,null,null,null,null,null,{"$f":"IF(A426=\"\",\"\",MAX(I$10:I425)+1)","v":""},""]
[null,null,null,null,null,null,null,null,{"$f":"IF(A427=\"\",\"\",MAX(I$10:I426)+1)","v":""},""]
[null,null,null,null,"室外側",null,null,null,{"$f":"IF(A428=\"\",\"\",MAX(I$10:I427)+1)","v":""},""]
[null,null,null,null,"室内側",null,null,null,{"$f":"IF(A429=\"\",\"\",MAX(I$10:I428)+1)","v":""},""]
[null,null,null,null,null,null,null,null,{"$f":"IF(A430=\"\",\"\",MAX(I$10:I429)+1)","v":""},""]
[null,null,null,null,null,null,null,null,{"$f":"IF(A431=\"\",\"\",MAX(I$10:I430)+1)","v":""},""]
[null,null,null,null,null,null,null,null,{"$f":"IF(A432=\"\",\"\",MAX(I$10:I431)+1)","v":""},""]
[null,null,null,null,null,null,null,null,{"$f":"IF(A433=\"\",\"\",MAX(I$10:I432)+1)","v":""},""]
[null,null,null,null,null,null,null,null,{"$f":"IF(A434=\"\",\"\",MAX(I$10:I433)+1)","v":""},""]
[null,null,null,null,null,null,null,null,{"$f":"IF(A435=\"\",\"\",MAX(I$10:I434)+1)","v":""},""]
[null,null,null,null,null,null,null,null,{"$f":"IF(A436=\"\",\"\",MAX(I$10:I435)+1)","v":""},""]
[null,null,null,null,null,null,null,null,{"$f":"IF(A437=\"\",\"\",MAX(I$10:I436)+1)","v":""},""]
[null,null,null,null,null,null,null,null,{"$f":"IF(A438=\"\",\"\",MAX(I$10:I437)+1)","v":""},""]
[null,null,null,null,"室外側",null,null,null,{"$f":"IF(A439=\"\",\"\",MAX(I$10:I438)+1)","v":""},""]
[null,null,null,null,"室内側",null,null,null,{"$f":"IF(A440=\"\",\"\",MAX(I$10:I439)+1)","v":""},""]
[null,null,null,null,null,null,null,null,{"$f":"IF(A441=\"\",\"\",MAX(I$10:I440)+1)","v":""},""]
[null,null,null,null,null,null,null,null,{"$f":"IF(A442=\"\",\"\",MAX(I$10:I441)+1)","v":""},""]
[null,null,null,null,null,null,null,null,{"$f":"IF(A443=\"\",\"\",MAX(I$10:I442)+1)","v":""},""]
[null,null,null,null,null,null,null,null,{"$f":"IF(A444=\"\",\"\",MAX(I$10:I443)+1)","v":""},""]
[null,null,null,null,null,null,null,null,{"$f":"IF(A445=\"\",\"\",MAX(I$10:I444)+1)","v":""},""]
[null,null,null,null,null,null,null,null,{"$f":"IF(A446=\"\",\"\",MAX(I$10:I445)+1)","v":""},""]
[null,null,null,null,null,null,null,null,{"$f":"IF(A447=\"\",\"\",MAX(I$10:I446)+1)","v":""},""]
[null,null,null,null,null,null,null,null,{"$f":"IF(A448=\"\",\"\",MAX(I$10:I447)+1)","v":""},""]
[null,null,null,null,null,null,null,null,{"$f":"IF(A449=\"\",\"\",MAX(I$10:I448)+1)","v":""},""]
[null,null,null,null,"室外側",null,null,null,{"$f":"IF(A450=\"\",\"\",MAX(I$10:I449)+1)","v":""},""]
[null,null,null,null,"室内側",null,null,null,{"$f":"IF(A451=\"\",\"\",MAX(I$10:I450)+1)","v":""},""]
[null,null,null,null,null,null,null,null,{"$f":"IF(A452=\"\",\"\",MAX(I$10:I451)+1)","v":""},""]
[null,null,null,null,null,null,null,null,{"$f":"IF(A453=\"\",\"\",MAX(I$10:I452)+1)","v":""},""]
[null,null,null,null,null,null,null,null,{"$f":"IF(A454=\"\",\"\",MAX(I$10:I453)+1)","v":""},""]
[null,null,null,null,null,null,null,null,{"$f":"IF(A455=\"\",\"\",MAX(I$10:I454)+1)","v":""},""]
[null,null,null,null,null,null,null,null,{"$f":"IF(A456=\"\",\"\",MAX(I$10:I455)+1)","v":""},""]
[null,null,null,null,null,null,null,null,{"$f":"IF(A457=\"\",\"\",MAX(I$10:I456)+1)","v":""},""]
[null,null,null,null,null,null,null,null,{"$f":"IF(A458=\"\",\"\",MAX(I$10:I457)+1)","v":""},""]
[null,null,null,null,null,null,null,null,{"$f":"IF(A459=\"\",\"\",MAX(I$10:I458)+1)","v":""},{"$f":"IFERROR(INDEX($A$11:$A$99922,MATCH(ROW()-10,$I$11:$I$99922,0)),\"\")","v":""}]
[null,null,null,null,null,null,null,null,{"$f":"IF(A460=\"\",\"\",MAX(I$10:I459)+1)","v":""},""]
[null,null,null,null,"室外側",null,null,null,{"$f":"IF(A461=\"\",\"\",MAX(I$10:I460)+1)","v":""},""]
[null,null,null,null,"室内側",null,null,null,{"$f":"IF(A462=\"\",\"\",MAX(I$10:I461)+1)","v":""},""]
[null,null,null,null,null,null,null,null,{"$f":"IF(A463=\"\",\"\",MAX(I$10:I462)+1)","v":""},""]
[null,null,null,null,null,null,null,null,{"$f":"IF(A464=\"\",\"\",MAX(I$10:I463)+1)","v":""},""]
[null,null,null,null,null,null,null,null,{"$f":"IF(A465=\"\",\"\",MAX(I$10:I464)+1)","v":""},""]
[null,null,null,null,null,null,null,null,{"$f":"IF(A466=\"\",\"\",MAX(I$10:I465)+1)","v":""},""]
[null,null,null,null,null,null,null,null,{"$f":"IF(A467=\"\",\"\",MAX(I$10:I466)+1)","v":""},""]
[null,null,null,null,null,null,null,null,{"$f":"IF(A468=\"\",\"\",MAX(I$10:I467)+1)","v":""},""]
[null,null,null,null,null,null,null,null,{"$f":"IF(A469=\"\",\"\",MAX(I$10:I468)+1)","v":""},""]
[null,null,null,null,null,null,null,null,{"$f":"IF(A470=\"\",\"\",MAX(I$10:I469)+1)","v":""},""]
[null,null,null,null,null,null,null,null,{"$f":"IF(A471=\"\",\"\",MAX(I$10:I470)+1)","v":""},""]
[null,null,null,null,"室外側",null,null,null,{"$f":"IF(A472=\"\",\"\",MAX(I$10:I471)+1)","v":""},""]
[null,null,null,null,"室内側",null,null,null,{"$f":"IF(A473=\"\",\"\",MAX(I$10:I472)+1)","v":""},""]
[null,null,null,null,null,null,null,null,{"$f":"IF(A474=\"\",\"\",MAX(I$10:I473)+1)","v":""},""]
[null,null,null,null,null,null,null,null,{"$f":"IF(A475=\"\",\"\",MAX(I$10:I474)+1)","v":""},""]
[null,null,null,null,null,null,null,null,{"$f":"IF(A476=\"\",\"\",MAX(I$10:I475)+1)","v":""},""]
[null,null,null,null,null,null,null,null,{"$f":"IF(A477=\"\",\"\",MAX(I$10:I476)+1)","v":""},""]
[null,null,null,null,null,null,null,null,{"$f":"IF(A478=\"\",\"\",MAX(I$10:I477)+1)","v":""},""]
[null,null,null,null,null,null,null,null,{"$f":"IF(A479=\"\",\"\",MAX(I$10:I478)+1)","v":""},""]
[null,null,null,null,null,null,null,null,{"$f":"IF(A480=\"\",\"\",MAX(I$10:I479)+1)","v":""},""]
[null,null,null,null,null,null,null,null,{"$f":"IF(A481=\"\",\"\",MAX(I$10:I480)+1)","v":""},""]
[null,null,null,null,null,null,null,null,{"$f":"IF(A482=\"\",\"\",MAX(I$10:I481)+1)","v":""},""]
[null,null,null,null,"室外側",null,null,null,{"$f":"IF(A483=\"\",\"\",MAX(I$10:I482)+1)","v":""},""]
[null,null,null,null,"室内側",null,null,null,{"$f":"IF(A484=\"\",\"\",MAX(I$10:I483)+1)","v":""},""]
[null,null,null,null,null,null,null,null,{"$f":"IF(A485=\"\",\"\",MAX(I$10:I484)+1)","v":""},""]
[null,null,null,null,null,null,null,null,{"$f":"IF(A486=\"\",\"\",MAX(I$10:I485)+1)","v":""},""]
[null,null,null,null,null,null,null,null,{"$f":"IF(A487=\"\",\"\",MAX(I$10:I486)+1)","v":""},""]
[null,null,null,null,null,null,null,null,{"$f":"IF(A488=\"\",\"\",MAX(I$10:I487)+1)","v":""},""]
[null,null,null,null,null,null,null,null,{"$f":"IF(A489=\"\",\"\",MAX(I$10:I488)+1)","v":""},""]
[null,null,null,null,null,null,null,null,{"$f":"IF(A490=\"\",\"\",MAX(I$10:I489)+1)","v":""},""]
[null,null,null,null,null,null,null,null,{"$f":"IF(A491=\"\",\"\",MAX(I$10:I490)+1)","v":""},""]
[null,null,null,null,null,null,null,null,{"$f":"IF(A492=\"\",\"\",MAX(I$10:I491)+1)","v":""},""]
[null,null,null,null,null,null,null,null,{"$f":"IF(A493=\"\",\"\",MAX(I$10:I492)+1)","v":""},""]
[null,null,null,null,"室外側",null,null,null,{"$f":"IF(A494=\"\",\"\",MAX(I$10:I493)+1)","v":""},""]
[null,null,null,null,"室内側",null,null,null,{"$f":"IF(A495=\"\",\"\",MAX(I$10:I494)+1)","v":""},""]
[null,null,null,null,null,null,null,null,{"$f":"IF(A496=\"\",\"\",MAX(I$10:I495)+1)","v":""},""]
[null,null,null,null,null,null,null,null,{"$f":"IF(A497=\"\",\"\",MAX(I$10:I496)+1)","v":""},""]
[null,null,null,null,null,null,null,null,{"$f":"IF(A498=\"\",\"\",MAX(I$10:I497)+1)","v":""},""]
[null,null,null,null,null,null,null,null,{"$f":"IF(A499=\"\",\"\",MAX(I$10:I498)+1)","v":""},""]
[null,null,null,null,null,null,null,null,{"$f":"IF(A500=\"\",\"\",MAX(I$10:I499)+1)","v":""},""]
[null,null,null,null,null,null,null,null,{"$f":"IF(A501=\"\",\"\",MAX(I$10:I500)+1)","v":""},""]
[null,null,null,null,null,null,null,null,{"$f":"IF(A502=\"\",\"\",MAX(I$10:I501)+1)","v":""},""]
[null,null,null,null,null,null,null,null,{"$f":"IF(A503=\"\",\"\",MAX(I$10:I502)+1)","v":""},""]
[null,null,null,null,null,null,null,null,{"$f":"IF(A504=\"\",\"\",MAX(I$10:I503)+1)","v":""},""]
[null,null,null,null,"室外側",null,null,null,{"$f":"IF(A505=\"\",\"\",MAX(I$10:I504)+1)","v":""},""]
[null,null,null,null,"室内側",null,null,null,{"$f":"IF(A506=\"\",\"\",MAX(I$10:I505)+1)","v":""},""]
[null,null,null,null,null,null,null,null,{"$f":"IF(A507=\"\",\"\",MAX(I$10:I506)+1)","v":""},""]
[null,null,null,null,null,null,null,null,{"$f":"IF(A508=\"\",\"\",MAX(I$10:I507)+1)","v":""},""]
[null,null,null,null,null,null,null,null,{"$f":"IF(A509=\"\",\"\",MAX(I$10:I508)+1)","v":""},""]
[null,null,null,null,null,null,null,null,{"$f":"IF(A510=\"\",\"\",MAX(I$10:I509)+1)","v":""},""]
[null,null,null,null,null,null,null,null,{"$f":"IF(A511=\"\",\"\",MAX(I$10:I510)+1)","v":""},""]
[null,null,null,null,null,null,null,null,{"$f":"IF(A512=\"\",\"\",MAX(I$10:I511)+1)","v":""},""]
[null,null,null,null,null,null,null,null,{"$f":"IF(A513=\"\",\"\",MAX(I$10:I512)+1)","v":""},""]
[null,null,null,null,null,null,null,null,{"$f":"IF(A514=\"\",\"\",MAX(I$10:I513)+1)","v":""},""]
[null,null,null,null,null,null,null,null,{"$f":"IF(A515=\"\",\"\",MAX(I$10:I514)+1)","v":""},""]
[null,null,null,null,"室外側",null,null,null,{"$f":"IF(A516=\"\",\"\",MAX(I$10:I515)+1)","v":""},""]
[null,null,null,null,"室内側",null,null,null,{"$f":"IF(A517=\"\",\"\",MAX(I$10:I516)+1)","v":""},""]
[null,null,null,null,null,null,null,null,{"$f":"IF(A518=\"\",\"\",MAX(I$10:I517)+1)","v":""},""]
[null,null,null,null,null,null,null,null,{"$f":"IF(A519=\"\",\"\",MAX(I$10:I518)+1)","v":""},""]
[null,null,null,null,null,null,null,null,{"$f":"IF(A520=\"\",\"\",MAX(I$10:I519)+1)","v":""},""]
[null,null,null,null,null,null,null,null,{"$f":"IF(A521=\"\",\"\",MAX(I$10:I520)+1)","v":""},""]
[null,null,null,null,null,null,null,null,{"$f":"IF(A522=\"\",\"\",MAX(I$10:I521)+1)","v":""},""]
[null,null,null,null,null,null,null,null,{"$f":"IF(A523=\"\",\"\",MAX(I$10:I522)+1)","v":""},{"$f":"IFERROR(INDEX($A$11:$A$99922,MATCH(ROW()-10,$I$11:$I$99922,0)),\"\")","v":""}]
[null,null,null,null,null,null,null,null,{"$f":"IF(A524=\"\",\"\",MAX(I$10:I523)+1)","v":""},""]
[null,null,null,null,null,null,null,null,{"$f":"IF(A525=\"\",\"\",MAX(I$10:I524)+1)","v":""},""]
[null,null,null,null,null,null,null,null,{"$f":"IF(A526=\"\",\"\",MAX(I$10:I525)+1)","v":""},""]
[null,null,null,null,"室外側",null,null,null,{"$f":"IF(A527=\"\",\"\",MAX(I$10:I526)+1)","v":""},""]
[null,null,null,null,"室内側",null,null,null,{"$f":"IF(A528=\"\",\"\",MAX(I$10:I527)+1)","v":""},""]
[null,null,null,null,null,null,null,null,{"$f":"IF(A529=\"\",\"\",MAX(I$10:I528)+1)","v":""},""]
[null,null,null,null,null,null,null,null,{"$f":"IF(A530=\"\",\"\",MAX(I$10:I529)+1)","v":""},""]
[null,null,null,null,null,null,null,null,{"$f":"IF(A531=\"\",\"\",MAX(I$10:I530)+1)","v":""},""]
[null,null,null,null,null,null,null,null,{"$f":"IF(A532=\"\",\"\",MAX(I$10:I531)+1)","v":""},""]
[null,null,null,null,null,null,null,null,{"$f":"IF(A533=\"\",\"\",MAX(I$10:I532)+1)","v":""},""]
[null,null,null,null,null,null,null,null,{"$f":"IF(A534=\"\",\"\",MAX(I$10:I533)+1)","v":""},""]
[null,null,null,null,null,null,null,null,{"$f":"IF(A535=\"\",\"\",MAX(I$10:I534)+1)","v":""},""]
[null,null,null,null,null,null,null,null,{"$f":"IF(A536=\"\",\"\",MAX(I$10:I535)+1)","v":""},""]
[null,null,null,null,null,null,null,null,{"$f":"IF(A537=\"\",\"\",MAX(I$10:I536)+1)","v":""},""]
[null,null,null,null,"室外側",null,null,null,{"$f":"IF(A538=\"\",\"\",MAX(I$10:I537)+1)","v":""},""]
[null,null,null,null,"室内側",null,null,null,{"$f":"IF(A539=\"\",\"\",MAX(I$10:I538)+1)","v":""},""]
[null,null,null,null,null,null,null,null,{"$f":"IF(A540=\"\",\"\",MAX(I$10:I539)+1)","v":""},""]
[null,null,null,null,null,null,null,null,{"$f":"IF(A541=\"\",\"\",MAX(I$10:I540)+1)","v":""},""]
[null,null,null,null,null,null,null,null,{"$f":"IF(A542=\"\",\"\",MAX(I$10:I541)+1)","v":""},""]
[null,null,null,null,null,null,null,null,{"$f":"IF(A543=\"\",\"\",MAX(I$10:I542)+1)","v":""},""]
[null,null,null,null,null,null,null,null,{"$f":"IF(A544=\"\",\"\",MAX(I$10:I543)+1)","v":""},""]
[null,null,null,null,null,null,null,null,{"$f":"IF(A545=\"\",\"\",MAX(I$10:I544)+1)","v":""},""]
[null,null,null,null,null,null,null,null,{"$f":"IF(A546=\"\",\"\",MAX(I$10:I545)+1)","v":""},""]
[null,null,null,null,null,null,null,null,{"$f":"IF(A547=\"\",\"\",MAX(I$10:I546)+1)","v":""},""]
[null,null,null,null,null,null,null,null,{"$f":"IF(A548=\"\",\"\",MAX(I$10:I547)+1)","v":""},""]
[null,null,null,null,"室外側",null,null,null,{"$f":"IF(A549=\"\",\"\",MAX(I$10:I548)+1)","v":""},""]
[null,null,null,null,"室内側",null,null,null,{"$f":"IF(A550=\"\",\"\",MAX(I$10:I549)+1)","v":""},""]
[null,null,null,null,null,null,null,null,{"$f":"IF(A551=\"\",\"\",MAX(I$10:I550)+1)","v":""},""]
[null,null,null,null,null,null,null,null,{"$f":"IF(A552=\"\",\"\",MAX(I$10:I551)+1)","v":""},""]
[null,null,null,null,null,null,null,null,{"$f":"IF(A553=\"\",\"\",MAX(I$10:I552)+1)","v":""},""]
[null,null,null,null,null,null,null,null,{"$f":"IF(A554=\"\",\"\",MAX(I$10:I553)+1)","v":""},""]
[null,null,null,null,null,null,null,null,{"$f":"IF(A555=\"\",\"\",MAX(I$10:I554)+1)","v":""},""]
[null,null,null,null,null,null,null,null,{"$f":"IF(A556=\"\",\"\",MAX(I$10:I555)+1)","v":""},""]
[null,null,null,null,null,null,null,null,{"$f":"IF(A557=\"\",\"\",MAX(I$10:I556)+1)","v":""},""]
[null,null,null,null,null,null,null,null,{"$f":"IF(A558=\"\",\"\",MAX(I$10:I557)+1)","v":""},""]
[null,null,null,null,null,null,null,null,{"$f":"IF(A559=\"\",\"\",MAX(I$10:I558)+1)","v":""},""]
[null,null,null,null,"室外側",null,null,null,{"$f":"IF(A560=\"\",\"\",MAX(I$10:I559)+1)","v":""},""]
[null,null,null,null,"室内側",null,null,null,{"$f":"IF(A561=\"\",\"\",MAX(I$10:I560)+1)","v":""},""]
[null,null,null,null,null,null,null,null,{"$f":"IF(A562=\"\",\"\",MAX(I$10:I561)+1)","v":""},""]
[null,null,null,null,null,null,null,null,{"$f":"IF(A563=\"\",\"\",MAX(I$10:I562)+1)","v":""},""]
[null,null,null,null,null,null,null,null,{"$f":"IF(A564=\"\",\"\",MAX(I$10:I563)+1)","v":""},""]
[null,null,null,null,null,null,null,null,{"$f":"IF(A565=\"\",\"\",MAX(I$10:I564)+1)","v":""},""]
[null,null,null,null,null,null,null,null,{"$f":"IF(A566=\"\",\"\",MAX(I$10:I565)+1)","v":""},""]
[null,null,null,null,null,null,null,null,{"$f":"IF(A567=\"\",\"\",MAX(I$10:I566)+1)","v":""},""]
[null,null,null,null,null,null,null,null,{"$f":"IF(A568=\"\",\"\",MAX(I$10:I567)+1)","v":""},""]
[null,null,null,null,null,null,null,null,{"$f":"IF(A569=\"\",\"\",MAX(I$10:I568)+1)","v":""},""]
[null,null,null,null,null,null,null,null,{"$f":"IF(A570=\"\",\"\",MAX(I$10:I569)+1)","v":""},""]
[null,null,null,null,"室外側",null,null,null,{"$f":"IF(A571=\"\",\"\",MAX(I$10:I570)+1)","v":""},""]
[null,null,null,null,"室内側",null,null,null,{"$f":"IF(A572=\"\",\"\",MAX(I$10:I571)+1)","v":""},""]
[null,null,null,null,null,null,null,null,{"$f":"IF(A573=\"\",\"\",MAX(I$10:I572)+1)","v":""},""]
[null,null,null,null,null,null,null,null,{"$f":"IF(A574=\"\",\"\",MAX(I$10:I573)+1)","v":""},""]
[null,null,null,null,null,null,null,null,{"$f":"IF(A575=\"\",\"\",MAX(I$10:I574)+1)","v":""},""]
[null,null,null,null,null,null,null,null,{"$f":"IF(A576=\"\",\"\",MAX(I$10:I575)+1)","v":""},""]
[null,null,null,null,null,null,null,null,{"$f":"IF(A577=\"\",\"\",MAX(I$10:I576)+1)","v":""},""]
[null,null,null,null,null,null,null,null,{"$f":"IF(A578=\"\",\"\",MAX(I$10:I577)+1)","v":""},""]
[null,null,null,null,null,null,null,null,{"$f":"IF(A579=\"\",\"\",MAX(I$10:I578)+1)","v":""},""]
[null,null,null,null,null,null,null,null,{"$f":"IF(A580=\"\",\"\",MAX(I$10:I579)+1)","v":""},""]
[null,null,null,null,null,null,null,null,{"$f":"IF(A581=\"\",\"\",MAX(I$10:I580)+1)","v":""},""]
[null,null,null,null,"室外側",null,null,null,{"$f":"IF(A582=\"\",\"\",MAX(I$10:I581)+1)","v":""},""]
[null,null,null,null,"室内側",null,null,null,{"$f":"IF(A583=\"\",\"\",MAX(I$10:I582)+1)","v":""},""]
[null,null,null,null,null,null,null,null,{"$f":"IF(A584=\"\",\"\",MAX(I$10:I583)+1)","v":""},""]
[null,null,null,null,null,null,null,null,{"$f":"IF(A585=\"\",\"\",MAX(I$10:I584)+1)","v":""},""]
[null,null,null,null,null,null,null,null,{"$f":"IF(A586=\"\",\"\",MAX(I$10:I585)+1)","v":""},""]
[null,null,null,null,null,null,null,null,{"$f":"IF(A587=\"\",\"\",MAX(I$10:I586)+1)","v":""},{"$f":"IFERROR(INDEX($A$11:$A$99922,MATCH(ROW()-10,$I$11:$I$99922,0)),\"\")","v":""}]
[null,null,null,null,null,null,null,null,{"$f":"IF(A588=\"\",\"\",MAX(I$10:I587)+1)","v":""},""]
[null,null,null,null,null,null,null,null,{"$f":"IF(A589=\"\",\"\",MAX(I$10:I588)+1)","v":""},""]
[null,null,null,null,null,null,null,null,{"$f":"IF(A590=\"\",\"\",MAX(I$10:I589)+1)","v":""},""]
[null,null,null,null,null,null,null,null,{"$f":"IF(A591=\"\",\"\",MAX(I$10:I590)+1)","v":""},""]
[null,null,null,null,null,null,null,null,{"$f":"IF(A592=\"\",\"\",MAX(I$10:I591)+1)","v":""},""]
[null,null,null,null,"室外側",null,null,null,{"$f":"IF(A593=\"\",\"\",MAX(I$10:I592)+1)","v":""},""]
[null,null,null,null,"室内側",null,null,null,{"$f":"IF(A594=\"\",\"\",MAX(I$10:I593)+1)","v":""},""]
[null,null,null,null,null,null,null,null,{"$f":"IF(A595=\"\",\"\",MAX(I$10:I594)+1)","v":""},""]
[null,null,null,null,null,null,null,null,{"$f":"IF(A596=\"\",\"\",MAX(I$10:I595)+1)","v":""},""]
[null,null,null,null,null,null,null,null,{"$f":"IF(A597=\"\",\"\",MAX(I$10:I596)+1)","v":""},""]
[null,null,null,null,null,null,null,null,{"$f":"IF(A598=\"\",\"\",MAX(I$10:I597)+1)","v":""},""]
[null,null,null,null,null,null,null,null,{"$f":"IF(A599=\"\",\"\",MAX(I$10:I598)+1)","v":""},""]
[null,null,null,null,null,null,null,null,{"$f":"IF(A600=\"\",\"\",MAX(I$10:I599)+1)","v":""},""]
[null,null,null,null,null,null,null,null,{"$f":"IF(A601=\"\",\"\",MAX(I$10:I600)+1)","v":""},""]
[null,null,null,null,null,null,null,null,{"$f":"IF(A602=\"\",\"\",MAX(I$10:I601)+1)","v":""},""]
[null,null,null,null,null,null,null,null,{"$f":"IF(A603=\"\",\"\",MAX(I$10:I602)+1)","v":""},""]
[null,null,null,null,"室外側",null,null,null,{"$f":"IF(A604=\"\",\"\",MAX(I$10:I603)+1)","v":""},""]
[null,null,null,null,"室内側",null,null,null,{"$f":"IF(A605=\"\",\"\",MAX(I$10:I604)+1)","v":""},""]
[null,null,null,null,null,null,null,null,{"$f":"IF(A606=\"\",\"\",MAX(I$10:I605)+1)","v":""},""]
[null,null,null,null,null,null,null,null,{"$f":"IF(A607=\"\",\"\",MAX(I$10:I606)+1)","v":""},""]
[null,null,null,null,null,null,null,null,{"$f":"IF(A608=\"\",\"\",MAX(I$10:I607)+1)","v":""},""]
[null,null,null,null,null,null,null,null,{"$f":"IF(A609=\"\",\"\",MAX(I$10:I608)+1)","v":""},""]
[null,null,null,null,null,null,null,null,{"$f":"IF(A610=\"\",\"\",MAX(I$10:I609)+1)","v":""},""]
[null,null,null,null,null,null,null,null,{"$f":"IF(A611=\"\",\"\",MAX(I$10:I610)+1)","v":""},""]
[null,null,null,null,null,null,null,null,{"$f":"IF(A612=\"\",\"\",MAX(I$10:I611)+1)","v":""},""]
[null,null,null,null,null,null,null,null,{"$f":"IF(A613=\"\",\"\",MAX(I$10:I612)+1)","v":""},""]
[null,null,null,null,null,null,null,null,{"$f":"IF(A614=\"\",\"\",MAX(I$10:I613)+1)","v":""},""]
[null,null,null,null,"室外側",null,null,null,{"$f":"IF(A615=\"\",\"\",MAX(I$10:I614)+1)","v":""},""]
[null,null,null,null,"室内側",null,null,null,{"$f":"IF(A616=\"\",\"\",MAX(I$10:I615)+1)","v":""},""]
[null,null,null,null,null,null,null,null,{"$f":"IF(A617=\"\",\"\",MAX(I$10:I616)+1)","v":""},""]
[null,null,null,null,null,null,null,null,{"$f":"IF(A618=\"\",\"\",MAX(I$10:I617)+1)","v":""},""]
[null,null,null,null,null,null,null,null,{"$f":"IF(A619=\"\",\"\",MAX(I$10:I618)+1)","v":""},""]
[null,null,null,null,null,null,null,null,{"$f":"IF(A620=\"\",\"\",MAX(I$10:I619)+1)","v":""},""]
[null,null,null,null,null,null,null,null,{"$f":"IF(A621=\"\",\"\",MAX(I$10:I620)+1)","v":""},""]
[null,null,null,null,null,null,null,null,{"$f":"IF(A622=\"\",\"\",MAX(I$10:I621)+1)","v":""},""]
[null,null,null,null,null,null,null,null,{"$f":"IF(A623=\"\",\"\",MAX(I$10:I622)+1)","v":""},""]
[null,null,null,null,null,null,null,null,{"$f":"IF(A624=\"\",\"\",MAX(I$10:I623)+1)","v":""},""]
[null,null,null,null,null,null,null,null,{"$f":"IF(A625=\"\",\"\",MAX(I$10:I624)+1)","v":""},""]
[null,null,null,null,"室外側",null,null,null,{"$f":"IF(A626=\"\",\"\",MAX(I$10:I625)+1)","v":""},""]
[null,null,null,null,"室内側",null,null,null,{"$f":"IF(A627=\"\",\"\",MAX(I$10:I626)+1)","v":""},""]
[null,null,null,null,null,null,null,null,{"$f":"IF(A628=\"\",\"\",MAX(I$10:I627)+1)","v":""},""]
[null,null,null,null,null,null,null,null,{"$f":"IF(A629=\"\",\"\",MAX(I$10:I628)+1)","v":""},""]
[null,null,null,null,null,null,null,null,{"$f":"IF(A630=\"\",\"\",MAX(I$10:I629)+1)","v":""},""]
[null,null,null,null,null,null,null,null,{"$f":"IF(A631=\"\",\"\",MAX(I$10:I630)+1)","v":""},""]
[null,null,null,null,null,null,null,null,{"$f":"IF(A632=\"\",\"\",MAX(I$10:I631)+1)","v":""},""]
[null,null,null,null,null,null,null,null,{"$f":"IF(A633=\"\",\"\",MAX(I$10:I632)+1)","v":""},""]
[null,null,null,null,null,null,null,null,{"$f":"IF(A634=\"\",\"\",MAX(I$10:I633)+1)","v":""},""]
[null,null,null,null,null,null,null,null,{"$f":"IF(A635=\"\",\"\",MAX(I$10:I634)+1)","v":""},""]
[null,null,null,null,null,null,null,null,{"$f":"IF(A636=\"\",\"\",MAX(I$10:I635)+1)","v":""},""]
[null,null,null,null,"室外側",null,null,null,{"$f":"IF(A637=\"\",\"\",MAX(I$10:I636)+1)","v":""},""]
[null,null,null,null,"室内側",null,null,null,{"$f":"IF(A638=\"\",\"\",MAX(I$10:I637)+1)","v":""},""]
[null,null,null,null,null,null,null,null,{"$f":"IF(A639=\"\",\"\",MAX(I$10:I638)+1)","v":""},""]
[null,null,null,null,null,null,null,null,{"$f":"IF(A640=\"\",\"\",MAX(I$10:I639)+1)","v":""},""]
[null,null,null,null,null,null,null,null,{"$f":"IF(A641=\"\",\"\",MAX(I$10:I640)+1)","v":""},""]
[null,null,null,null,null,null,null,null,{"$f":"IF(A642=\"\",\"\",MAX(I$10:I641)+1)","v":""},""]
[null,null,null,null,null,null,null,null,{"$f":"IF(A643=\"\",\"\",MAX(I$10:I642)+1)","v":""},""]
[null,null,null,null,null,null,null,null,{"$f":"IF(A644=\"\",\"\",MAX(I$10:I643)+1)","v":""},""]
[null,null,null,null,null,null,null,null,{"$f":"IF(A645=\"\",\"\",MAX(I$10:I644)+1)","v":""},""]
[null,null,null,null,null,null,null,null,{"$f":"IF(A646=\"\",\"\",MAX(I$10:I645)+1)","v":""},""]
[null,null,null,null,null,null,null,null,{"$f":"IF(A647=\"\",\"\",MAX(I$10:I646)+1)","v":""},""]
[null,null,null,null,"室外側",null,null,null,{"$f":"IF(A648=\"\",\"\",MAX(I$10:I647)+1)","v":""},""]
[null,null,null,null,"室内側",null,null,null,{"$f":"IF(A649=\"\",\"\",MAX(I$10:I648)+1)","v":""},""]
[null,null,null,null,null,null,null,null,{"$f":"IF(A650=\"\",\"\",MAX(I$10:I649)+1)","v":""},""]
[null,null,null,null,null,null,null,null,{"$f":"IF(A651=\"\",\"\",MAX(I$10:I650)+1)","v":""},{"$f":"IFERROR(INDEX($A$11:$A$99922,MATCH(ROW()-10,$I$11:$I$99922,0)),\"\")","v":""}]
[null,null,null,null,null,null,null,null,{"$f":"IF(A652=\"\",\"\",MAX(I$10:I651)+1)","v":""},""]
[null,null,null,null,null,null,null,null,{"$f":"IF(A653=\"\",\"\",MAX(I$10:I652)+1)","v":""},""]
[null,null,null,null,null,null,null,null,{"$f":"IF(A654=\"\",\"\",MAX(I$10:I653)+1)","v":""},""]
[null,null,null,null,null,null,null,null,{"$f":"IF(A655=\"\",\"\",MAX(I$10:I654)+1)","v":""},""]
[null,null,null,null,null,null,null,null,{"$f":"IF(A656=\"\",\"\",MAX(I$10:I655)+1)","v":""},""]
[null,null,null,null,null,null,null,null,{"$f":"IF(A657=\"\",\"\",MAX(I$10:I656)+1)","v":""},""]
[null,null,null,null,null,null,null,null,{"$f":"IF(A658=\"\",\"\",MAX(I$10:I657)+1)","v":""},""]
[null,null,null,null,"室外側",null,null,null,{"$f":"IF(A659=\"\",\"\",MAX(I$10:I658)+1)","v":""},""]
[null,null,null,null,"室内側",null,null,null,{"$f":"IF(A660=\"\",\"\",MAX(I$10:I659)+1)","v":""},""]
[null,null,null,null,null,null,null,null,{"$f":"IF(A661=\"\",\"\",MAX(I$10:I660)+1)","v":""},""]
[null,null,null,null,null,null,null,null,{"$f":"IF(A662=\"\",\"\",MAX(I$10:I661)+1)","v":""},""]
[null,null,null,null,null,null,null,null,{"$f":"IF(A663=\"\",\"\",MAX(I$10:I662)+1)","v":""},""]
[null,null,null,null,null,null,null,null,{"$f":"IF(A664=\"\",\"\",MAX(I$10:I663)+1)","v":""},""]
[null,null,null,null,null,null,null,null,{"$f":"IF(A665=\"\",\"\",MAX(I$10:I664)+1)","v":""},""]
[null,null,null,null,null,null,null,null,{"$f":"IF(A666=\"\",\"\",MAX(I$10:I665)+1)","v":""},""]
[null,null,null,null,null,null,null,null,{"$f":"IF(A667=\"\",\"\",MAX(I$10:I666)+1)","v":""},""]
[null,null,null,null,null,null,null,null,{"$f":"IF(A668=\"\",\"\",MAX(I$10:I667)+1)","v":""},""]
[null,null,null,null,null,null,null,null,{"$f":"IF(A669=\"\",\"\",MAX(I$10:I668)+1)","v":""},""]
[null,null,null,null,"室外側",null,null,null,{"$f":"IF(A670=\"\",\"\",MAX(I$10:I669)+1)","v":""},""]
[null,null,null,null,"室内側",null,null,null,{"$f":"IF(A671=\"\",\"\",MAX(I$10:I670)+1)","v":""},""]
[null,null,null,null,null,null,null,null,{"$f":"IF(A672=\"\",\"\",MAX(I$10:I671)+1)","v":""},""]
[null,null,null,null,null,null,null,null,{"$f":"IF(A673=\"\",\"\",MAX(I$10:I672)+1)","v":""},""]
[null,null,null,null,null,null,null,null,{"$f":"IF(A674=\"\",\"\",MAX(I$10:I673)+1)","v":""},""]
[null,null,null,null,null,null,null,null,{"$f":"IF(A675=\"\",\"\",MAX(I$10:I674)+1)","v":""},""]
[null,null,null,null,null,null,null,null,{"$f":"IF(A676=\"\",\"\",MAX(I$10:I675)+1)","v":""},""]
[null,null,null,null,null,null,null,null,{"$f":"IF(A677=\"\",\"\",MAX(I$10:I676)+1)","v":""},""]
[null,null,null,null,null,null,null,null,{"$f":"IF(A678=\"\",\"\",MAX(I$10:I677)+1)","v":""},""]
[null,null,null,null,null,null,null,null,{"$f":"IF(A679=\"\",\"\",MAX(I$10:I678)+1)","v":""},""]
[null,null,null,null,null,null,null,null,{"$f":"IF(A680=\"\",\"\",MAX(I$10:I679)+1)","v":""},""]
[null,null,null,null,"室外側",null,null,null,{"$f":"IF(A681=\"\",\"\",MAX(I$10:I680)+1)","v":""},""]
[null,null,null,null,"室内側",null,null,null,{"$f":"IF(A682=\"\",\"\",MAX(I$10:I681)+1)","v":""},""]
[null,null,null,null,null,null,null,null,{"$f":"IF(A683=\"\",\"\",MAX(I$10:I682)+1)","v":""},""]
[null,null,null,null,null,null,null,null,{"$f":"IF(A684=\"\",\"\",MAX(I$10:I683)+1)","v":""},""]
[null,null,null,null,null,null,null,null,{"$f":"IF(A685=\"\",\"\",MAX(I$10:I684)+1)","v":""},""]
[null,null,null,null,null,null,null,null,{"$f":"IF(A686=\"\",\"\",MAX(I$10:I685)+1)","v":""},""]
[null,null,null,null,null,null,null,null,{"$f":"IF(A687=\"\",\"\",MAX(I$10:I686)+1)","v":""},""]
[null,null,null,null,null,null,null,null,{"$f":"IF(A688=\"\",\"\",MAX(I$10:I687)+1)","v":""},""]
[null,null,null,null,null,null,null,null,{"$f":"IF(A689=\"\",\"\",MAX(I$10:I688)+1)","v":""},""]
[null,null,null,null,null,null,null,null,{"$f":"IF(A690=\"\",\"\",MAX(I$10:I689)+1)","v":""},""]
[null,null,null,null,null,null,null,null,{"$f":"IF(A691=\"\",\"\",MAX(I$10:I690)+1)","v":""},""]
[null,null,null,null,"室外側",null,null,null,{"$f":"IF(A692=\"\",\"\",MAX(I$10:I691)+1)","v":""},""]
[null,null,null,null,"室内側",null,null,null,{"$f":"IF(A693=\"\",\"\",MAX(I$10:I692)+1)","v":""},""]
[null,null,null,null,null,null,null,null,{"$f":"IF(A694=\"\",\"\",MAX(I$10:I693)+1)","v":""},""]
[null,null,null,null,null,null,null,null,{"$f":"IF(A695=\"\",\"\",MAX(I$10:I694)+1)","v":""},""]
[null,null,null,null,null,null,null,null,{"$f":"IF(A696=\"\",\"\",MAX(I$10:I695)+1)","v":""},""]
[null,null,null,null,null,null,null,null,{"$f":"IF(A697=\"\",\"\",MAX(I$10:I696)+1)","v":""},""]
[null,null,null,null,null,null,null,null,{"$f":"IF(A698=\"\",\"\",MAX(I$10:I697)+1)","v":""},""]
[null,null,null,null,null,null,null,null,{"$f":"IF(A699=\"\",\"\",MAX(I$10:I698)+1)","v":""},""]
[null,null,null,null,null,null,null,null,{"$f":"IF(A700=\"\",\"\",MAX(I$10:I699)+1)","v":""},""]
[null,null,null,null,null,null,null,null,{"$f":"IF(A701=\"\",\"\",MAX(I$10:I700)+1)","v":""},""]
[null,null,null,null,null,null,null,null,{"$f":"IF(A702=\"\",\"\",MAX(I$10:I701)+1)","v":""},""]
[null,null,null,null,"室外側",null,null,null,{"$f":"IF(A703=\"\",\"\",MAX(I$10:I702)+1)","v":""},""]
[null,null,null,null,"室内側",null,null,null,{"$f":"IF(A704=\"\",\"\",MAX(I$10:I703)+1)","v":""},""]
[null,null,null,null,null,null,null,null,{"$f":"IF(A705=\"\",\"\",MAX(I$10:I704)+1)","v":""},""]
[null,null,null,null,null,null,null,null,{"$f":"IF(A706=\"\",\"\",MAX(I$10:I705)+1)","v":""},""]
[null,null,null,null,null,null,null,null,{"$f":"IF(A707=\"\",\"\",MAX(I$10:I706)+1)","v":""},""]
[null,null,null,null,null,null,null,null,{"$f":"IF(A708=\"\",\"\",MAX(I$10:I707)+1)","v":""},""]
[null,null,null,null,null,null,null,null,{"$f":"IF(A709=\"\",\"\",MAX(I$10:I708)+1)","v":""},""]
[null,null,null,null,null,null,null,null,{"$f":"IF(A710=\"\",\"\",MAX(I$10:I709)+1)","v":""},""]
[null,null,null,null,null,null,null,null,{"$f":"IF(A711=\"\",\"\",MAX(I$10:I710)+1)","v":""},""]
[null,null,null,null,null,null,null,null,{"$f":"IF(A712=\"\",\"\",MAX(I$10:I711)+1)","v":""},""]
[null,null,null,null,null,null,null,null,{"$f":"IF(A713=\"\",\"\",MAX(I$10:I712)+1)","v":""},""]
[null,null,null,null,"室外側",null,null,null,{"$f":"IF(A714=\"\",\"\",MAX(I$10:I713)+1)","v":""},""]
[null,null,null,null,"室内側",null,null,null,{"$f":"IF(A715=\"\",\"\",MAX(I$10:I714)+1)","v":""},{"$f":"IFERROR(INDEX($A$11:$A$99922,MATCH(ROW()-10,$I$11:$I$99922,0)),\"\")","v":""}]
[null,null,null,null,null,null,null,null,{"$f":"IF(A716=\"\",\"\",MAX(I$10:I715)+1)","v":""},""]
[null,null,null,null,null,null,null,null,{"$f":"IF(A717=\"\",\"\",MAX(I$10:I716)+1)","v":""},""]
[null,null,null,null,null,null,null,null,{"$f":"IF(A718=\"\",\"\",MAX(I$10:I717)+1)","v":""},""]
[null,null,null,null,null,null,null,null,{"$f":"IF(A719=\"\",\"\",MAX(I$10:I718)+1)","v":""},""]
[null,null,null,null,null,null,null,null,{"$f":"IF(A720=\"\",\"\",MAX(I$10:I719)+1)","v":""},""]
[null,null,null,null,null,null,null,null,{"$f":"IF(A721=\"\",\"\",MAX(I$10:I720)+1)","v":""},""]
[null,null,null,null,null,null,null,null,{"$f":"IF(A722=\"\",\"\",MAX(I$10:I721)+1)","v":""},""]
[null,null,null,null,null,null,null,null,{"$f":"IF(A723=\"\",\"\",MAX(I$10:I722)+1)","v":""},""]
[null,null,null,null,null,null,null,null,{"$f":"IF(A724=\"\",\"\",MAX(I$10:I723)+1)","v":""},""]
[null,null,null,null,"室外側",null,null,null,{"$f":"IF(A725=\"\",\"\",MAX(I$10:I724)+1)","v":""},""]
[null,null,null,null,"室内側",null,null,null,{"$f":"IF(A726=\"\",\"\",MAX(I$10:I725)+1)","v":""},""]
[null,null,null,null,null,null,null,null,{"$f":"IF(A727=\"\",\"\",MAX(I$10:I726)+1)","v":""},""]
[null,null,null,null,null,null,null,null,{"$f":"IF(A728=\"\",\"\",MAX(I$10:I727)+1)","v":""},""]
[null,null,null,null,null,null,null,null,{"$f":"IF(A729=\"\",\"\",MAX(I$10:I728)+1)","v":""},""]
[null,null,null,null,null,null,null,null,{"$f":"IF(A730=\"\",\"\",MAX(I$10:I729)+1)","v":""},""]
[null,null,null,null,null,null,null,null,{"$f":"IF(A731=\"\",\"\",MAX(I$10:I730)+1)","v":""},""]
[null,null,null,null,null,null,null,null,{"$f":"IF(A732=\"\",\"\",MAX(I$10:I731)+1)","v":""},""]
[null,null,null,null,null,null,null,null,{"$f":"IF(A733=\"\",\"\",MAX(I$10:I732)+1)","v":""},""]
[null,null,null,null,null,null,null,null,{"$f":"IF(A734=\"\",\"\",MAX(I$10:I733)+1)","v":""},""]
[null,null,null,null,null,null,null,null,{"$f":"IF(A735=\"\",\"\",MAX(I$10:I734)+1)","v":""},""]
[null,null,null,null,"室外側",null,null,null,{"$f":"IF(A736=\"\",\"\",MAX(I$10:I735)+1)","v":""},""]
[null,null,null,null,"室内側",null,null,null,{"$f":"IF(A737=\"\",\"\",MAX(I$10:I736)+1)","v":""},""]
[null,null,null,null,null,null,null,null,{"$f":"IF(A738=\"\",\"\",MAX(I$10:I737)+1)","v":""},""]
[null,null,null,null,null,null,null,null,{"$f":"IF(A739=\"\",\"\",MAX(I$10:I738)+1)","v":""},""]
[null,null,null,null,null,null,null,null,{"$f":"IF(A740=\"\",\"\",MAX(I$10:I739)+1)","v":""},""]
[null,null,null,null,null,null,null,null,{"$f":"IF(A741=\"\",\"\",MAX(I$10:I740)+1)","v":""},""]
[null,null,null,null,null,null,null,null,{"$f":"IF(A742=\"\",\"\",MAX(I$10:I741)+1)","v":""},""]
[null,null,null,null,null,null,null,null,{"$f":"IF(A743=\"\",\"\",MAX(I$10:I742)+1)","v":""},""]
[null,null,null,null,null,null,null,null,{"$f":"IF(A744=\"\",\"\",MAX(I$10:I743)+1)","v":""},""]
[null,null,null,null,null,null,null,null,{"$f":"IF(A745=\"\",\"\",MAX(I$10:I744)+1)","v":""},""]
[null,null,null,null,null,null,null,null,{"$f":"IF(A746=\"\",\"\",MAX(I$10:I745)+1)","v":""},""]
[null,null,null,null,"室外側",null,null,null,{"$f":"IF(A747=\"\",\"\",MAX(I$10:I746)+1)","v":""},""]
[null,null,null,null,"室内側",null,null,null,{"$f":"IF(A748=\"\",\"\",MAX(I$10:I747)+1)","v":""},""]
[null,null,null,null,null,null,null,null,{"$f":"IF(A749=\"\",\"\",MAX(I$10:I748)+1)","v":""},""]
[null,null,null,null,null,null,null,null,{"$f":"IF(A750=\"\",\"\",MAX(I$10:I749)+1)","v":""},""]
[null,null,null,null,null,null,null,null,{"$f":"IF(A751=\"\",\"\",MAX(I$10:I750)+1)","v":""},""]
[null,null,null,null,null,null,null,null,{"$f":"IF(A752=\"\",\"\",MAX(I$10:I751)+1)","v":""},""]
[null,null,null,null,null,null,null,null,{"$f":"IF(A753=\"\",\"\",MAX(I$10:I752)+1)","v":""},""]
[null,null,null,null,null,null,null,null,{"$f":"IF(A754=\"\",\"\",MAX(I$10:I753)+1)","v":""},""]
[null,null,null,null,null,null,null,null,{"$f":"IF(A755=\"\",\"\",MAX(I$10:I754)+1)","v":""},""]
[null,null,null,null,null,null,null,null,{"$f":"IF(A756=\"\",\"\",MAX(I$10:I755)+1)","v":""},""]
[null,null,null,null,null,null,null,null,{"$f":"IF(A757=\"\",\"\",MAX(I$10:I756)+1)","v":""},""]
[null,null,null,null,"室外側",null,null,null,{"$f":"IF(A758=\"\",\"\",MAX(I$10:I757)+1)","v":""},""]
[null,null,null,null,"室内側",null,null,null,{"$f":"IF(A759=\"\",\"\",MAX(I$10:I758)+1)","v":""},""]
[null,null,null,null,null,null,null,null,{"$f":"IF(A760=\"\",\"\",MAX(I$10:I759)+1)","v":""},""]
[null,null,null,null,null,null,null,null,{"$f":"IF(A761=\"\",\"\",MAX(I$10:I760)+1)","v":""},""]
[null,null,null,null,null,null,null,null,{"$f":"IF(A762=\"\",\"\",MAX(I$10:I761)+1)","v":""},""]
[null,null,null,null,null,null,null,null,{"$f":"IF(A763=\"\",\"\",MAX(I$10:I762)+1)","v":""},""]
[null,null,null,null,null,null,null,null,{"$f":"IF(A764=\"\",\"\",MAX(I$10:I763)+1)","v":""},""]
[null,null,null,null,null,null,null,null,{"$f":"IF(A765=\"\",\"\",MAX(I$10:I764)+1)","v":""},""]
[null,null,null,null,null,null,null,null,{"$f":"IF(A766=\"\",\"\",MAX(I$10:I765)+1)","v":""},""]
[null,null,null,null,null,null,null,null,{"$f":"IF(A767=\"\",\"\",MAX(I$10:I766)+1)","v":""},""]
[null,null,null,null,null,null,null,null,{"$f":"IF(A768=\"\",\"\",MAX(I$10:I767)+1)","v":""},""]
[null,null,null,null,"室外側",null,null,null,{"$f":"IF(A769=\"\",\"\",MAX(I$10:I768)+1)","v":""},""]
[null,null,null,null,"室内側",null,null,null,{"$f":"IF(A770=\"\",\"\",MAX(I$10:I769)+1)","v":""},""]
[null,null,null,null,null,null,null,null,{"$f":"IF(A771=\"\",\"\",MAX(I$10:I770)+1)","v":""},""]
[null,null,null,null,null,null,null,null,{"$f":"IF(A772=\"\",\"\",MAX(I$10:I771)+1)","v":""},""]
[null,null,null,null,null,null,null,null,{"$f":"IF(A773=\"\",\"\",MAX(I$10:I772)+1)","v":""},""]
[null,null,null,null,null,null,null,null,{"$f":"IF(A774=\"\",\"\",MAX(I$10:I773)+1)","v":""},""]
[null,null,null,null,null,null,null,null,{"$f":"IF(A775=\"\",\"\",MAX(I$10:I774)+1)","v":""},""]
[null,null,null,null,null,null,null,null,{"$f":"IF(A776=\"\",\"\",MAX(I$10:I775)+1)","v":""},""]
[null,null,null,null,null,null,null,null,{"$f":"IF(A777=\"\",\"\",MAX(I$10:I776)+1)","v":""},""]
[null,null,null,null,null,null,null,null,{"$f":"IF(A778=\"\",\"\",MAX(I$10:I777)+1)","v":""},""]
[null,null,null,null,null,null,null,null,{"$f":"IF(A779=\"\",\"\",MAX(I$10:I778)+1)","v":""},{"$f":"IFERROR(INDEX($A$11:$A$99922,MATCH(ROW()-10,$I$11:$I$99922,0)),\"\")","v":""}]
[null,null,null,null,"室外側",null,null,null,{"$f":"IF(A780=\"\",\"\",MAX(I$10:I779)+1)","v":""},""]
[null,null,null,null,"室内側",null,null,null,{"$f":"IF(A781=\"\",\"\",MAX(I$10:I780)+1)","v":""},""]
[null,null,null,null,null,null,null,null,{"$f":"IF(A782=\"\",\"\",MAX(I$10:I781)+1)","v":""},""]
[null,null,null,null,null,null,null,null,{"$f":"IF(A783=\"\",\"\",MAX(I$10:I782)+1)","v":""},""]
[null,null,null,null,null,null,null,null,{"$f":"IF(A784=\"\",\"\",MAX(I$10:I783)+1)","v":""},""]
[null,null,null,null,null,null,null,null,{"$f":"IF(A785=\"\",\"\",MAX(I$10:I784)+1)","v":""},""]
[null,null,null,null,null,null,null,null,{"$f":"IF(A786=\"\",\"\",MAX(I$10:I785)+1)","v":""},""]
[null,null,null,null,null,null,null,null,{"$f":"IF(A787=\"\",\"\",MAX(I$10:I786)+1)","v":""},""]
[null,null,null,null,null,null,null,null,{"$f":"IF(A788=\"\",\"\",MAX(I$10:I787)+1)","v":""},""]
[null,null,null,null,null,null,null,null,{"$f":"IF(A789=\"\",\"\",MAX(I$10:I788)+1)","v":""},""]
[null,null,null,null,null,null,null,null,{"$f":"IF(A790=\"\",\"\",MAX(I$10:I789)+1)","v":""},""]
[null,null,null,null,"室外側",null,null,null,{"$f":"IF(A791=\"\",\"\",MAX(I$10:I790)+1)","v":""},""]
[null,null,null,null,"室内側",null,null,null,{"$f":"IF(A792=\"\",\"\",MAX(I$10:I791)+1)","v":""},""]
[null,null,null,null,null,null,null,null,{"$f":"IF(A793=\"\",\"\",MAX(I$10:I792)+1)","v":""},""]
[null,null,null,null,null,null,null,null,{"$f":"IF(A794=\"\",\"\",MAX(I$10:I793)+1)","v":""},""]
[null,null,null,null,null,null,null,null,{"$f":"IF(A795=\"\",\"\",MAX(I$10:I794)+1)","v":""},""]
[null,null,null,null,null,null,null,null,{"$f":"IF(A796=\"\",\"\",MAX(I$10:I795)+1)","v":""},""]
[null,null,null,null,null,null,null,null,{"$f":"IF(A797=\"\",\"\",MAX(I$10:I796)+1)","v":""},""]
[null,null,null,null,null,null,null,null,{"$f":"IF(A798=\"\",\"\",MAX(I$10:I797)+1)","v":""},""]
[null,null,null,null,null,null,null,null,{"$f":"IF(A799=\"\",\"\",MAX(I$10:I798)+1)","v":""},""]
[null,null,null,null,null,null,null,null,{"$f":"IF(A800=\"\",\"\",MAX(I$10:I799)+1)","v":""},""]
[null,null,null,null,null,null,null,null,{"$f":"IF(A801=\"\",\"\",MAX(I$10:I800)+1)","v":""},""]
[null,null,null,null,"室外側",null,null,null,{"$f":"IF(A802=\"\",\"\",MAX(I$10:I801)+1)","v":""},""]
[null,null,null,null,"室内側",null,null,null,{"$f":"IF(A803=\"\",\"\",MAX(I$10:I802)+1)","v":""},""]
[null,null,null,null,null,null,null,null,{"$f":"IF(A804=\"\",\"\",MAX(I$10:I803)+1)","v":""},""]
[null,null,null,null,null,null,null,null,{"$f":"IF(A805=\"\",\"\",MAX(I$10:I804)+1)","v":""},""]
[null,null,null,null,null,null,null,null,{"$f":"IF(A806=\"\",\"\",MAX(I$10:I805)+1)","v":""},""]
[null,null,null,null,null,null,null,null,{"$f":"IF(A807=\"\",\"\",MAX(I$10:I806)+1)","v":""},""]
[null,null,null,null,null,null,null,null,{"$f":"IF(A808=\"\",\"\",MAX(I$10:I807)+1)","v":""},""]
[null,null,null,null,null,null,null,null,{"$f":"IF(A809=\"\",\"\",MAX(I$10:I808)+1)","v":""},""]
[null,null,null,null,null,null,null,null,{"$f":"IF(A810=\"\",\"\",MAX(I$10:I809)+1)","v":""},""]
[null,null,null,null,null,null,null,null,{"$f":"IF(A811=\"\",\"\",MAX(I$10:I810)+1)","v":""},""]
[null,null,null,null,null,null,null,null,{"$f":"IF(A812=\"\",\"\",MAX(I$10:I811)+1)","v":""},""]
[null,null,null,null,"室外側",null,null,null,{"$f":"IF(A813=\"\",\"\",MAX(I$10:I812)+1)","v":""},""]
[null,null,null,null,"室内側",null,null,null,{"$f":"IF(A814=\"\",\"\",MAX(I$10:I813)+1)","v":""},""]
[null,null,null,null,null,null,null,null,{"$f":"IF(A815=\"\",\"\",MAX(I$10:I814)+1)","v":""},""]
[null,null,null,null,null,null,null,null,{"$f":"IF(A816=\"\",\"\",MAX(I$10:I815)+1)","v":""},""]
[null,null,null,null,null,null,null,null,{"$f":"IF(A817=\"\",\"\",MAX(I$10:I816)+1)","v":""},""]
[null,null,null,null,null,null,null,null,{"$f":"IF(A818=\"\",\"\",MAX(I$10:I817)+1)","v":""},""]
[null,null,null,null,null,null,null,null,{"$f":"IF(A819=\"\",\"\",MAX(I$10:I818)+1)","v":""},""]
[null,null,null,null,null,null,null,null,{"$f":"IF(A820=\"\",\"\",MAX(I$10:I819)+1)","v":""},""]
[null,null,null,null,null,null,null,null,{"$f":"IF(A821=\"\",\"\",MAX(I$10:I820)+1)","v":""},""]
[null,null,null,null,null,null,null,null,{"$f":"IF(A822=\"\",\"\",MAX(I$10:I821)+1)","v":""},""]
[null,null,null,null,null,null,null,null,{"$f":"IF(A823=\"\",\"\",MAX(I$10:I822)+1)","v":""},""]
[null,null,null,null,"室外側",null,null,null,{"$f":"IF(A824=\"\",\"\",MAX(I$10:I823)+1)","v":""},""]
[null,null,null,null,"室内側",null,null,null,{"$f":"IF(A825=\"\",\"\",MAX(I$10:I824)+1)","v":""},""]
[null,null,null,null,null,null,null,null,{"$f":"IF(A826=\"\",\"\",MAX(I$10:I825)+1)","v":""},""]
[null,null,null,null,null,null,null,null,{"$f":"IF(A827=\"\",\"\",MAX(I$10:I826)+1)","v":""},""]
[null,null,null,null,null,null,null,null,{"$f":"IF(A828=\"\",\"\",MAX(I$10:I827)+1)","v":""},""]
[null,null,null,null,null,null,null,null,{"$f":"IF(A829=\"\",\"\",MAX(I$10:I828)+1)","v":""},""]
[null,null,null,null,null,null,null,null,{"$f":"IF(A830=\"\",\"\",MAX(I$10:I829)+1)","v":""},""]
[null,null,null,null,null,null,null,null,{"$f":"IF(A831=\"\",\"\",MAX(I$10:I830)+1)","v":""},""]
[null,null,null,null,null,null,null,null,{"$f":"IF(A832=\"\",\"\",MAX(I$10:I831)+1)","v":""},""]
[null,null,null,null,null,null,null,null,{"$f":"IF(A833=\"\",\"\",MAX(I$10:I832)+1)","v":""},""]
[null,null,null,null,null,null,null,null,{"$f":"IF(A834=\"\",\"\",MAX(I$10:I833)+1)","v":""},""]
[null,null,null,null,"室外側",null,null,null,{"$f":"IF(A835=\"\",\"\",MAX(I$10:I834)+1)","v":""},""]
[null,null,null,null,"室内側",null,null,null,{"$f":"IF(A836=\"\",\"\",MAX(I$10:I835)+1)","v":""},""]
[null,null,null,null,null,null,null,null,{"$f":"IF(A837=\"\",\"\",MAX(I$10:I836)+1)","v":""},""]
[null,null,null,null,null,null,null,null,{"$f":"IF(A838=\"\",\"\",MAX(I$10:I837)+1)","v":""},""]
[null,null,null,null,null,null,null,null,{"$f":"IF(A839=\"\",\"\",MAX(I$10:I838)+1)","v":""},""]
[null,null,null,null,null,null,null,null,{"$f":"IF(A840=\"\",\"\",MAX(I$10:I839)+1)","v":""},""]
[null,null,null,null,null,null,null,null,{"$f":"IF(A841=\"\",\"\",MAX(I$10:I840)+1)","v":""},""]
[null,null,null,null,null,null,null,null,{"$f":"IF(A842=\"\",\"\",MAX(I$10:I841)+1)","v":""},""]
[null,null,null,null,null,null,null,null,{"$f":"IF(A843=\"\",\"\",MAX(I$10:I842)+1)","v":""},{"$f":"IFERROR(INDEX($A$11:$A$99922,MATCH(ROW()-10,$I$11:$I$99922,0)),\"\")","v":""}]
[null,null,null,null,null,null,null,null,{"$f":"IF(A844=\"\",\"\",MAX(I$10:I843)+1)","v":""},""]
[null,null,null,null,null,null,null,null,{"$f":"IF(A845=\"\",\"\",MAX(I$10:I844)+1)","v":""},""]
[null,null,null,null,"室外側",null,null,null,{"$f":"IF(A846=\"\",\"\",MAX(I$10:I845)+1)","v":""},""]
[null,null,null,null,"室内側",null,null,null,{"$f":"IF(A847=\"\",\"\",MAX(I$10:I846)+1)","v":""},""]
[null,null,null,null,null,null,null,null,{"$f":"IF(A848=\"\",\"\",MAX(I$10:I847)+1)","v":""},""]
[null,null,null,null,null,null,null,null,{"$f":"IF(A849=\"\",\"\",MAX(I$10:I848)+1)","v":""},""]
[null,null,null,null,null,null,null,null,{"$f":"IF(A850=\"\",\"\",MAX(I$10:I849)+1)","v":""},""]
[null,null,null,null,null,null,null,null,{"$f":"IF(A851=\"\",\"\",MAX(I$10:I850)+1)","v":""},""]
[null,null,null,null,null,null,null,null,{"$f":"IF(A852=\"\",\"\",MAX(I$10:I851)+1)","v":""},""]
[null,null,null,null,null,null,null,null,{"$f":"IF(A853=\"\",\"\",MAX(I$10:I852)+1)","v":""},""]
[null,null,null,null,null,null,null,null,{"$f":"IF(A854=\"\",\"\",MAX(I$10:I853)+1)","v":""},""]
[null,null,null,null,null,null,null,null,{"$f":"IF(A855=\"\",\"\",MAX(I$10:I854)+1)","v":""},""]
[null,null,null,null,null,null,null,null,{"$f":"IF(A856=\"\",\"\",MAX(I$10:I855)+1)","v":""},""]
[null,null,null,null,"室外側",null,null,null,{"$f":"IF(A857=\"\",\"\",MAX(I$10:I856)+1)","v":""},""]
[null,null,null,null,"室内側",null,null,null,{"$f":"IF(A858=\"\",\"\",MAX(I$10:I857)+1)","v":""},""]
[null,null,null,null,null,null,null,null,{"$f":"IF(A859=\"\",\"\",MAX(I$10:I858)+1)","v":""},""]
[null,null,null,null,null,null,null,null,{"$f":"IF(A860=\"\",\"\",MAX(I$10:I859)+1)","v":""},""]
[null,null,null,null,null,null,null,null,{"$f":"IF(A861=\"\",\"\",MAX(I$10:I860)+1)","v":""},""]
[null,null,null,null,null,null,null,null,{"$f":"IF(A862=\"\",\"\",MAX(I$10:I861)+1)","v":""},""]
[null,null,null,null,null,null,null,null,{"$f":"IF(A863=\"\",\"\",MAX(I$10:I862)+1)","v":""},""]
[null,null,null,null,null,null,null,null,{"$f":"IF(A864=\"\",\"\",MAX(I$10:I863)+1)","v":""},""]
[null,null,null,null,null,null,null,null,{"$f":"IF(A865=\"\",\"\",MAX(I$10:I864)+1)","v":""},""]
[null,null,null,null,null,null,null,null,{"$f":"IF(A866=\"\",\"\",MAX(I$10:I865)+1)","v":""},""]
[null,null,null,null,null,null,null,null,{"$f":"IF(A867=\"\",\"\",MAX(I$10:I866)+1)","v":""},""]
[null,null,null,null,"室外側",null,null,null,{"$f":"IF(A868=\"\",\"\",MAX(I$10:I867)+1)","v":""},""]
[null,null,null,null,"室内側",null,null,null,{"$f":"IF(A869=\"\",\"\",MAX(I$10:I868)+1)","v":""},""]
[null,null,null,null,null,null,null,null,{"$f":"IF(A870=\"\",\"\",MAX(I$10:I869)+1)","v":""},""]
[null,null,null,null,null,null,null,null,{"$f":"IF(A871=\"\",\"\",MAX(I$10:I870)+1)","v":""},""]
[null,null,null,null,null,null,null,null,{"$f":"IF(A872=\"\",\"\",MAX(I$10:I871)+1)","v":""},""]
[null,null,null,null,null,null,null,null,{"$f":"IF(A873=\"\",\"\",MAX(I$10:I872)+1)","v":""},""]
[null,null,null,null,null,null,null,null,{"$f":"IF(A874=\"\",\"\",MAX(I$10:I873)+1)","v":""},""]
[null,null,null,null,null,null,null,null,{"$f":"IF(A875=\"\",\"\",MAX(I$10:I874)+1)","v":""},""]
[null,null,null,null,null,null,null,null,{"$f":"IF(A876=\"\",\"\",MAX(I$10:I875)+1)","v":""},""]
[null,null,null,null,null,null,null,null,{"$f":"IF(A877=\"\",\"\",MAX(I$10:I876)+1)","v":""},""]
[null,null,null,null,null,null,null,null,{"$f":"IF(A878=\"\",\"\",MAX(I$10:I877)+1)","v":""},""]
[null,null,null,null,"室外側",null,null,null,{"$f":"IF(A879=\"\",\"\",MAX(I$10:I878)+1)","v":""},""]
[null,null,null,null,"室内側",null,null,null,{"$f":"IF(A880=\"\",\"\",MAX(I$10:I879)+1)","v":""},""]
[null,null,null,null,null,null,null,null,{"$f":"IF(A881=\"\",\"\",MAX(I$10:I880)+1)","v":""},""]
[null,null,null,null,null,null,null,null,{"$f":"IF(A882=\"\",\"\",MAX(I$10:I881)+1)","v":""},""]
[null,null,null,null,null,null,null,null,{"$f":"IF(A883=\"\",\"\",MAX(I$10:I882)+1)","v":""},""]
[null,null,null,null,null,null,null,null,{"$f":"IF(A884=\"\",\"\",MAX(I$10:I883)+1)","v":""},""]
[null,null,null,null,null,null,null,null,{"$f":"IF(A885=\"\",\"\",MAX(I$10:I884)+1)","v":""},""]
[null,null,null,null,null,null,null,null,{"$f":"IF(A886=\"\",\"\",MAX(I$10:I885)+1)","v":""},""]
[null,null,null,null,null,null,null,null,{"$f":"IF(A887=\"\",\"\",MAX(I$10:I886)+1)","v":""},""]
[null,null,null,null,null,null,null,null,{"$f":"IF(A888=\"\",\"\",MAX(I$10:I887)+1)","v":""},""]
[null,null,null,null,null,null,null,null,{"$f":"IF(A889=\"\",\"\",MAX(I$10:I888)+1)","v":""},""]
[null,null,null,null,"室外側",null,null,null,{"$f":"IF(A890=\"\",\"\",MAX(I$10:I889)+1)","v":""},""]
[null,null,null,null,"室内側",null,null,null,{"$f":"IF(A891=\"\",\"\",MAX(I$10:I890)+1)","v":""},""]
[null,null,null,null,null,null,null,null,{"$f":"IF(A892=\"\",\"\",MAX(I$10:I891)+1)","v":""},""]
[null,null,null,null,null,null,null,null,{"$f":"IF(A893=\"\",\"\",MAX(I$10:I892)+1)","v":""},""]
[null,null,null,null,null,null,null,null,{"$f":"IF(A894=\"\",\"\",MAX(I$10:I893)+1)","v":""},""]
[null,null,null,null,null,null,null,null,{"$f":"IF(A895=\"\",\"\",MAX(I$10:I894)+1)","v":""},""]
[null,null,null,null,null,null,null,null,{"$f":"IF(A896=\"\",\"\",MAX(I$10:I895)+1)","v":""},""]
[null,null,null,null,null,null,null,null,{"$f":"IF(A897=\"\",\"\",MAX(I$10:I896)+1)","v":""},""]
[null,null,null,null,null,null,null,null,{"$f":"IF(A898=\"\",\"\",MAX(I$10:I897)+1)","v":""},""]
[null,null,null,null,null,null,null,null,{"$f":"IF(A899=\"\",\"\",MAX(I$10:I898)+1)","v":""},""]
[null,null,null,null,null,null,null,null,{"$f":"IF(A900=\"\",\"\",MAX(I$10:I899)+1)","v":""},""]
[null,null,null,null,"室外側",null,null,null,{"$f":"IF(A901=\"\",\"\",MAX(I$10:I900)+1)","v":""},""]
[null,null,null,null,"室内側",null,null,null,{"$f":"IF(A902=\"\",\"\",MAX(I$10:I901)+1)","v":""},""]
[null,null,null,null,null,null,null,null,{"$f":"IF(A903=\"\",\"\",MAX(I$10:I902)+1)","v":""},""]
[null,null,null,null,null,null,null,null,{"$f":"IF(A904=\"\",\"\",MAX(I$10:I903)+1)","v":""},""]
[null,null,null,null,null,null,null,null,{"$f":"IF(A905=\"\",\"\",MAX(I$10:I904)+1)","v":""},""]
[null,null,null,null,null,null,null,null,{"$f":"IF(A906=\"\",\"\",MAX(I$10:I905)+1)","v":""},""]
[null,null,null,null,null,null,null,null,{"$f":"IF(A907=\"\",\"\",MAX(I$10:I906)+1)","v":""},{"$f":"IFERROR(INDEX($A$11:$A$99922,MATCH(ROW()-10,$I$11:$I$99922,0)),\"\")","v":""}]
[null,null,null,null,null,null,null,null,{"$f":"IF(A908=\"\",\"\",MAX(I$10:I907)+1)","v":""},""]
[null,null,null,null,null,null,null,null,{"$f":"IF(A909=\"\",\"\",MAX(I$10:I908)+1)","v":""},""]
[null,null,null,null,null,null,null,null,{"$f":"IF(A910=\"\",\"\",MAX(I$10:I909)+1)","v":""},""]
[null,null,null,null,null,null,null,null,{"$f":"IF(A911=\"\",\"\",MAX(I$10:I910)+1)","v":""},""]
[null,null,null,null,"室外側",null,null,null,{"$f":"IF(A912=\"\",\"\",MAX(I$10:I911)+1)","v":""},""]
[null,null,null,null,"室内側",null,null,null,{"$f":"IF(A913=\"\",\"\",MAX(I$10:I912)+1)","v":""},""]
[null,null,null,null,null,null,null,null,{"$f":"IF(A914=\"\",\"\",MAX(I$10:I913)+1)","v":""},""]
[null,null,null,null,null,null,null,null,{"$f":"IF(A915=\"\",\"\",MAX(I$10:I914)+1)","v":""},""]
[null,null,null,null,null,null,null,null,{"$f":"IF(A916=\"\",\"\",MAX(I$10:I915)+1)","v":""},""]
[null,null,null,null,null,null,null,null,{"$f":"IF(A917=\"\",\"\",MAX(I$10:I916)+1)","v":""},""]
[null,null,null,null,null,null,null,null,{"$f":"IF(A918=\"\",\"\",MAX(I$10:I917)+1)","v":""},""]
[null,null,null,null,null,null,null,null,{"$f":"IF(A919=\"\",\"\",MAX(I$10:I918)+1)","v":""},""]
[null,null,null,null,null,null,null,null,{"$f":"IF(A920=\"\",\"\",MAX(I$10:I919)+1)","v":""},""]
[null,null,null,null,null,null,null,null,{"$f":"IF(A921=\"\",\"\",MAX(I$10:I920)+1)","v":""},""]
[null,null,null,null,null,null,null,null,{"$f":"IF(A922=\"\",\"\",MAX(I$10:I921)+1)","v":""},""]
[null,null,null,null,"室外側",null,null,null,{"$f":"IF(A923=\"\",\"\",MAX(I$10:I922)+1)","v":""},""]
[null,null,null,null,"室内側",null,null,null,{"$f":"IF(A924=\"\",\"\",MAX(I$10:I923)+1)","v":""},""]
[null,null,null,null,null,null,null,null,{"$f":"IF(A925=\"\",\"\",MAX(I$10:I924)+1)","v":""},""]
[null,null,null,null,null,null,null,null,{"$f":"IF(A926=\"\",\"\",MAX(I$10:I925)+1)","v":""},""]
[null,null,null,null,null,null,null,null,{"$f":"IF(A927=\"\",\"\",MAX(I$10:I926)+1)","v":""},""]
[null,null,null,null,null,null,null,null,{"$f":"IF(A928=\"\",\"\",MAX(I$10:I927)+1)","v":""},""]
[null,null,null,null,null,null,null,null,{"$f":"IF(A929=\"\",\"\",MAX(I$10:I928)+1)","v":""},""]
[null,null,null,null,null,null,null,null,{"$f":"IF(A930=\"\",\"\",MAX(I$10:I929)+1)","v":""},""]
[null,null,null,null,null,null,null,null,{"$f":"IF(A931=\"\",\"\",MAX(I$10:I930)+1)","v":""},""]
[null,null,null,null,null,null,null,null,{"$f":"IF(A932=\"\",\"\",MAX(I$10:I931)+1)","v":""},""]
[null,null,null,null,null,null,null,null,{"$f":"IF(A933=\"\",\"\",MAX(I$10:I932)+1)","v":""},""]
[null,null,null,null,"室外側",null,null,null,{"$f":"IF(A934=\"\",\"\",MAX(I$10:I933)+1)","v":""},""]
[null,null,null,null,"室内側",null,null,null,{"$f":"IF(A935=\"\",\"\",MAX(I$10:I934)+1)","v":""},""]
[null,null,null,null,null,null,null,null,{"$f":"IF(A936=\"\",\"\",MAX(I$10:I935)+1)","v":""},""]
[null,null,null,null,null,null,null,null,{"$f":"IF(A937=\"\",\"\",MAX(I$10:I936)+1)","v":""},""]
[null,null,null,null,null,null,null,null,{"$f":"IF(A938=\"\",\"\",MAX(I$10:I937)+1)","v":""},""]
[null,null,null,null,null,null,null,null,{"$f":"IF(A939=\"\",\"\",MAX(I$10:I938)+1)","v":""},""]
[null,null,null,null,null,null,null,null,{"$f":"IF(A940=\"\",\"\",MAX(I$10:I939)+1)","v":""},""]
[null,null,null,null,null,null,null,null,{"$f":"IF(A941=\"\",\"\",MAX(I$10:I940)+1)","v":""},""]
[null,null,null,null,null,null,null,null,{"$f":"IF(A942=\"\",\"\",MAX(I$10:I941)+1)","v":""},""]
[null,null,null,null,null,null,null,null,{"$f":"IF(A943=\"\",\"\",MAX(I$10:I942)+1)","v":""},""]
[null,null,null,null,null,null,null,null,{"$f":"IF(A944=\"\",\"\",MAX(I$10:I943)+1)","v":""},""]
[null,null,null,null,"室外側",null,null,null,{"$f":"IF(A945=\"\",\"\",MAX(I$10:I944)+1)","v":""},""]
[null,null,null,null,"室内側",null,null,null,{"$f":"IF(A946=\"\",\"\",MAX(I$10:I945)+1)","v":""},""]
[null,null,null,null,null,null,null,null,{"$f":"IF(A947=\"\",\"\",MAX(I$10:I946)+1)","v":""},""]
[null,null,null,null,null,null,null,null,{"$f":"IF(A948=\"\",\"\",MAX(I$10:I947)+1)","v":""},""]
[null,null,null,null,null,null,null,null,{"$f":"IF(A949=\"\",\"\",MAX(I$10:I948)+1)","v":""},""]
[null,null,null,null,null,null,null,null,{"$f":"IF(A950=\"\",\"\",MAX(I$10:I949)+1)","v":""},""]
[null,null,null,null,null,null,null,null,{"$f":"IF(A951=\"\",\"\",MAX(I$10:I950)+1)","v":""},""]
[null,null,null,null,null,null,null,null,{"$f":"IF(A952=\"\",\"\",MAX(I$10:I951)+1)","v":""},""]
[null,null,null,null,null,null,null,null,{"$f":"IF(A953=\"\",\"\",MAX(I$10:I952)+1)","v":""},""]
[null,null,null,null,null,null,null,null,{"$f":"IF(A954=\"\",\"\",MAX(I$10:I953)+1)","v":""},""]
[null,null,null,null,null,null,null,null,{"$f":"IF(A955=\"\",\"\",MAX(I$10:I954)+1)","v":""},""]
[null,null,null,null,"室外側",null,null,null,{"$f":"IF(A956=\"\",\"\",MAX(I$10:I955)+1)","v":""},""]
[null,null,null,null,"室内側",null,null,null,{"$f":"IF(A957=\"\",\"\",MAX(I$10:I956)+1)","v":""},""]
[null,null,null,null,null,null,null,null,{"$f":"IF(A958=\"\",\"\",MAX(I$10:I957)+1)","v":""},""]
[null,null,null,null,null,null,null,null,{"$f":"IF(A959=\"\",\"\",MAX(I$10:I958)+1)","v":""},""]
[null,null,null,null,null,null,null,null,{"$f":"IF(A960=\"\",\"\",MAX(I$10:I959)+1)","v":""},""]
[null,null,null,null,null,null,null,null,{"$f":"IF(A961=\"\",\"\",MAX(I$10:I960)+1)","v":""},""]
[null,null,null,null,null,null,null,null,{"$f":"IF(A962=\"\",\"\",MAX(I$10:I961)+1)","v":""},""]
[null,null,null,null,null,null,null,null,{"$f":"IF(A963=\"\",\"\",MAX(I$10:I962)+1)","v":""},""]
[null,null,null,null,null,null,null,null,{"$f":"IF(A964=\"\",\"\",MAX(I$10:I963)+1)","v":""},""]
[null,null,null,null,null,null,null,null,{"$f":"IF(A965=\"\",\"\",MAX(I$10:I964)+1)","v":""},""]
[null,null,null,null,null,null,null,null,{"$f":"IF(A966=\"\",\"\",MAX(I$10:I965)+1)","v":""},""]
[null,null,null,null,"室外側",null,null,null,{"$f":"IF(A967=\"\",\"\",MAX(I$10:I966)+1)","v":""},""]
[null,null,null,null,"室内側",null,null,null,{"$f":"IF(A968=\"\",\"\",MAX(I$10:I967)+1)","v":""},""]
[null,null,null,null,null,null,null,null,{"$f":"IF(A969=\"\",\"\",MAX(I$10:I968)+1)","v":""},""]
[null,null,null,null,null,null,null,null,{"$f":"IF(A970=\"\",\"\",MAX(I$10:I969)+1)","v":""},""]
[null,null,null,null,null,null,null,null,{"$f":"IF(A971=\"\",\"\",MAX(I$10:I970)+1)","v":""},{"$f":"IFERROR(INDEX($A$11:$A$99922,MATCH(ROW()-10,$I$11:$I$99922,0)),\"\")","v":""}]
[null,null,null,null,null,null,null,null,{"$f":"IF(A972=\"\",\"\",MAX(I$10:I971)+1)","v":""},""]
[null,null,null,null,null,null,null,null,{"$f":"IF(A973=\"\",\"\",MAX(I$10:I972)+1)","v":""},""]
[null,null,null,null,null,null,null,null,{"$f":"IF(A974=\"\",\"\",MAX(I$10:I973)+1)","v":""},""]
[null,null,null,null,null,null,null,null,{"$f":"IF(A975=\"\",\"\",MAX(I$10:I974)+1)","v":""},""]
[null,null,null,null,null,null,null,null,{"$f":"IF(A976=\"\",\"\",MAX(I$10:I975)+1)","v":""},""]
[null,null,null,null,null,null,null,null,{"$f":"IF(A977=\"\",\"\",MAX(I$10:I976)+1)","v":""},""]
[null,null,null,null,"室外側",null,null,null,{"$f":"IF(A978=\"\",\"\",MAX(I$10:I977)+1)","v":""},""]
[null,null,null,null,"室内側",null,null,null,{"$f":"IF(A979=\"\",\"\",MAX(I$10:I978)+1)","v":""},""]
[null,null,null,null,null,null,null,null,{"$f":"IF(A980=\"\",\"\",MAX(I$10:I979)+1)","v":""},""]
[null,null,null,null,null,null,null,null,{"$f":"IF(A981=\"\",\"\",MAX(I$10:I980)+1)","v":""},""]
[null,null,null,null,null,null,null,null,{"$f":"IF(A982=\"\",\"\",MAX(I$10:I981)+1)","v":""},""]
[null,null,null,null,null,null,null,null,{"$f":"IF(A983=\"\",\"\",MAX(I$10:I982)+1)","v":""},""]
[null,null,null,null,null,null,null,null,{"$f":"IF(A984=\"\",\"\",MAX(I$10:I983)+1)","v":""},""]
[null,null,null,null,null,null,null,null,{"$f":"IF(A985=\"\",\"\",MAX(I$10:I984)+1)","v":""},""]
[null,null,null,null,null,null,null,null,{"$f":"IF(A986=\"\",\"\",MAX(I$10:I985)+1)","v":""},""]
[null,null,null,null,null,null,null,null,{"$f":"IF(A987=\"\",\"\",MAX(I$10:I986)+1)","v":""},""]
[null,null,null,null,null,null,null,null,{"$f":"IF(A988=\"\",\"\",MAX(I$10:I987)+1)","v":""},""]
[null,null,null,null,"室外側",null,null,null,{"$f":"IF(A989=\"\",\"\",MAX(I$10:I988)+1)","v":""},""]
[null,null,null,null,"室内側",null,null,null,{"$f":"IF(A990=\"\",\"\",MAX(I$10:I989)+1)","v":""},""]
[null,null,null,null,null,null,null,null,{"$f":"IF(A991=\"\",\"\",MAX(I$10:I990)+1)","v":""},""]
[null,null,null,null,null,null,null,null,{"$f":"IF(A992=\"\",\"\",MAX(I$10:I991)+1)","v":""},""]
[null,null,null,null,null,null,null,null,{"$f":"IF(A993=\"\",\"\",MAX(I$10:I992)+1)","v":""},""]
[null,null,null,null,null,null,null,null,{"$f":"IF(A994=\"\",\"\",MAX(I$10:I993)+1)","v":""},""]
[null,null,null,null,null,null,null,null,{"$f":"IF(A995=\"\",\"\",MAX(I$10:I994)+1)","v":""},""]
[null,null,null,null,null,null,null,null,{"$f":"IF(A996=\"\",\"\",MAX(I$10:I995)+1)","v":""},""]
[null,null,null,null,null,null,null,null,{"$f":"IF(A997=\"\",\"\",MAX(I$10:I996)+1)","v":""},""]
[null,null,null,null,null,null,null,null,{"$f":"IF(A998=\"\",\"\",MAX(I$10:I997)+1)","v":""},""]
[null,null,null,null,null,null,null,null,{"$f":"IF(A999=\"\",\"\",MAX(I$10:I998)+1)","v":""},""]
[null,null,null,null,"室外側",null,null,null,{"$f":"IF(A1000=\"\",\"\",MAX(I$10:I999)+1)","v":""},""]

{"sheet":"2-3) 窓仕様","index":6,"n_rows":1010,"n_cols":11,"rows_kept":1010,"cut":false,"hidden":false,"merged":[[2,3,2,6],[3,4,3,6]]}
[{"$f":"様式一覧!A6","v":"様式 2-3. (空調)窓仕様入力シート"}]
[]
["①","②","③","窓（ガラス＋建具）の性能",null,null,null,"⑧"]
[null,null,null,"④","ガラスの性能"]
["開口部名称","窓の","窓の",null,"⑤","⑥","⑦","備考"]
[]
[null,"熱貫流率","日射熱取得率","建具の種類","ガラスの種類","熱貫流率","日射熱取得率"]
[null,null,null,null,null,"[W/(㎡･K)]","[-]"]
[null,"[W/㎡K]","[-]","（選択）","（選択）","（入力）","（入力）"]
[null,null,null,null,null,null,null,null,null,null,"Window Heat Transfer Performance List"]
["窓",4,0.5,null,null,null,null,null,{"$f":"IF(A11=\"\",\"\",MAX(I$10:I10)+1)","v":1},{"$f":"IFERROR(INDEX($A$11:$A$100000,MATCH(ROW()-10,$I$11:$I$100000,0)),\"\")","v":"窓"},"3WgG06"]
[null,null,null,null,null,null,null,null,{"$f":"IF(A12=\"\",\"\",MAX(I$10:I11)+1)","v":""},{"$f":"IFERROR(INDEX($A$11:$A$100000,MATCH(ROW()-10,$I$11:$I$100000,0)),\"\")","v":""},"3WgG07"]
[null,null,null,null,null,null,null,null,{"$f":"IF(A13=\"\",\"\",MAX(I$10:I12)+1)","v":""},"","3WgG08"]
[null,null,null,null,null,null,null,null,{"$f":"IF(A14=\"\",\"\",MAX(I$10:I13)+1)","v":""},"","3WgG09"]
[null,null,null,null,null,null,null,null,{"$f":"IF(A15=\"\",\"\",MAX(I$10:I14)+1)","v":""},"","3WgG10"]
[null,null,null,null,null,null,null,null,{"$f":"IF(A16=\"\",\"\",MAX(I$10:I15)+1)","v":""},"","3WgG11"]
[null,null,null,null,null,null,null,null,{"$f":"IF(A17=\"\",\"\",MAX(I$10:I16)+1)","v":""},"","3WgG12"]
[null,null,null,null,null,null,null,null,{"$f":"IF(A18=\"\",\"\",MAX(I$10:I17)+1)","v":""},"","3WgG13"]
[null,null,null,null,null,null,null,null,{"$f":"IF(A19=\"\",\"\",MAX(I$10:I18)+1)","v":""},"","3WgG14"]
[null,null,null,null,null,null,null,null,{"$f":"IF(A20=\"\",\"\",MAX(I$10:I19)+1)","v":""},"","3WgG15"]
[null,null,null,null,null,null,null,null,{"$f":"IF(A21=\"\",\"\",MAX(I$10:I20)+1)","v":""},"","3WgG16"]
[null,null,null,null,null,null,null,null,{"$f":"IF(A22=\"\",\"\",MAX(I$10:I21)+1)","v":""},"","3WsG06"]
[null,null,null,null,null,null,null,null,{"$f":"IF(A23=\"\",\"\",MAX(I$10:I22)+1)","v":""},"","3WsG07"]
[null,null,null,null,null,null,null,null,{"$f":"IF(A24=\"\",\"\",MAX(I$10:I23)+1)","v":""},"","3WsG08"]
[null,null,null,null,null,null,null,null,{"$f":"IF(A25=\"\",\"\",MAX(I$10:I24)+1)","v":""},"","3WsG09"]
[null,null,null,null,null,null,null,null,{"$f":"IF(A26=\"\",\"\",MAX(I$10:I25)+1)","v":""},"","3WsG10"]
[null,null,null,null,null,null,null,null,{"$f":"IF(A27=\"\",\"\",MAX(I$10:I26)+1)","v":""},"","3WsG11"]
[null,null,null,null,null,null,null,null,{"$f":"IF(A28=\"\",\"\",MAX(I$10:I27)+1)","v":""},"","3WsG12"]
[null,null,null,null,null,null,null,null,{"$f":"IF(A29=\"\",\"\",MAX(I$10:I28)+1)","v":""},"","3WsG13"]
[null,null,null,null,null,null,null,null,{"$f":"IF(A30=\"\",\"\",MAX(I$10:I29)+1)","v":""},"","3WsG14"]
[null,null,null,null,null,null,null,null,{"$f":"IF(A31=\"\",\"\",MAX(I$10:I30)+1)","v":""},"","3WsG15"]
[null,null,null,null,null,null,null,null,{"$f":"IF(A32=\"\",\"\",MAX(I$10:I31)+1)","v":""},"","3WsG16"]
[null,null,null,null,null,null,null,null,{"$f":"IF(A33=\"\",\"\",MAX(I$10:I32)+1)","v":""},"","3WgA06"]
[null,null,null,null,null,null,null,null,{"$f":"IF(A34=\"\",\"\",MAX(I$10:I33)+1)","v":""},"","3WgA07"]
[null,null,null,null,null,null,null,null,{"$f":"IF(A35=\"\",\"\",MAX(I$10:I34)+1)","v":""},"","3WgA08"]
[null,null,null,null,null,null,null,null,{"$f":"IF(A36=\"\",\"\",MAX(I$10:I35)+1)","v":""},"","3WgA09"]
[null,null,null,null,null,null,null,null,{"$f":"IF(A37=\"\",\"\",MAX(I$10:I36)+1)","v":""},"","3WgA10"]
[null,null,null,null,null,null,null,null,{"$f":"IF(A38=\"\",\"\",MAX(I$10:I37)+1)","v":""},"","3WgA11"]
[null,null,null,null,null,null,null,null,{"$f":"IF(A39=\"\",\"\",MAX(I$10:I38)+1)","v":""},"","3WgA12"]
[null,null,null,null,null,null,null,null,{"$f":"IF(A40=\"\",\"\",MAX(I$10:I39)+1)","v":""},"","3WgA13"]
[null,null,null,null,null,null,null,null,{"$f":"IF(A41=\"\",\"\",MAX(I$10:I40)+1)","v":""},"","3WgA14"]
[null,null,null,null,null,null,null,null,{"$f":"IF(A42=\"\",\"\",MAX(I$10:I41)+1)","v":""},"","3WgA15"]
[null,null,null,null,null,null,null,null,{"$f":"IF(A43=\"\",\"\",MAX(I$10:I42)+1)","v":""},"","3WgA16"]
[null,null,null,null,null,null,null,null,{"$f":"IF(A44=\"\",\"\",MAX(I$10:I43)+1)","v":""},"","3WsA06"]
[null,null,null,null,null,null,null,null,{"$f":"IF(A45=\"\",\"\",MAX(I$10:I44)+1)","v":""},"","3WsA07"]
[null,null,null,null,null,null,null,null,{"$f":"IF(A46=\"\",\"\",MAX(I$10:I45)+1)","v":""},"","3WsA08"]
[null,null,null,null,null,null,null,null,{"$f":"IF(A47=\"\",\"\",MAX(I$10:I46)+1)","v":""},"","3WsA09"]
[null,null,null,null,null,null,null,null,{"$f":"IF(A48=\"\",\"\",MAX(I$10:I47)+1)","v":""},"","3WsA10"]
[null,null,null,null,null,null,null,null,{"$f":"IF(A49=\"\",\"\",MAX(I$10:I48)+1)","v":""},"","3WsA11"]
[null,null,null,null,null,null,null,null,{"$f":"IF(A50=\"\",\"\",MAX(I$10:I49)+1)","v":""},"","3WsA12"]
[null,null,null,null,null,null,null,null,{"$f":"IF(A51=\"\",\"\",MAX(I$10:I50)+1)","v":""},"","3WsA13"]
[null,null,null,null,null,null,null,null,{"$f":"IF(A52=\"\",\"\",MAX(I$10:I51)+1)","v":""},"","3WsA14"]
[null,null,null,null,null,null,null,null,{"$f":"IF(A53=\"\",\"\",MAX(I$10:I52)+1)","v":""},"","3WsA15"]
[null,null,null,null,null,null,null,null,{"$f":"IF(A54=\"\",\"\",MAX(I$10:I53)+1)","v":""},"","3WsA16"]
[null,null,null,null,null,null,null,null,{"$f":"IF(A55=\"\",\"\",MAX(I$10:I54)+1)","v":""},"","3LgG06"]
[null,null,null,null,null,null,null,null,{"$f":"IF(A56=\"\",\"\",MAX(I$10:I55)+1)","v":""},"","3LgG07"]
[null,null,null,null,null,null,null,null,{"$f":"IF(A57=\"\",\"\",MAX(I$10:I56)+1)","v":""},"","3LgG08"]
[null,null,null,null,null,null,null,null,{"$f":"IF(A58=\"\",\"\",MAX(I$10:I57)+1)","v":""},"","3LgG09"]
[null,null,null,null,null,null,null,null,{"$f":"IF(A59=\"\",\"\",MAX(I$10:I58)+1)","v":""},"","3LgG10"]
[null,null,null,null,null,null,null,null,{"$f":"IF(A60=\"\",\"\",MAX(I$10:I59)+1)","v":""},"","3LgG11"]
[null,null,null,null,null,null,null,null,{"$f":"IF(A61=\"\",\"\",MAX(I$10:I60)+1)","v":""},"","3LgG12"]
[null,null,null,null,null,null,null,null,{"$f":"IF(A62=\"\",\"\",MAX(I$10:I61)+1)","v":""},"","3LgG13"]
[null,null,null,null,null,null,null,null,{"$f":"IF(A63=\"\",\"\",MAX(I$10:I62)+1)","v":""},"","3LgG14"]
[null,null,null,null,null,null,null,null,{"$f":"IF(A64=\"\",\"\",MAX(I$10:I63)+1)","v":""},"","3LgG15"]
[null,null,null,null,null,null,null,null,{"$f":"IF(A65=\"\",\"\",MAX(I$10:I64)+1)","v":""},"","3LgG16"]
[null,null,null,null,null,null,null,null,{"$f":"IF(A66=\"\",\"\",MAX(I$10:I65)+1)","v":""},"","3LsG06"]
[null,null,null,null,null,null,null,null,{"$f":"IF(A67=\"\",\"\",MAX(I$10:I66)+1)","v":""},"","3LsG07"]
[null,null,null,null,null,null,null,null,{"$f":"IF(A68=\"\",\"\",MAX(I$10:I67)+1)","v":""},"","3LsG08"]
[null,null,null,null,null,null,null,null,{"$f":"IF(A69=\"\",\"\",MAX(I$10:I68)+1)","v":""},"","3LsG09"]
[null,null,null,null,null,null,null,null,{"$f":"IF(A70=\"\",\"\",MAX(I$10:I69)+1)","v":""},"","3LsG10"]
[null,null,null,null,null,null,null,null,{"$f":"IF(A71=\"\",\"\",MAX(I$10:I70)+1)","v":""},"","3LsG11"]
[null,null,null,null,null,null,null,null,{"$f":"IF(A72=\"\",\"\",MAX(I$10:I71)+1)","v":""},"","3LsG12"]
[null,null,null,null,null,null,null,null,{"$f":"IF(A73=\"\",\"\",MAX(I$10:I72)+1)","v":""},"","3LsG13"]
[null,null,null,null,null,null,null,null,{"$f":"IF(A74=\"\",\"\",MAX(I$10:I73)+1)","v":""},"","3LsG14"]
[null,null,null,null,null,null,null,null,{"$f":"IF(A75=\"\",\"\",MAX(I$10:I74)+1)","v":""},"","3LsG15"]
[null,null,null,null,null,null,null,null,{"$f":"IF(A76=\"\",\"\",MAX(I$10:I75)+1)","v":""},{"$f":"IFERROR(INDEX($A$11:$A$100000,MATCH(ROW()-10,$I$11:$I$100000,0)),\"\")","v":""},"3LsG16"]
[null,null,null,null,null,null,null,null,{"$f":"IF(A77=\"\",\"\",MAX(I$10:I76)+1)","v":""},"","3LgA06"]
[null,null,null,null,null,null,null,null,{"$f":"IF(A78=\"\",\"\",MAX(I$10:I77)+1)","v":""},"","3LgA07"]
[null,null,null,null,null,null,null,null,{"$f":"IF(A79=\"\",\"\",MAX(I$10:I78)+1)","v":""},"","3LgA08"]
[null,null,null,null,null,null,null,null,{"$f":"IF(A80=\"\",\"\",MAX(I$10:I79)+1)","v":""},"","3LgA09"]
[null,null,null,null,null,null,null,null,{"$f":"IF(A81=\"\",\"\",MAX(I$10:I80)+1)","v":""},"","3LgA10"]
[null,null,null,null,null,null,null,null,{"$f":"IF(A82=\"\",\"\",MAX(I$10:I81)+1)","v":""},"","3LgA11"]
[null,null,null,null,null,null,null,null,{"$f":"IF(A83=\"\",\"\",MAX(I$10:I82)+1)","v":""},"","3LgA12"]
[null,null,null,null,null,null,null,null,{"$f":"IF(A84=\"\",\"\",MAX(I$10:I83)+1)","v":""},"","3LgA13"]
[null,null,null,null,null,null,null,null,{"$f":"IF(A85=\"\",\"\",MAX(I$10:I84)+1)","v":""},"","3LgA14"]
[null,null,null,null,null,null,null,null,{"$f":"IF(A86=\"\",\"\",MAX(I$10:I85)+1)","v":""},"","3LgA15"]
[null,null,null,null,null,null,null,null,{"$f":"IF(A87=\"\",\"\",MAX(I$10:I86)+1)","v":""},"","3LgA16"]
[null,null,null,null,null,null,null,null,{"$f":"IF(A88=\"\",\"\",MAX(I$10:I87)+1)","v":""},"","3LsA06"]
[null,null,null,null,null,null,null,null,{"$f":"IF(A89=\"\",\"\",MAX(I$10:I88)+1)","v":""},"","3LsA07"]
[null,null,null,null,null,null,null,null,{"$f":"IF(A90=\"\",\"\",MAX(I$10:I89)+1)","v":""},"","3LsA08"]
[null,null,null,null,null,null,null,null,{"$f":"IF(A91=\"\",\"\",MAX(I$10:I90)+1)","v":""},"","3LsA09"]
[null,null,null,null,null,null,null,null,{"$f":"IF(A92=\"\",\"\",MAX(I$10:I91)+1)","v":""},"","3LsA10"]
[null,null,null,null,null,null,null,null,{"$f":"IF(A93=\"\",\"\",MAX(I$10:I92)+1)","v":""},"","3LsA11"]
[null,null,null,null,null,null,null,null,{"$f":"IF(A94=\"\",\"\",MAX(I$10:I93)+1)","v":""},"","3LsA12"]
[null,null,null,null,null,null,null,null,{"$f":"IF(A95=\"\",\"\",MAX(I$10:I94)+1)","v":""},"","3LsA13"]
[null,null,null,null,null,null,null,null,{"$f":"IF(A96=\"\",\"\",MAX(I$10:I95)+1)","v":""},"","3LsA14"]
[null,null,null,null,null,null,null,null,{"$f":"IF(A97=\"\",\"\",MAX(I$10:I96)+1)","v":""},"","3LsA15"]
[null,null,null,null,null,null,null,null,{"$f":"IF(A98=\"\",\"\",MAX(I$10:I97)+1)","v":""},"","3LsA16"]
[null,null,null,null,null,null,null,null,{"$f":"IF(A99=\"\",\"\",MAX(I$10:I98)+1)","v":""},"","3FA06"]
[null,null,null,null,null,null,null,null,{"$f":"IF(A100=\"\",\"\",MAX(I$10:I99)+1)","v":""},"","3FA07"]
[null,null,null,null,null,null,null,null,{"$f":"IF(A101=\"\",\"\",MAX(I$10:I100)+1)","v":""},"","3FA08"]
[null,null,null,null,null,null,null,null,{"$f":"IF(A102=\"\",\"\",MAX(I$10:I101)+1)","v":""},"","3FA09"]
[null,null,null,null,null,null,null,null,{"$f":"IF(A103=\"\",\"\",MAX(I$10:I102)+1)","v":""},"","3FA10"]
[null,null,null,null,null,null,null,null,{"$f":"IF(A104=\"\",\"\",MAX(I$10:I103)+1)","v":""},"","3FA11"]
[null,null,null,null,null,null,null,null,{"$f":"IF(A105=\"\",\"\",MAX(I$10:I104)+1)","v":""},"","3FA12"]
[null,null,null,null,null,null,null,null,{"$f":"IF(A106=\"\",\"\",MAX(I$10:I105)+1)","v":""},"","3FA13"]
[null,null,null,null,null,null,null,null,{"$f":"IF(A107=\"\",\"\",MAX(I$10:I106)+1)","v":""},"","3FA14"]
[null,null,null,null,null,null,null,null,{"$f":"IF(A108=\"\",\"\",MAX(I$10:I107)+1)","v":""},"","3FA15"]
[null,null,null,null,null,null,null,null,{"$f":"IF(A109=\"\",\"\",MAX(I$10:I108)+1)","v":""},"","3FA16"]
[null,null,null,null,null,null,null,null,{"$f":"IF(A110=\"\",\"\",MAX(I$10:I109)+1)","v":""},"","2LgG06"]
[null,null,null,null,null,null,null,null,{"$f":"IF(A111=\"\",\"\",MAX(I$10:I110)+1)","v":""},"","2LgG07"]
[null,null,null,null,null,null,null,null,{"$f":"IF(A112=\"\",\"\",MAX(I$10:I111)+1)","v":""},"","2LgG08"]
[null,null,null,null,null,null,null,null,{"$f":"IF(A113=\"\",\"\",MAX(I$10:I112)+1)","v":""},"","2LgG09"]
[null,null,null,null,null,null,null,null,{"$f":"IF(A114=\"\",\"\",MAX(I$10:I113)+1)","v":""},"","2LgG10"]
[null,null,null,null,null,null,null,null,{"$f":"IF(A115=\"\",\"\",MAX(I$10:I114)+1)","v":""},"","2LgG11"]
[null,null,null,null,null,null,null,null,{"$f":"IF(A116=\"\",\"\",MAX(I$10:I115)+1)","v":""},"","2LgG12"]
[null,null,null,null,null,null,null,null,{"$f":"IF(A117=\"\",\"\",MAX(I$10:I116)+1)","v":""},"","2LgG13"]
[null,null,null,null,null,null,null,null,{"$f":"IF(A118=\"\",\"\",MAX(I$10:I117)+1)","v":""},"","2LgG14"]
[null,null,null,null,null,null,null,null,{"$f":"IF(A119=\"\",\"\",MAX(I$10:I118)+1)","v":""},"","2LgG15"]
[null,null,null,null,null,null,null,null,{"$f":"IF(A120=\"\",\"\",MAX(I$10:I119)+1)","v":""},"","2LgG16"]
[null,null,null,null,null,null,null,null,{"$f":"IF(A121=\"\",\"\",MAX(I$10:I120)+1)","v":""},"","2LsG06"]
[null,null,null,null,null,null,null,null,{"$f":"IF(A122=\"\",\"\",MAX(I$10:I121)+1)","v":""},"","2LsG07"]
[null,null,null,null,null,null,null,null,{"$f":"IF(A123=\"\",\"\",MAX(I$10:I122)+1)","v":""},"","2LsG08"]
[null,null,null,null,null,null,null,null,{"$f":"IF(A124=\"\",\"\",MAX(I$10:I123)+1)","v":""},"","2LsG09"]
[null,null,null,null,null,null,null,null,{"$f":"IF(A125=\"\",\"\",MAX(I$10:I124)+1)","v":""},"","2LsG10"]
[null,null,null,null,null,null,null,null,{"$f":"IF(A126=\"\",\"\",MAX(I$10:I125)+1)","v":""},"","2LsG11"]
[null,null,null,null,null,null,null,null,{"$f":"IF(A127=\"\",\"\",MAX(I$10:I126)+1)","v":""},"","2LsG12"]
[null,null,null,null,null,null,null,null,{"$f":"IF(A128=\"\",\"\",MAX(I$10:I127)+1)","v":""},"","2LsG13"]
[null,null,null,null,null,null,null,null,{"$f":"IF(A129=\"\",\"\",MAX(I$10:I128)+1)","v":""},"","2LsG14"]
[null,null,null,null,null,null,null,null,{"$f":"IF(A130=\"\",\"\",MAX(I$10:I129)+1)","v":""},"","2LsG15"]
[null,null,null,null,null,null,null,null,{"$f":"IF(A131=\"\",\"\",MAX(I$10:I130)+1)","v":""},"","2LsG16"]
[null,null,null,null,null,null,null,null,{"$f":"IF(A132=\"\",\"\",MAX(I$10:I131)+1)","v":""},"","2LgA06"]
[null,null,null,null,null,null,null,null,{"$f":"IF(A133=\"\",\"\",MAX(I$10:I132)+1)","v":""},"","2LgA07"]
[null,null,null,null,null,null,null,null,{"$f":"IF(A134=\"\",\"\",MAX(I$10:I133)+1)","v":""},"","2LgA08"]
[null,null,null,null,null,null,null,null,{"$f":"IF(A135=\"\",\"\",MAX(I$10:I134)+1)","v":""},"","2LgA09"]
[null,null,null,null,null,null,null,null,{"$f":"IF(A136=\"\",\"\",MAX(I$10:I135)+1)","v":""},"","2LgA10"]
[null,null,null,null,null,null,null,null,{"$f":"IF(A137=\"\",\"\",MAX(I$10:I136)+1)","v":""},"","2LgA11"]
[null,null,null,null,null,null,null,null,{"$f":"IF(A138=\"\",\"\",MAX(I$10:I137)+1)","v":""},"","2LgA12"]
[null,null,null,null,null,null,null,null,{"$f":"IF(A139=\"\",\"\",MAX(I$10:I138)+1)","v":""},"","2LgA13"]
[null,null,null,null,null,null,null,null,{"$f":"IF(A140=\"\",\"\",MAX(I$10:I139)+1)","v":""},{"$f":"IFERROR(INDEX($A$11:$A$100000,MATCH(ROW()-10,$I$11:$I$100000,0)),\"\")","v":""},"2LgA14"]
[null,null,null,null,null,null,null,null,{"$f":"IF(A141=\"\",\"\",MAX(I$10:I140)+1)","v":""},"","2LgA15"]
[null,null,null,null,null,null,null,null,{"$f":"IF(A142=\"\",\"\",MAX(I$10:I141)+1)","v":""},"","2LgA16"]
[null,null,null,null,null,null,null,null,{"$f":"IF(A143=\"\",\"\",MAX(I$10:I142)+1)","v":""},"","2LsA06"]
[null,null,null,null,null,null,null,null,{"$f":"IF(A144=\"\",\"\",MAX(I$10:I143)+1)","v":""},"","2LsA07"]
[null,null,null,null,null,null,null,null,{"$f":"IF(A145=\"\",\"\",MAX(I$10:I144)+1)","v":""},"","2LsA08"]
[null,null,null,null,null,null,null,null,{"$f":"IF(A146=\"\",\"\",MAX(I$10:I145)+1)","v":""},"","2LsA09"]
[null,null,null,null,null,null,null,null,{"$f":"IF(A147=\"\",\"\",MAX(I$10:I146)+1)","v":""},"","2LsA10"]
[null,null,null,null,null,null,null,null,{"$f":"IF(A148=\"\",\"\",MAX(I$10:I147)+1)","v":""},"","2LsA11"]
[null,null,null,null,null,null,null,null,{"$f":"IF(A149=\"\",\"\",MAX(I$10:I148)+1)","v":""},"","2LsA12"]
[null,null,null,null,null,null,null,null,{"$f":"IF(A150=\"\",\"\",MAX(I$10:I149)+1)","v":""},"","2LsA13"]
[null,null,null,null,null,null,null,null,{"$f":"IF(A151=\"\",\"\",MAX(I$10:I150)+1)","v":""},"","2LsA14"]
[null,null,null,null,null,null,null,null,{"$f":"IF(A152=\"\",\"\",MAX(I$10:I151)+1)","v":""},"","2LsA15"]
[null,null,null,null,null,null,null,null,{"$f":"IF(A153=\"\",\"\",MAX(I$10:I152)+1)","v":""},"","2LsA16"]
[null,null,null,null,null,null,null,null,{"$f":"IF(A154=\"\",\"\",MAX(I$10:I153)+1)","v":""},"","2FA06"]
[null,null,null,null,null,null,null,null,{"$f":"IF(A155=\"\",\"\",MAX(I$10:I154)+1)","v":""},"","2FA07"]
[null,null,null,null,null,null,null,null,{"$f":"IF(A156=\"\",\"\",MAX(I$10:I155)+1)","v":""},"","2FA08"]
[null,null,null,null,null,null,null,null,{"$f":"IF(A157=\"\",\"\",MAX(I$10:I156)+1)","v":""},"","2FA09"]
[null,null,null,null,null,null,null,null,{"$f":"IF(A158=\"\",\"\",MAX(I$10:I157)+1)","v":""},"","2FA10"]
[null,null,null,null,null,null,null,null,{"$f":"IF(A159=\"\",\"\",MAX(I$10:I158)+1)","v":""},"","2FA11"]
[null,null,null,null,null,null,null,null,{"$f":"IF(A160=\"\",\"\",MAX(I$10:I159)+1)","v":""},"","2FA12"]
[null,null,null,null,null,null,null,null,{"$f":"IF(A161=\"\",\"\",MAX(I$10:I160)+1)","v":""},"","2FA13"]
[null,null,null,null,null,null,null,null,{"$f":"IF(A162=\"\",\"\",MAX(I$10:I161)+1)","v":""},"","2FA14"]
[null,null,null,null,null,null,null,null,{"$f":"IF(A163=\"\",\"\",MAX(I$10:I162)+1)","v":""},"","2FA15"]
[null,null,null,null,null,null,null,null,{"$f":"IF(A164=\"\",\"\",MAX(I$10:I163)+1)","v":""},"","2FA16"]
[null,null,null,null,null,null,null,null,{"$f":"IF(A165=\"\",\"\",MAX(I$10:I164)+1)","v":""},"","T"]
[null,null,null,null,null,null,null,null,{"$f":"IF(A166=\"\",\"\",MAX(I$10:I165)+1)","v":""},"","S"]
[null,null,null,null,null,null,null,null,{"$f":"IF(A167=\"\",\"\",MAX(I$10:I166)+1)","v":""},""]
[null,null,null,null,null,null,null,null,{"$f":"IF(A168=\"\",\"\",MAX(I$10:I167)+1)","v":""},""]
[null,null,null,null,null,null,null,null,{"$f":"IF(A169=\"\",\"\",MAX(I$10:I168)+1)","v":""},""]
[null,null,null,null,null,null,null,null,{"$f":"IF(A170=\"\",\"\",MAX(I$10:I169)+1)","v":""},""]
[null,null,null,null,null,null,null,null,{"$f":"IF(A171=\"\",\"\",MAX(I$10:I170)+1)","v":""},""]
[null,null,null,null,null,null,null,null,{"$f":"IF(A172=\"\",\"\",MAX(I$10:I171)+1)","v":""},""]
[null,null,null,null,null,null,null,null,{"$f":"IF(A173=\"\",\"\",MAX(I$10:I172)+1)","v":""},""]
[null,null,null,null,null,null,null,null,{"$f":"IF(A174=\"\",\"\",MAX(I$10:I173)+1)","v":""},""]
[null,null,null,null,null,null,null,null,{"$f":"IF(A175=\"\",\"\",MAX(I$10:I174)+1)","v":""},""]
[null,null,null,null,null,null,null,null,{"$f":"IF(A176=\"\",\"\",MAX(I$10:I175)+1)","v":""},""]
[null,null,null,null,null,null,null,null,{"$f":"IF(A177=\"\",\"\",MAX(I$10:I176)+1)","v":""},""]
[null,null,null,null,null,null,null,null,{"$f":"IF(A178=\"\",\"\",MAX(I$10:I177)+1)","v":""},""]
[null,null,null,null,null,null,null,null,{"$f":"IF(A179=\"\",\"\",MAX(I$10:I178)+1)","v":""},""]
[null,null,null,null,null,null,null,null,{"$f":"IF(A180=\"\",\"\",MAX(I$10:I179)+1)","v":""},""]
[null,null,null,null,null,null,null,null,{"$f":"IF(A181=\"\",\"\",MAX(I$10:I180)+1)","v":""},""]
[null,null,null,null,null,null,null,null,{"$f":"IF(A182=\"\",\"\",MAX(I$10:I181)+1)","v":""},""]
[null,null,null,null,null,null,null,null,{"$f":"IF(A183=\"\",\"\",MAX(I$10:I182)+1)","v":""},""]
[null,null,null,null,null,null,null,null,{"$f":"IF(A184=\"\",\"\",MAX(I$10:I183)+1)","v":""},""]
[null,null,null,null,null,null,null,null,{"$f":"IF(A185=\"\",\"\",MAX(I$10:I184)+1)","v":""},""]
[null,null,null,null,null,null,null,null,{"$f":"IF(A186=\"\",\"\",MAX(I$10:I185)+1)","v":""},""]
[null,null,null,null,null,null,null,null,{"$f":"IF(A187=\"\",\"\",MAX(I$10:I186)+1)","v":""},""]
[null,null,null,null,null,null,null,null,{"$f":"IF(A188=\"\",\"\",MAX(I$10:I187)+1)","v":""},""]
[null,null,null,null,null,null,null,null,{"$f":"IF(A189=\"\",\"\",MAX(I$10:I188)+1)","v":""},""]
[null,null,null,null,null,null,null,null,{"$f":"IF(A190=\"\",\"\",MAX(I$10:I189)+1)","v":""},""]
[null,null,null,null,null,null,null,null,{"$f":"IF(A191=\"\",\"\",MAX(I$10:I190)+1)","v":""},""]
[null,null,null,null,null,null,null,null,{"$f":"IF(A192=\"\",\"\",MAX(I$10:I191)+1)","v":""},""]
[null,null,null,null,null,null,null,null,{"$f":"IF(A193=\"\",\"\",MAX(I$10:I192)+1)","v":""},""]
[null,null,null,null,null,null,null,null,{"$f":"IF(A194=\"\",\"\",MAX(I$10:I193)+1)","v":""},""]
[null,null,null,null,null,null,null,null,{"$f":"IF(A195=\"\",\"\",MAX(I$10:I194)+1)","v":""},""]
[null,null,null,null,null,null,null,null,{"$f":"IF(A196=\"\",\"\",MAX(I$10:I195)+1)","v":""},""]
[null,null,null,null,null,null,null,null,{"$f":"IF(A197=\"\",\"\",MAX(I$10:I196)+1)","v":""},""]
[null,null,null,null,null,null,null,null,{"$f":"IF(A198=\"\",\"\",MAX(I$10:I197)+1)","v":""},""]
[null,null,null,null,null,null,null,null,{"$f":"IF(A199=\"\",\"\",MAX(I$10:I198)+1)","v":""},""]
[null,null,null,null,null,null,null,null,{"$f":"IF(A200=\"\",\"\",MAX(I$10:I199)+1)","v":""},""]
[null,null,null,null,null,null,null,null,{"$f":"IF(A201=\"\",\"\",MAX(I$10:I200)+1)","v":""},""]
[null,null,null,null,null,null,null,null,{"$f":"IF(A202=\"\",\"\",MAX(I$10:I201)+1)","v":""},""]
[null,null,null,null,null,null,null,null,{"$f":"IF(A203=\"\",\"\",MAX(I$10:I202)+1)","v":""},""]
[null,null,null,null,null,null,null,null,{"$f":"IF(A204=\"\",\"\",MAX(I$10:I203)+1)","v":""},{"$f":"IFERROR(INDEX($A$11:$A$100000,MATCH(ROW()-10,$I$11:$I$100000,0)),\"\")","v":""}]
[null,null,null,null,null,null,null,null,{"$f":"IF(A205=\"\",\"\",MAX(I$10:I204)+1)","v":""},""]
[null,null,null,null,null,null,null,null,{"$f":"IF(A206=\"\",\"\",MAX(I$10:I205)+1)","v":""},""]
[null,null,null,null,null,null,null,null,{"$f":"IF(A207=\"\",\"\",MAX(I$10:I206)+1)","v":""},""]
[null,null,null,null,null,null,null,null,{"$f":"IF(A208=\"\",\"\",MAX(I$10:I207)+1)","v":""},""]
[null,null,null,null,null,null,null,null,{"$f":"IF(A209=\"\",\"\",MAX(I$10:I208)+1)","v":""},""]
[null,null,null,null,null,null,null,null,{"$f":"IF(A210=\"\",\"\",MAX(I$10:I209)+1)","v":""},""]
[null,null,null,null,null,null,null,null,{"$f":"IF(A211=\"\",\"\",MAX(I$10:I210)+1)","v":""},""]
[null,null,null,null,null,null,null,null,{"$f":"IF(A212=\"\",\"\",MAX(I$10:I211)+1)","v":""},""]
[null,null,null,null,null,null,null,null,{"$f":"IF(A213=\"\",\"\",MAX(I$10:I212)+1)","v":""},""]
[null,null,null,null,null,null,null,null,{"$f":"IF(A214=\"\",\"\",MAX(I$10:I213)+1)","v":""},""]
[null,null,null,null,null,null,null,null,{"$f":"IF(A215=\"\",\"\",MAX(I$10:I214)+1)","v":""},""]
[null,null,null,null,null,null,null,null,{"$f":"IF(A216=\"\",\"\",MAX(I$10:I215)+1)","v":""},""]
[null,null,null,null,null,null,null,null,{"$f":"IF(A217=\"\",\"\",MAX(I$10:I216)+1)","v":""},""]
[null,null,null,null,null,null,null,null,{"$f":"IF(A218=\"\",\"\",MAX(I$10:I217)+1)","v":""},""]
[null,null,null,null,null,null,null,null,{"$f":"IF(A219=\"\",\"\",MAX(I$10:I218)+1)","v":""},""]
[null,null,null,null,null,null,null,null,{"$f":"IF(A220=\"\",\"\",MAX(I$10:I219)+1)","v":""},""]
[null,null,null,null,null,null,null,null,{"$f":"IF(A221=\"\",\"\",MAX(I$10:I220)+1)","v":""},""]
[null,null,null,null,null,null,null,null,{"$f":"IF(A222=\"\",\"\",MAX(I$10:I221)+1)","v":""},""]
[null,null,null,null,null,null,null,null,{"$f":"IF(A223=\"\",\"\",MAX(I$10:I222)+1)","v":""},""]
[null,null,null,null,null,null,null,null,{"$f":"IF(A224=\"\",\"\",MAX(I$10:I223)+1)","v":""},""]
[null,null,null,null,null,null,null,null,{"$f":"IF(A225=\"\",\"\",MAX(I$10:I224)+1)","v":""},""]
[null,null,null,null,null,null,null,null,{"$f":"IF(A226=\"\",\"\",MAX(I$10:I225)+1)","v":""},""]
[null,null,null,null,null,null,null,null,{"$f":"IF(A227=\"\",\"\",MAX(I$10:I226)+1)","v":""},""]
[null,null,null,null,null,null,null,null,{"$f":"IF(A228=\"\",\"\",MAX(I$10:I227)+1)","v":""},""]
[null,null,null,null,null,null,null,null,{"$f":"IF(A229=\"\",\"\",MAX(I$10:I228)+1)","v":""},""]
[null,null,null,null,null,null,null,null,{"$f":"IF(A230=\"\",\"\",MAX(I$10:I229)+1)","v":""},""]
[null,null,null,null,null,null,null,null,{"$f":"IF(A231=\"\",\"\",MAX(I$10:I230)+1)","v":""},""]
[null,null,null,null,null,null,null,null,{"$f":"IF(A232=\"\",\"\",MAX(I$10:I231)+1)","v":""},""]
[null,null,null,null,null,null,null,null,{"$f":"IF(A233=\"\",\"\",MAX(I$10:I232)+1)","v":""},""]
[null,null,null,null,null,null,null,null,{"$f":"IF(A234=\"\",\"\",MAX(I$10:I233)+1)","v":""},""]
[null,null,null,null,null,null,null,null,{"$f":"IF(A235=\"\",\"\",MAX(I$10:I234)+1)","v":""},""]
[null,null,null,null,null,null,null,null,{"$f":"IF(A236=\"\",\"\",MAX(I$10:I235)+1)","v":""},""]
[null,null,null,null,null,null,null,null,{"$f":"IF(A237=\"\",\"\",MAX(I$10:I236)+1)","v":""},""]
[null,null,null,null,null,null,null,null,{"$f":"IF(A238=\"\",\"\",MAX(I$10:I237)+1)","v":""},""]
[null,null,null,null,null,null,null,null,{"$f":"IF(A239=\"\",\"\",MAX(I$10:I238)+1)","v":""},""]
[null,null,null,null,null,null,null,null,{"$f":"IF(A240=\"\",\"\",MAX(I$10:I239)+1)","v":""},""]
[null,null,null,null,null,null,null,null,{"$f":"IF(A241=\"\",\"\",MAX(I$10:I240)+1)","v":""},""]
[null,null,null,null,null,null,null,null,{"$f":"IF(A242=\"\",\"\",MAX(I$10:I241)+1)","v":""},""]
[null,null,null,null,null,null,null,null,{"$f":"IF(A243=\"\",\"\",MAX(I$10:I242)+1)","v":""},""]
[null,null,null,null,null,null,null,null,{"$f":"IF(A244=\"\",\"\",MAX(I$10:I243)+1)","v":""},""]
[null,null,null,null,null,null,null,null,{"$f":"IF(A245=\"\",\"\",MAX(I$10:I244)+1)","v":""},""]
[null,null,null,null,null,null,null,null,{"$f":"IF(A246=\"\",\"\",MAX(I$10:I245)+1)","v":""},""]
[null,null,null,null,null,null,null,null,{"$f":"IF(A247=\"\",\"\",MAX(I$10:I246)+1)","v":""},""]
[null,null,null,null,null,null,null,null,{"$f":"IF(A248=\"\",\"\",MAX(I$10:I247)+1)","v":""},""]
[null,null,null,null,null,null,null,null,{"$f":"IF(A249=\"\",\"\",MAX(I$10:I248)+1)","v":""},""]
[null,null,null,null,null,null,null,null,{"$f":"IF(A250=\"\",\"\",MAX(I$10:I249)+1)","v":""},""]
[null,null,null,null,null,null,null,null,{"$f":"IF(A251=\"\",\"\",MAX(I$10:I250)+1)","v":""},""]
[null,null,null,null,null,null,null,null,{"$f":"IF(A252=\"\",\"\",MAX(I$10:I251)+1)","v":""},""]
[null,null,null,null,null,null,null,null,{"$f":"IF(A253=\"\",\"\",MAX(I$10:I252)+1)","v":""},""]
[null,null,null,null,null,null,null,null,{"$f":"IF(A254=\"\",\"\",MAX(I$10:I253)+1)","v":""},""]
[null,null,null,null,null,null,null,null,{"$f":"IF(A255=\"\",\"\",MAX(I$10:I254)+1)","v":""},""]
[null,null,null,null,null,null,null,null,{"$f":"IF(A256=\"\",\"\",MAX(I$10:I255)+1)","v":""},""]
[null,null,null,null,null,null,null,null,{"$f":"IF(A257=\"\",\"\",MAX(I$10:I256)+1)","v":""},""]
[null,null,null,null,null,null,null,null,{"$f":"IF(A258=\"\",\"\",MAX(I$10:I257)+1)","v":""},""]
[null,null,null,null,null,null,null,null,{"$f":"IF(A259=\"\",\"\",MAX(I$10:I258)+1)","v":""},""]
[null,null,null,null,null,null,null,null,{"$f":"IF(A260=\"\",\"\",MAX(I$10:I259)+1)","v":""},""]
[null,null,null,null,null,null,null,null,{"$f":"IF(A261=\"\",\"\",MAX(I$10:I260)+1)","v":""},""]
[null,null,null,null,null,null,null,null,{"$f":"IF(A262=\"\",\"\",MAX(I$10:I261)+1)","v":""},""]
[null,null,null,null,null,null,null,null,{"$f":"IF(A263=\"\",\"\",MAX(I$10:I262)+1)","v":""},""]
[null,null,null,null,null,null,null,null,{"$f":"IF(A264=\"\",\"\",MAX(I$10:I263)+1)","v":""},""]
[null,null,null,null,null,null,null,null,{"$f":"IF(A265=\"\",\"\",MAX(I$10:I264)+1)","v":""},""]
[null,null,null,null,null,null,null,null,{"$f":"IF(A266=\"\",\"\",MAX(I$10:I265)+1)","v":""},""]
[null,null,null,null,null,null,null,null,{"$f":"IF(A267=\"\",\"\",MAX(I$10:I266)+1)","v":""},""]
[null,null,null,null,null,null,null,null,{"$f":"IF(A268=\"\",\"\",MAX(I$10:I267)+1)","v":""},{"$f":"IFERROR(INDEX($A$11:$A$100000,MATCH(ROW()-10,$I$11:$I$100000,0)),\"\")","v":""}]
[null,null,null,null,null,null,null,null,{"$f":"IF(A269=\"\",\"\",MAX(I$10:I268)+1)","v":""},""]
[null,null,null,null,null,null,null,null,{"$f":"IF(A270=\"\",\"\",MAX(I$10:I269)+1)","v":""},""]
[null,null,null,null,null,null,null,null,{"$f":"IF(A271=\"\",\"\",MAX(I$10:I270)+1)","v":""},""]
[null,null,null,null,null,null,null,null,{"$f":"IF(A272=\"\",\"\",MAX(I$10:I271)+1)","v":""},""]
[null,null,null,null,null,null,null,null,{"$f":"IF(A273=\"\",\"\",MAX(I$10:I272)+1)","v":""},""]
[null,null,null,null,null,null,null,null,{"$f":"IF(A274=\"\",\"\",MAX(I$10:I273)+1)","v":""},""]
[null,null,null,null,null,null,null,null,{"$f":"IF(A275=\"\",\"\",MAX(I$10:I274)+1)","v":""},""]
[null,null,null,null,null,null,null,null,{"$f":"IF(A276=\"\",\"\",MAX(I$10:I275)+1)","v":""},""]
[null,null,null,null,null,null,null,null,{"$f":"IF(A277=\"\",\"\",MAX(I$10:I276)+1)","v":""},""]
[null,null,null,null,null,null,null,null,{"$f":"IF(A278=\"\",\"\",MAX(I$10:I277)+1)","v":""},""]
[null,null,null,null,null,null,null,null,{"$f":"IF(A279=\"\",\"\",MAX(I$10:I278)+1)","v":""},""]
[null,null,null,null,null,null,null,null,{"$f":"IF(A280=\"\",\"\",MAX(I$10:I279)+1)","v":""},""]
[null,null,null,null,null,null,null,null,{"$f":"IF(A281=\"\",\"\",MAX(I$10:I280)+1)","v":""},""]
[null,null,null,null,null,null,null,null,{"$f":"IF(A282=\"\",\"\",MAX(I$10:I281)+1)","v":""},""]
[null,null,null,null,null,null,null,null,{"$f":"IF(A283=\"\",\"\",MAX(I$10:I282)+1)","v":""},""]
[null,null,null,null,null,null,null,null,{"$f":"IF(A284=\"\",\"\",MAX(I$10:I283)+1)","v":""},""]
[null,null,null,null,null,null,null,null,{"$f":"IF(A285=\"\",\"\",MAX(I$10:I284)+1)","v":""},""]
[null,null,null,null,null,null,null,null,{"$f":"IF(A286=\"\",\"\",MAX(I$10:I285)+1)","v":""},""]
[null,null,null,null,null,null,null,null,{"$f":"IF(A287=\"\",\"\",MAX(I$10:I286)+1)","v":""},""]
[null,null,null,null,null,null,null,null,{"$f":"IF(A288=\"\",\"\",MAX(I$10:I287)+1)","v":""},""]
[null,null,null,null,null,null,null,null,{"$f":"IF(A289=\"\",\"\",MAX(I$10:I288)+1)","v":""},""]
[null,null,null,null,null,null,null,null,{"$f":"IF(A290=\"\",\"\",MAX(I$10:I289)+1)","v":""},""]
[null,null,null,null,null,null,null,null,{"$f":"IF(A291=\"\",\"\",MAX(I$10:I290)+1)","v":""},""]
[null,null,null,null,null,null,null,null,{"$f":"IF(A292=\"\",\"\",MAX(I$10:I291)+1)","v":""},""]
[null,null,null,null,null,null,null,null,{"$f":"IF(A293=\"\",\"\",MAX(I$10:I292)+1)","v":""},""]
[null,null,null,null,null,null,null,null,{"$f":"IF(A294=\"\",\"\",MAX(I$10:I293)+1)","v":""},""]
[null,null,null,null,null,null,null,null,{"$f":"IF(A295=\"\",\"\",MAX(I$10:I294)+1)","v":""},""]
[null,null,null,null,null,null,null,null,{"$f":"IF(A296=\"\",\"\",MAX(I$10:I295)+1)","v":""},""]
[null,null,null,null,null,null,null,null,{"$f":"IF(A297=\"\",\"\",MAX(I$10:I296)+1)","v":""},""]
[null,null,null,null,null,null,null,null,{"$f":"IF(A298=\"\",\"\",MAX(I$10:I297)+1)","v":""},""]
[null,null,null,null,null,null,null,null,{"$f":"IF(A299=\"\",\"\",MAX(I$10:I298)+1)","v":""},""]
[null,null,null,null,null,null,null,null,{"$f":"IF(A300=\"\",\"\",MAX(I$10:I299)+1)","v":""},""]
[null,null,null,null,null,null,null,null,{"$f":"IF(A301=\"\",\"\",MAX(I$10:I300)+1)","v":""},""]
[null,null,null,null,null,null,null,null,{"$f":"IF(A302=\"\",\"\",MAX(I$10:I301)+1)","v":""},""]
[null,null,null,null,null,null,null,null,{"$f":"IF(A303=\"\",\"\",MAX(I$10:I302)+1)","v":""},""]
[null,null,null,null,null,null,null,null,{"$f":"IF(A304=\"\",\"\",MAX(I$10:I303)+1)","v":""},""]
[null,null,null,null,null,null,null,null,{"$f":"IF(A305=\"\",\"\",MAX(I$10:I304)+1)","v":""},""]
[null,null,null,null,null,null,null,null,{"$f":"IF(A306=\"\",\"\",MAX(I$10:I305)+1)","v":""},""]
[null,null,null,null,null,null,null,null,{"$f":"IF(A307=\"\",\"\",MAX(I$10:I306)+1)","v":""},""]
[null,null,null,null,null,null,null,null,{"$f":"IF(A308=\"\",\"\",MAX(I$10:I307)+1)","v":""},""]
[null,null,null,null,null,null,null,null,{"$f":"IF(A309=\"\",\"\",MAX(I$10:I308)+1)","v":""},""]
[null,null,null,null,null,null,null,null,{"$f":"IF(A310=\"\",\"\",MAX(I$10:I309)+1)","v":""},""]
[null,null,null,null,null,null,null,null,{"$f":"IF(A311=\"\",\"\",MAX(I$10:I310)+1)","v":""},""]
[null,null,null,null,null,null,null,null,{"$f":"IF(A312=\"\",\"\",MAX(I$10:I311)+1)","v":""},""]
[null,null,null,null,null,null,null,null,{"$f":"IF(A313=\"\",\"\",MAX(I$10:I312)+1)","v":""},""]
[null,null,null,null,null,null,null,null,{"$f":"IF(A314=\"\",\"\",MAX(I$10:I313)+1)","v":""},""]
[null,null,null,null,null,null,null,null,{"$f":"IF(A315=\"\",\"\",MAX(I$10:I314)+1)","v":""},""]
[null,null,null,null,null,null,null,null,{"$f":"IF(A316=\"\",\"\",MAX(I$10:I315)+1)","v":""},""]
[null,null,null,null,null,null,null,null,{"$f":"IF(A317=\"\",\"\",MAX(I$10:I316)+1)","v":""},""]
[null,null,null,null,null,null,null,null,{"$f":"IF(A318=\"\",\"\",MAX(I$10:I317)+1)","v":""},""]
[null,null,null,null,null,null,null,null,{"$f":"IF(A319=\"\",\"\",MAX(I$10:I318)+1)","v":""},""]
[null,null,null,null,null,null,null,null,{"$f":"IF(A320=\"\",\"\",MAX(I$10:I319)+1)","v":""},""]
[null,null,null,null,null,null,null,null,{"$f":"IF(A321=\"\",\"\",MAX(I$10:I320)+1)","v":""},""]
[null,null,null,null,null,null,null,null,{"$f":"IF(A322=\"\",\"\",MAX(I$10:I321)+1)","v":""},""]
[null,null,null,null,null,null,null,null,{"$f":"IF(A323=\"\",\"\",MAX(I$10:I322)+1)","v":""},""]
[null,null,null,null,null,null,null,null,{"$f":"IF(A324=\"\",\"\",MAX(I$10:I323)+1)","v":""},""]
[null,null,null,null,null,null,null,null,{"$f":"IF(A325=\"\",\"\",MAX(I$10:I324)+1)","v":""},""]
[null,null,null,null,null,null,null,null,{"$f":"IF(A326=\"\",\"\",MAX(I$10:I325)+1)","v":""},""]
[null,null,null,null,null,null,null,null,{"$f":"IF(A327=\"\",\"\",MAX(I$10:I326)+1)","v":""},""]
[null,null,null,null,null,null,null,null,{"$f":"IF(A328=\"\",\"\",MAX(I$10:I327)+1)","v":""},""]
[null,null,null,null,null,null,null,null,{"$f":"IF(A329=\"\",\"\",MAX(I$10:I328)+1)","v":""},""]
[null,null,null,null,null,null,null,null,{"$f":"IF(A330=\"\",\"\",MAX(I$10:I329)+1)","v":""},""]
[null,null,null,null,null,null,null,null,{"$f":"IF(A331=\"\",\"\",MAX(I$10:I330)+1)","v":""},""]
[null,null,null,null,null,null,null,null,{"$f":"IF(A332=\"\",\"\",MAX(I$10:I331)+1)","v":""},{"$f":"IFERROR(INDEX($A$11:$A$100000,MATCH(ROW()-10,$I$11:$I$100000,0)),\"\")","v":""}]
[null,null,null,null,null,null,null,null,{"$f":"IF(A333=\"\",\"\",MAX(I$10:I332)+1)","v":""},""]
[null,null,null,null,null,null,null,null,{"$f":"IF(A334=\"\",\"\",MAX(I$10:I333)+1)","v":""},""]
[null,null,null,null,null,null,null,null,{"$f":"IF(A335=\"\",\"\",MAX(I$10:I334)+1)","v":""},""]
[null,null,null,null,null,null,null,null,{"$f":"IF(A336=\"\",\"\",MAX(I$10:I335)+1)","v":""},""]
[null,null,null,null,null,null,null,null,{"$f":"IF(A337=\"\",\"\",MAX(I$10:I336)+1)","v":""},""]
[null,null,null,null,null,null,null,null,{"$f":"IF(A338=\"\",\"\",MAX(I$10:I337)+1)","v":""},""]
[null,null,null,null,null,null,null,null,{"$f":"IF(A339=\"\",\"\",MAX(I$10:I338)+1)","v":""},""]
[null,null,null,null,null,null,null,null,{"$f":"IF(A340=\"\",\"\",MAX(I$10:I339)+1)","v":""},""]
[null,null,null,null,null,null,null,null,{"$f":"IF(A341=\"\",\"\",MAX(I$10:I340)+1)","v":""},""]
[null,null,null,null,null,null,null,null,{"$f":"IF(A342=\"\",\"\",MAX(I$10:I341)+1)","v":""},""]
[null,null,null,null,null,null,null,null,{"$f":"IF(A343=\"\",\"\",MAX(I$10:I342)+1)","v":""},""]
[null,null,null,null,null,null,null,null,{"$f":"IF(A344=\"\",\"\",MAX(I$10:I343)+1)","v":""},""]
[null,null,null,null,null,null,null,null,{"$f":"IF(A345=\"\",\"\",MAX(I$10:I344)+1)","v":""},""]
[null,null,null,null,null,null,null,null,{"$f":"IF(A346=\"\",\"\",MAX(I$10:I345)+1)","v":""},""]
[null,null,null,null,null,null,null,null,{"$f":"IF(A347=\"\",\"\",MAX(I$10:I346)+1)","v":""},""]
[null,null,null,null,null,null,null,null,{"$f":"IF(A348=\"\",\"\",MAX(I$10:I347)+1)","v":""},""]
[null,null,null,null,null,null,null,null,{"$f":"IF(A349=\"\",\"\",MAX(I$10:I348)+1)","v":""},""]
[null,null,null,null,null,null,null,null,{"$f":"IF(A350=\"\",\"\",MAX(I$10:I349)+1)","v":""},""]
[null,null,null,null,null,null,null,null,{"$f":"IF(A351=\"\",\"\",MAX(I$10:I350)+1)","v":""},""]
[null,null,null,null,null,null,null,null,{"$f":"IF(A352=\"\",\"\",MAX(I$10:I351)+1)","v":""},""]
[null,null,null,null,null,null,null,null,{"$f":"IF(A353=\"\",\"\",MAX(I$10:I352)+1)","v":""},""]
[null,null,null,null,null,null,null,null,{"$f":"IF(A354=\"\",\"\",MAX(I$10:I353)+1)","v":""},""]
[null,null,null,null,null,null,null,null,{"$f":"IF(A355=\"\",\"\",MAX(I$10:I354)+1)","v":""},""]
[null,null,null,null,null,null,null,null,{"$f":"IF(A356=\"\",\"\",MAX(I$10:I355)+1)","v":""},""]
[null,null,null,null,null,null,null,null,{"$f":"IF(A357=\"\",\"\",MAX(I$10:I356)+1)","v":""},""]
[null,null,null,null,null,null,null,null,{"$f":"IF(A358=\"\",\"\",MAX(I$10:I357)+1)","v":""},""]
[null,null,null,null,null,null,null,null,{"$f":"IF(A359=\"\",\"\",MAX(I$10:I358)+1)","v":""},""]
[null,null,null,null,null,null,null,null,{"$f":"IF(A360=\"\",\"\",MAX(I$10:I359)+1)","v":""},""]
[null,null,null,null,null,null,null,null,{"$f":"IF(A361=\"\",\"\",MAX(I$10:I360)+1)","v":""},""]
[null,null,null,null,null,null,null,null,{"$f":"IF(A362=\"\",\"\",MAX(I$10:I361)+1)","v":""},""]
[null,null,null,null,null,null,null,null,{"$f":"IF(A363=\"\",\"\",MAX(I$10:I362)+1)","v":""},""]
[null,null,null,null,null,null,null,null,{"$f":"IF(A364=\"\",\"\",MAX(I$10:I363)+1)","v":""},""]
[null,null,null,null,null,null,null,null,{"$f":"IF(A365=\"\",\"\",MAX(I$10:I364)+1)","v":""},""]
[null,null,null,null,null,null,null,null,{"$f":"IF(A366=\"\",\"\",MAX(I$10:I365)+1)","v":""},""]
[null,null,null,null,null,null,null,null,{"$f":"IF(A367=\"\",\"\",MAX(I$10:I366)+1)","v":""},""]
[null,null,null,null,null,null,null,null,{"$f":"IF(A368=\"\",\"\",MAX(I$10:I367)+1)","v":""},""]
[null,null,null,null,null,null,null,null,{"$f":"IF(A369=\"\",\"\",MAX(I$10:I368)+1)","v":""},""]
[null,null,null,null,null,null,null,null,{"$f":"IF(A370=\"\",\"\",MAX(I$10:I369)+1)","v":""},""]
[null,null,null,null,null,null,null,null,{"$f":"IF(A371=\"\",\"\",MAX(I$10:I370)+1)","v":""},""]
[null,null,null,null,null,null,null,null,{"$f":"IF(A372=\"\",\"\",MAX(I$10:I371)+1)","v":""},""]
[null,null,null,null,null,null,null,null,{"$f":"IF(A373=\"\",\"\",MAX(I$10:I372)+1)","v":""},""]
[null,null,null,null,null,null,null,null,{"$f":"IF(A374=\"\",\"\",MAX(I$10:I373)+1)","v":""},""]
[null,null,null,null,null,null,null,null,{"$f":"IF(A375=\"\",\"\",MAX(I$10:I374)+1)","v":""},""]
[null,null,null,null,null,null,null,null,{"$f":"IF(A376=\"\",\"\",MAX(I$10:I375)+1)","v":""},""]
[null,null,null,null,null,null,null,null,{"$f":"IF(A377=\"\",\"\",MAX(I$10:I376)+1)","v":""},""]
[null,null,null,null,null,null,null,null,{"$f":"IF(A378=\"\",\"\",MAX(I$10:I377)+1)","v":""},""]
[null,null,null,null,null,null,null,null,{"$f":"IF(A379=\"\",\"\",MAX(I$10:I378)+1)","v":""},""]
[null,null,null,null,null,null,null,null,{"$f":"IF(A380=\"\",\"\",MAX(I$10:I379)+1)","v":""},""]
[null,null,null,null,null,null,null,null,{"$f":"IF(A381=\"\",\"\",MAX(I$10:I380)+1)","v":""},""]
[null,null,null,null,null,null,null,null,{"$f":"IF(A382=\"\",\"\",MAX(I$10:I381)+1)","v":""},""]
[null,null,null,null,null,null,null,null,{"$f":"IF(A383=\"\",\"\",MAX(I$10:I382)+1)","v":""},""]
[null,null,null,null,null,null,null,null,{"$f":"IF(A384=\"\",\"\",MAX(I$10:I383)+1)","v":""},""]
[null,null,null,null,null,null,null,null,{"$f":"IF(A385=\"\",\"\",MAX(I$10:I384)+1)","v":""},""]
[null,null,null,null,null,null,null,null,{"$f":"IF(A386=\"\",\"\",MAX(I$10:I385)+1)","v":""},""]
[null,null,null,null,null,null,null,null,{"$f":"IF(A387=\"\",\"\",MAX(I$10:I386)+1)","v":""},""]
[null,null,null,null,null,null,null,null,{"$f":"IF(A388=\"\",\"\",MAX(I$10:I387)+1)","v":""},""]
[null,null,null,null,null,null,null,null,{"$f":"IF(A389=\"\",\"\",MAX(I$10:I388)+1)","v":""},""]
[null,null,null,null,null,null,null,null,{"$f":"IF(A390=\"\",\"\",MAX(I$10:I389)+1)","v":""},""]
[null,null,null,null,null,null,null,null,{"$f":"IF(A391=\"\",\"\",MAX(I$10:I390)+1)","v":""},""]
[null,null,null,null,null,null,null,null,{"$f":"IF(A392=\"\",\"\",MAX(I$10:I391)+1)","v":""},""]
[null,null,null,null,null,null,null,null,{"$f":"IF(A393=\"\",\"\",MAX(I$10:I392)+1)","v":""},""]
[null,null,null,null,null,null,null,null,{"$f":"IF(A394=\"\",\"\",MAX(I$10:I393)+1)","v":""},""]
[null,null,null,null,null,null,null,null,{"$f":"IF(A395=\"\",\"\",MAX(I$10:I394)+1)","v":""},""]
[null,null,null,null,null,null,null,null,{"$f":"IF(A396=\"\",\"\",MAX(I$10:I395)+1)","v":""},{"$f":"IFERROR(INDEX($A$11:$A$100000,MATCH(ROW()-10,$I$11:$I$100000,0)),\"\")","v":""}]
[null,null,null,null,null,null,null,null,{"$f":"IF(A397=\"\",\"\",MAX(I$10:I396)+1)","v":""},""]
[null,null,null,null,null,null,null,null,{"$f":"IF(A398=\"\",\"\",MAX(I$10:I397)+1)","v":""},""]
[null,null,null,null,null,null,null,null,{"$f":"IF(A399=\"\",\"\",MAX(I$10:I398)+1)","v":""},""]
[null,null,null,null,null,null,null,null,{"$f":"IF(A400=\"\",\"\",MAX(I$10:I399)+1)","v":""},""]
[null,null,null,null,null,null,null,null,{"$f":"IF(A401=\"\",\"\",MAX(I$10:I400)+1)","v":""},""]
[null,null,null,null,null,null,null,null,{"$f":"IF(A402=\"\",\"\",MAX(I$10:I401)+1)","v":""},""]
[null,null,null,null,null,null,null,null,{"$f":"IF(A403=\"\",\"\",MAX(I$10:I402)+1)","v":""},""]
[null,null,null,null,null,null,null,null,{"$f":"IF(A404=\"\",\"\",MAX(I$10:I403)+1)","v":""},""]
[null,null,null,null,null,null,null,null,{"$f":"IF(A405=\"\",\"\",MAX(I$10:I404)+1)","v":""},""]
[null,null,null,null,null,null,null,null,{"$f":"IF(A406=\"\",\"\",MAX(I$10:I405)+1)","v":""},""]
[null,null,null,null,null,null,null,null,{"$f":"IF(A407=\"\",\"\",MAX(I$10:I406)+1)","v":""},""]
[null,null,null,null,null,null,null,null,{"$f":"IF(A408=\"\",\"\",MAX(I$10:I407)+1)","v":""},""]
[null,null,null,null,null,null,null,null,{"$f":"IF(A409=\"\",\"\",MAX(I$10:I408)+1)","v":""},""]
[null,null,null,null,null,null,null,null,{"$f":"IF(A410=\"\",\"\",MAX(I$10:I409)+1)","v":""},""]
[null,null,null,null,null,null,null,null,{"$f":"IF(A411=\"\",\"\",MAX(I$10:I410)+1)","v":""},""]
[null,null,null,null,null,null,null,null,{"$f":"IF(A412=\"\",\"\",MAX(I$10:I411)+1)","v":""},""]
[null,null,null,null,null,null,null,null,{"$f":"IF(A413=\"\",\"\",MAX(I$10:I412)+1)","v":""},""]
[null,null,null,null,null,null,null,null,{"$f":"IF(A414=\"\",\"\",MAX(I$10:I413)+1)","v":""},""]
[null,null,null,null,null,null,null,null,{"$f":"IF(A415=\"\",\"\",MAX(I$10:I414)+1)","v":""},""]
[null,null,null,null,null,null,null,null,{"$f":"IF(A416=\"\",\"\",MAX(I$10:I415)+1)","v":""},""]
[null,null,null,null,null,null,null,null,{"$f":"IF(A417=\"\",\"\",MAX(I$10:I416)+1)","v":""},""]
[null,null,null,null,null,null,null,null,{"$f":"IF(A418=\"\",\"\",MAX(I$10:I417)+1)","v":""},""]
[null,null,null,null,null,null,null,null,{"$f":"IF(A419=\"\",\"\",MAX(I$10:I418)+1)","v":""},""]
[null,null,null,null,null,null,null,null,{"$f":"IF(A420=\"\",\"\",MAX(I$10:I419)+1)","v":""},""]
[null,null,null,null,null,null,null,null,{"$f":"IF(A421=\"\",\"\",MAX(I$10:I420)+1)","v":""},""]
[null,null,null,null,null,null,null,null,{"$f":"IF(A422=\"\",\"\",MAX(I$10:I421)+1)","v":""},""]
[null,null,null,null,null,null,null,null,{"$f":"IF(A423=\"\",\"\",MAX(I$10:I422)+1)","v":""},""]
[null,null,null,null,null,null,null,null,{"$f":"IF(A424=\"\",\"\",MAX(I$10:I423)+1)","v":""},""]
[null,null,null,null,null,null,null,null,{"$f":"IF(A425=\"\",\"\",MAX(I$10:I424)+1)","v":""},""]
[null,null,null,null,null,null,null,null,{"$f":"IF(A426=\"\",\"\",MAX(I$10:I425)+1)","v":""},""]
[null,null,null,null,null,null,null,null,{"$f":"IF(A427=\"\",\"\",MAX(I$10:I426)+1)","v":""},""]
[null,null,null,null,null,null,null,null,{"$f":"IF(A428=\"\",\"\",MAX(I$10:I427)+1)","v":""},""]
[null,null,null,null,null,null,null,null,{"$f":"IF(A429=\"\",\"\",MAX(I$10:I428)+1)","v":""},""]
[null,null,null,null,null,null,null,null,{"$f":"IF(A430=\"\",\"\",MAX(I$10:I429)+1)","v":""},""]
[null,null,null,null,null,null,null,null,{"$f":"IF(A431=\"\",\"\",MAX(I$10:I430)+1)","v":""},""]
[null,null,null,null,null,null,null,null,{"$f":"IF(A432=\"\",\"\",MAX(I$10:I431)+1)","v":""},""]
[null,null,null,null,null,null,null,null,{"$f":"IF(A433=\"\",\"\",MAX(I$10:I432)+1)","v":""},""]
[null,null,null,null,null,null,null,null,{"$f":"IF(A434=\"\",\"\",MAX(I$10:I433)+1)","v":""},""]
[null,null,null,null,null,null,null,null,{"$f":"IF(A435=\"\",\"\",MAX(I$10:I434)+1)","v":""},""]
[null,null,null,null,null,null,null,null,{"$f":"IF(A436=\"\",\"\",MAX(I$10:I435)+1)","v":""},""]
[null,null,null,null,null,null,null,null,{"$f":"IF(A437=\"\",\"\",MAX(I$10:I436)+1)","v":""},""]
[null,null,null,null,null,null,null,null,{"$f":"IF(A438=\"\",\"\",MAX(I$10:I437)+1)","v":""},""]
[null,null,null,null,null,null,null,null,{"$f":"IF(A439=\"\",\"\",MAX(I$10:I438)+1)","v":""},""]
[null,null,null,null,null,null,null,null,{"$f":"IF(A440=\"\",\"\",MAX(I$10:I439)+1)","v":""},""]
[null,null,null,null,null,null,null,null,{"$f":"IF(A441=\"\",\"\",MAX(I$10:I440)+1)","v":""},""]
[null,null,null,null,null,null,null,null,{"$f":"IF(A442=\"\",\"\",MAX(I$10:I441)+1)","v":""},""]
[null,null,null,null,null,null,null,null,{"$f":"IF(A443=\"\",\"\",MAX(I$10:I442)+1)","v":""},""]
[null,null,null,null,null,null,null,null,{"$f":"IF(A444=\"\",\"\",MAX(I$10:I443)+1)","v":""},""]
[null,null,null,null,null,null,null,null,{"$f":"IF(A445=\"\",\"\",MAX(I$10:I444)+1)","v":""},""]
[null,null,null,null,null,null,null,null,{"$f":"IF(A446=\"\",\"\",MAX(I$10:I445)+1)","v":""},""]
[null,null,null,null,null,null,null,null,{"$f":"IF(A447=\"\",\"\",MAX(I$10:I446)+1)","v":""},""]
[null,null,null,null,null,null,null,null,{"$f":"IF(A448=\"\",\"\",MAX(I$10:I447)+1)","v":""},""]
[null,null,null,null,null,null,null,null,{"$f":"IF(A449=\"\",\"\",MAX(I$10:I448)+1)","v":""},""]
[null,null,null,null,null,null,null,null,{"$f":"IF(A450=\"\",\"\",MAX(I$10:I449)+1)","v":""},""]
[null,null,null,null,null,null,null,null,{"$f":"IF(A451=\"\",\"\",MAX(I$10:I450)+1)","v":""},""]
[null,null,null,null,null,null,null,null,{"$f":"IF(A452=\"\",\"\",MAX(I$10:I451)+1)","v":""},""]
[null,null,null,null,null,null,null,null,{"$f":"IF(A453=\"\",\"\",MAX(I$10:I452)+1)","v":""},""]
[null,null,null,null,null,null,null,null,{"$f":"IF(A454=\"\",\"\",MAX(I$10:I453)+1)","v":""},""]
[null,null,null,null,null,null,null,null,{"$f":"IF(A455=\"\",\"\",MAX(I$10:I454)+1)","v":""},""]
[null,null,null,null,null,null,null,null,{"$f":"IF(A456=\"\",\"\",MAX(I$10:I455)+1)","v":""},""]
[null,null,null,null,null,null,null,null,{"$f":"IF(A457=\"\",\"\",MAX(I$10:I456)+1)","v":""},""]
[null,null,null,null,null,null,null,null,{"$f":"IF(A458=\"\",\"\",MAX(I$10:I457)+1)","v":""},""]
[null,null,null,null,null,null,null,null,{"$f":"IF(A459=\"\",\"\",MAX(I$10:I458)+1)","v":""},""]
[null,null,null,null,null,null,null,null,{"$f":"IF(A460=\"\",\"\",MAX(I$10:I459)+1)","v":""},{"$f":"IFERROR(INDEX($A$11:$A$100000,MATCH(ROW()-10,$I$11:$I$100000,0)),\"\")","v":""}]
[null,null,null,null,null,null,null,null,{"$f":"IF(A461=\"\",\"\",MAX(I$10:I460)+1)","v":""},""]
[null,null,null,null,null,null,null,null,{"$f":"IF(A462=\"\",\"\",MAX(I$10:I461)+1)","v":""},""]
[null,null,null,null,null,null,null,null,{"$f":"IF(A463=\"\",\"\",MAX(I$10:I462)+1)","v":""},""]
[null,null,null,null,null,null,null,null,{"$f":"IF(A464=\"\",\"\",MAX(I$10:I463)+1)","v":""},""]
[null,null,null,null,null,null,null,null,{"$f":"IF(A465=\"\",\"\",MAX(I$10:I464)+1)","v":""},""]
[null,null,null,null,null,null,null,null,{"$f":"IF(A466=\"\",\"\",MAX(I$10:I465)+1)","v":""},""]
[null,null,null,null,null,null,null,null,{"$f":"IF(A467=\"\",\"\",MAX(I$10:I466)+1)","v":""},""]
[null,null,null,null,null,null,null,null,{"$f":"IF(A468=\"\",\"\",MAX(I$10:I467)+1)","v":""},""]
[null,null,null,null,null,null,null,null,{"$f":"IF(A469=\"\",\"\",MAX(I$10:I468)+1)","v":""},""]
[null,null,null,null,null,null,null,null,{"$f":"IF(A470=\"\",\"\",MAX(I$10:I469)+1)","v":""},""]
[null,null,null,null,null,null,null,null,{"$f":"IF(A471=\"\",\"\",MAX(I$10:I470)+1)","v":""},""]
[null,null,null,null,null,null,null,null,{"$f":"IF(A472=\"\",\"\",MAX(I$10:I471)+1)","v":""},""]
[null,null,null,null,null,null,null,null,{"$f":"IF(A473=\"\",\"\",MAX(I$10:I472)+1)","v":""},""]
[null,null,null,null,null,null,null,null,{"$f":"IF(A474=\"\",\"\",MAX(I$10:I473)+1)","v":""},""]
[null,null,null,null,null,null,null,null,{"$f":"IF(A475=\"\",\"\",MAX(I$10:I474)+1)","v":""},""]
[null,null,null,null,null,null,null,null,{"$f":"IF(A476=\"\",\"\",MAX(I$10:I475)+1)","v":""},""]
[null,null,null,null,null,null,null,null,{"$f":"IF(A477=\"\",\"\",MAX(I$10:I476)+1)","v":""},""]
[null,null,null,null,null,null,null,null,{"$f":"IF(A478=\"\",\"\",MAX(I$10:I477)+1)","v":""},""]
[null,null,null,null,null,null,null,null,{"$f":"IF(A479=\"\",\"\",MAX(I$10:I478)+1)","v":""},""]
[null,null,null,null,null,null,null,null,{"$f":"IF(A480=\"\",\"\",MAX(I$10:I479)+1)","v":""},""]
[null,null,null,null,null,null,null,null,{"$f":"IF(A481=\"\",\"\",MAX(I$10:I480)+1)","v":""},""]
[null,null,null,null,null,null,null,null,{"$f":"IF(A482=\"\",\"\",MAX(I$10:I481)+1)","v":""},""]
[null,null,null,null,null,null,null,null,{"$f":"IF(A483=\"\",\"\",MAX(I$10:I482)+1)","v":""},""]
[null,null,null,null,null,null,null,null,{"$f":"IF(A484=\"\",\"\",MAX(I$10:I483)+1)","v":""},""]
[null,null,null,null,null,null,null,null,{"$f":"IF(A485=\"\",\"\",MAX(I$10:I484)+1)","v":""},""]
[null,null,null,null,null,null,null,null,{"$f":"IF(A486=\"\",\"\",MAX(I$10:I485)+1)","v":""},""]
[null,null,null,null,null,null,null,null,{"$f":"IF(A487=\"\",\"\",MAX(I$10:I486)+1)","v":""},""]
[null,null,null,null,null,null,null,null,{"$f":"IF(A488=\"\",\"\",MAX(I$10:I487)+1)","v":""},""]
[null,null,null,null,null,null,null,null,{"$f":"IF(A489=\"\",\"\",MAX(I$10:I488)+1)","v":""},""]
[null,null,null,null,null,null,null,null,{"$f":"IF(A490=\"\",\"\",MAX(I$10:I489)+1)","v":""},""]
[null,null,null,null,null,null,null,null,{"$f":"IF(A491=\"\",\"\",MAX(I$10:I490)+1)","v":""},""]
[null,null,null,null,null,null,null,null,{"$f":"IF(A492=\"\",\"\",MAX(I$10:I491)+1)","v":""},""]
[null,null,null,null,null,null,null,null,{"$f":"IF(A493=\"\",\"\",MAX(I$10:I492)+1)","v":""},""]
[null,null,null,null,null,null,null,null,{"$f":"IF(A494=\"\",\"\",MAX(I$10:I493)+1)","v":""},""]
[null,null,null,null,null,null,null,null,{"$f":"IF(A495=\"\",\"\",MAX(I$10:I494)+1)","v":""},""]
[null,null,null,null,null,null,null,null,{"$f":"IF(A496=\"\",\"\",MAX(I$10:I495)+1)","v":""},""]
[null,null,null,null,null,null,null,null,{"$f":"IF(A497=\"\",\"\",MAX(I$10:I496)+1)","v":""},""]
[null,null,null,null,null,null,null,null,{"$f":"IF(A498=\"\",\"\",MAX(I$10:I497)+1)","v":""},""]
[null,null,null,null,null,null,null,null,{"$f":"IF(A499=\"\",\"\",MAX(I$10:I498)+1)","v":""},""]
[null,null,null,null,null,null,null,null,{"$f":"IF(A500=\"\",\"\",MAX(I$10:I499)+1)","v":""},""]
[null,null,null,null,null,null,null,null,{"$f":"IF(A501=\"\",\"\",MAX(I$10:I500)+1)","v":""},""]
[null,null,null,null,null,null,null,null,{"$f":"IF(A502=\"\",\"\",MAX(I$10:I501)+1)","v":""},""]
[null,null,null,null,null,null,null,null,{"$f":"IF(A503=\"\",\"\",MAX(I$10:I502)+1)","v":""},""]
[null,null,null,null,null,null,null,null,{"$f":"IF(A504=\"\",\"\",MAX(I$10:I503)+1)","v":""},""]
[null,null,null,null,null,null,null,null,{"$f":"IF(A505=\"\",\"\",MAX(I$10:I504)+1)","v":""},""]
[null,null,null,null,null,null,null,null,{"$f":"IF(A506=\"\",\"\",MAX(I$10:I505)+1)","v":""},""]
[null,null,null,null,null,null,null,null,{"$f":"IF(A507=\"\",\"\",MAX(I$10:I506)+1)","v":""},""]
[null,null,null,null,null,null,null,null,{"$f":"IF(A508=\"\",\"\",MAX(I$10:I507)+1)","v":""},""]
[null,null,null,null,null,null,null,null,{"$f":"IF(A509=\"\",\"\",MAX(I$10:I508)+1)","v":""},""]
[null,null,null,null,null,null,null,null,{"$f":"IF(A510=\"\",\"\",MAX(I$10:I509)+1)","v":""},""]
[null,null,null,null,null,null,null,null,{"$f":"IF(A511=\"\",\"\",MAX(I$10:I510)+1)","v":""},""]
[null,null,null,null,null,null,null,null,{"$f":"IF(A512=\"\",\"\",MAX(I$10:I511)+1)","v":""},""]
[null,null,null,null,null,null,null,null,{"$f":"IF(A513=\"\",\"\",MAX(I$10:I512)+1)","v":""},""]
[null,null,null,null,null,null,null,null,{"$f":"IF(A514=\"\",\"\",MAX(I$10:I513)+1)","v":""},""]
[null,null,null,null,null,null,null,null,{"$f":"IF(A515=\"\",\"\",MAX(I$10:I514)+1)","v":""},""]
[null,null,null,null,null,null,null,null,{"$f":"IF(A516=\"\",\"\",MAX(I$10:I515)+1)","v":""},""]
[null,null,null,null,null,null,null,null,{"$f":"IF(A517=\"\",\"\",MAX(I$10:I516)+1)","v":""},""]
[null,null,null,null,null,null,null,null,{"$f":"IF(A518=\"\",\"\",MAX(I$10:I517)+1)","v":""},""]
[null,null,null,null,null,null,null,null,{"$f":"IF(A519=\"\",\"\",MAX(I$10:I518)+1)","v":""},""]
[null,null,null,null,null,null,null,null,{"$f":"IF(A520=\"\",\"\",MAX(I$10:I519)+1)","v":""},""]
[null,null,null,null,null,null,null,null,{"$f":"IF(A521=\"\",\"\",MAX(I$10:I520)+1)","v":""},""]
[null,null,null,null,null,null,null,null,{"$f":"IF(A522=\"\",\"\",MAX(I$10:I521)+1)","v":""},""]
[null,null,null,null,null,null,null,null,{"$f":"IF(A523=\"\",\"\",MAX(I$10:I522)+1)","v":""},""]
[null,null,null,null,null,null,null,null,{"$f":"IF(A524=\"\",\"\",MAX(I$10:I523)+1)","v":""},{"$f":"IFERROR(INDEX($A$11:$A$100000,MATCH(ROW()-10,$I$11:$I$100000,0)),\"\")","v":""}]
[null,null,null,null,null,null,null,null,{"$f":"IF(A525=\"\",\"\",MAX(I$10:I524)+1)","v":""},""]
[null,null,null,null,null,null,null,null,{"$f":"IF(A526=\"\",\"\",MAX(I$10:I525)+1)","v":""},""]
[null,null,null,null,null,null,null,null,{"$f":"IF(A527=\"\",\"\",MAX(I$10:I526)+1)","v":""},""]
[null,null,null,null,null,null,null,null,{"$f":"IF(A528=\"\",\"\",MAX(I$10:I527)+1)","v":""},""]
[null,null,null,null,null,null,null,null,{"$f":"IF(A529=\"\",\"\",MAX(I$10:I528)+1)","v":""},""]
[null,null,null,null,null,null,null,null,{"$f":"IF(A530=\"\",\"\",MAX(I$10:I529)+1)","v":""},""]
[null,null,null,null,null,null,null,null,{"$f":"IF(A531=\"\",\"\",MAX(I$10:I530)+1)","v":""},""]
[null,null,null,null,null,null,null,null,{"$f":"IF(A532=\"\",\"\",MAX(I$10:I531)+1)","v":""},""]
[null,null,null,null,null,null,null,null,{"$f":"IF(A533=\"\",\"\",MAX(I$10:I532)+1)","v":""},""]
[null,null,null,null,null,null,null,null,{"$f":"IF(A534=\"\",\"\",MAX(I$10:I533)+1)","v":""},""]
[null,null,null,null,null,null,null,null,{"$f":"IF(A535=\"\",\"\",MAX(I$10:I534)+1)","v":""},""]
[null,null,null,null,null,null,null,null,{"$f":"IF(A536=\"\",\"\",MAX(I$10:I535)+1)","v":""},""]
[null,null,null,null,null,null,null,null,{"$f":"IF(A537=\"\",\"\",MAX(I$10:I536)+1)","v":""},""]
[null,null,null,null,null,null,null,null,{"$f":"IF(A538=\"\",\"\",MAX(I$10:I537)+1)","v":""},""]
[null,null,null,null,null,null,null,null,{"$f":"IF(A539=\"\",\"\",MAX(I$10:I538)+1)","v":""},""]
[null,null,null,null,null,null,null,null,{"$f":"IF(A540=\"\",\"\",MAX(I$10:I539)+1)","v":""},""]
[null,null,null,null,null,null,null,null,{"$f":"IF(A541=\"\",\"\",MAX(I$10:I540)+1)","v":""},""]
[null,null,null,null,null,null,null,null,{"$f":"IF(A542=\"\",\"\",MAX(I$10:I541)+1)","v":""},""]
[null,null,null,null,null,null,null,null,{"$f":"IF(A543=\"\",\"\",MAX(I$10:I542)+1)","v":""},""]
[null,null,null,null,null,null,null,null,{"$f":"IF(A544=\"\",\"\",MAX(I$10:I543)+1)","v":""},""]
[null,null,null,null,null,null,null,null,{"$f":"IF(A545=\"\",\"\",MAX(I$10:I544)+1)","v":""},""]
[null,null,null,null,null,null,null,null,{"$f":"IF(A546=\"\",\"\",MAX(I$10:I545)+1)","v":""},""]
[null,null,null,null,null,null,null,null,{"$f":"IF(A547=\"\",\"\",MAX(I$10:I546)+1)","v":""},""]
[null,null,null,null,null,null,null,null,{"$f":"IF(A548=\"\",\"\",MAX(I$10:I547)+1)","v":""},""]
[null,null,null,null,null,null,null,null,{"$f":"IF(A549=\"\",\"\",MAX(I$10:I548)+1)","v":""},""]
[null,null,null,null,null,null,null,null,{"$f":"IF(A550=\"\",\"\",MAX(I$10:I549)+1)","v":""},""]
[null,null,null,null,null,null,null,null,{"$f":"IF(A551=\"\",\"\",MAX(I$10:I550)+1)","v":""},""]
[null,null,null,null,null,null,null,null,{"$f":"IF(A552=\"\",\"\",MAX(I$10:I551)+1)","v":""},""]
[null,null,null,null,null,null,null,null,{"$f":"IF(A553=\"\",\"\",MAX(I$10:I552)+1)","v":""},""]
[null,null,null,null,null,null,null,null,{"$f":"IF(A554=\"\",\"\",MAX(I$10:I553)+1)","v":""},""]
[null,null,null,null,null,null,null,null,{"$f":"IF(A555=\"\",\"\",MAX(I$10:I554)+1)","v":""},""]
[null,null,null,null,null,null,null,null,{"$f":"IF(A556=\"\",\"\",MAX(I$10:I555)+1)","v":""},""]
[null,null,null,null,null,null,null,null,{"$f":"IF(A557=\"\",\"\",MAX(I$10:I556)+1)","v":""},""]
[null,null,null,null,null,null,null,null,{"$f":"IF(A558=\"\",\"\",MAX(I$10:I557)+1)","v":""},""]
[null,null,null,null,null,null,null,null,{"$f":"IF(A559=\"\",\"\",MAX(I$10:I558)+1)","v":""},""]
[null,null,null,null,null,null,null,null,{"$f":"IF(A560=\"\",\"\",MAX(I$10:I559)+1)","v":""},""]
[null,null,null,null,null,null,null,null,{"$f":"IF(A561=\"\",\"\",MAX(I$10:I560)+1)","v":""},""]
[null,null,null,null,null,null,null,null,{"$f":"IF(A562=\"\",\"\",MAX(I$10:I561)+1)","v":""},""]
[null,null,null,null,null,null,null,null,{"$f":"IF(A563=\"\",\"\",MAX(I$10:I562)+1)","v":""},""]
[null,null,null,null,null,null,null,null,{"$f":"IF(A564=\"\",\"\",MAX(I$10:I563)+1)","v":""},""]
[null,null,null,null,null,null,null,null,{"$f":"IF(A565=\"\",\"\",MAX(I$10:I564)+1)","v":""},""]
[null,null,null,null,null,null,null,null,{"$f":"IF(A566=\"\",\"\",MAX(I$10:I565)+1)","v":""},""]
[null,null,null,null,null,null,null,null,{"$f":"IF(A567=\"\",\"\",MAX(I$10:I566)+1)","v":""},""]
[null,null,null,null,null,null,null,null,{"$f":"IF(A568=\"\",\"\",MAX(I$10:I567)+1)","v":""},""]
[null,null,null,null,null,null,null,null,{"$f":"IF(A569=\"\",\"\",MAX(I$10:I568)+1)","v":""},""]
[null,null,null,null,null,null,null,null,{"$f":"IF(A570=\"\",\"\",MAX(I$10:I569)+1)","v":""},""]
[null,null,null,null,null,null,null,null,{"$f":"IF(A571=\"\",\"\",MAX(I$10:I570)+1)","v":""},""]
[null,null,null,null,null,null,null,null,{"$f":"IF(A572=\"\",\"\",MAX(I$10:I571)+1)","v":""},""]
[null,null,null,null,null,null,null,null,{"$f":"IF(A573=\"\",\"\",MAX(I$10:I572)+1)","v":""},""]
[null,null,null,null,null,null,null,null,{"$f":"IF(A574=\"\",\"\",MAX(I$10:I573)+1)","v":""},""]
[null,null,null,null,null,null,null,null,{"$f":"IF(A575=\"\",\"\",MAX(I$10:I574)+1)","v":""},""]
[null,null,null,null,null,null,null,null,{"$f":"IF(A576=\"\",\"\",MAX(I$10:I575)+1)","v":""},""]
[null,null,null,null,null,null,null,null,{"$f":"IF(A577=\"\",\"\",MAX(I$10:I576)+1)","v":""},""]
[null,null,null,null,null,null,null,null,{"$f":"IF(A578=\"\",\"\",MAX(I$10:I577)+1)","v":""},""]
[null,null,null,null,null,null,null,null,{"$f":"IF(A579=\"\",\"\",MAX(I$10:I578)+1)","v":""},""]
[null,null,null,null,null,null,null,null,{"$f":"IF(A580=\"\",\"\",MAX(I$10:I579)+1)","v":""},""]
[null,null,null,null,null,null,null,null,{"$f":"IF(A581=\"\",\"\",MAX(I$10:I580)+1)","v":""},""]
[null,null,null,null,null,null,null,null,{"$f":"IF(A582=\"\",\"\",MAX(I$10:I581)+1)","v":""},""]
[null,null,null,null,null,null,null,null,{"$f":"IF(A583=\"\",\"\",MAX(I$10:I582)+1)","v":""},""]
[null,null,null,null,null,null,null,null,{"$f":"IF(A584=\"\",\"\",MAX(I$10:I583)+1)","v":""},""]
[null,null,null,null,null,null,null,null,{"$f":"IF(A585=\"\",\"\",MAX(I$10:I584)+1)","v":""},""]
[null,null,null,null,null,null,null,null,{"$f":"IF(A586=\"\",\"\",MAX(I$10:I585)+1)","v":""},""]
[null,null,null,null,null,null,null,null,{"$f":"IF(A587=\"\",\"\",MAX(I$10:I586)+1)","v":""},""]
[null,null,null,null,null,null,null,null,{"$f":"IF(A588=\"\",\"\",MAX(I$10:I587)+1)","v":""},{"$f":"IFERROR(INDEX($A$11:$A$100000,MATCH(ROW()-10,$I$11:$I$100000,0)),\"\")","v":""}]
[null,null,null,null,null,null,null,null,{"$f":"IF(A589=\"\",\"\",MAX(I$10:I588)+1)","v":""},""]
[null,null,null,null,null,null,null,null,{"$f":"IF(A590=\"\",\"\",MAX(I$10:I589)+1)","v":""},""]
[null,null,null,null,null,null,null,null,{"$f":"IF(A591=\"\",\"\",MAX(I$10:I590)+1)","v":""},""]
[null,null,null,null,null,null,null,null,{"$f":"IF(A592=\"\",\"\",MAX(I$10:I591)+1)","v":""},""]
[null,null,null,null,null,null,null,null,{"$f":"IF(A593=\"\",\"\",MAX(I$10:I592)+1)","v":""},""]
[null,null,null,null,null,null,null,null,{"$f":"IF(A594=\"\",\"\",MAX(I$10:I593)+1)","v":""},""]
[null,null,null,null,null,null,null,null,{"$f":"IF(A595=\"\",\"\",MAX(I$10:I594)+1)","v":""},""]
[null,null,null,null,null,null,null,null,{"$f":"IF(A596=\"\",\"\",MAX(I$10:I595)+1)","v":""},""]
[null,null,null,null,null,null,null,null,{"$f":"IF(A597=\"\",\"\",MAX(I$10:I596)+1)","v":""},""]
[null,null,null,null,null,null,null,null,{"$f":"IF(A598=\"\",\"\",MAX(I$10:I597)+1)","v":""},""]
[null,null,null,null,null,null,null,null,{"$f":"IF(A599=\"\",\"\",MAX(I$10:I598)+1)","v":""},""]
[null,null,null,null,null,null,null,null,{"$f":"IF(A600=\"\",\"\",MAX(I$10:I599)+1)","v":""},""]
[null,null,null,null,null,null,null,null,{"$f":"IF(A601=\"\",\"\",MAX(I$10:I600)+1)","v":""},""]
[null,null,null,null,null,null,null,null,{"$f":"IF(A602=\"\",\"\",MAX(I$10:I601)+1)","v":""},""]
[null,null,null,null,null,null,null,null,{"$f":"IF(A603=\"\",\"\",MAX(I$10:I602)+1)","v":""},""]
[null,null,null,null,null,null,null,null,{"$f":"IF(A604=\"\",\"\",MAX(I$10:I603)+1)","v":""},""]
[null,null,null,null,null,null,null,null,{"$f":"IF(A605=\"\",\"\",MAX(I$10:I604)+1)","v":""},""]
[null,null,null,null,null,null,null,null,{"$f":"IF(A606=\"\",\"\",MAX(I$10:I605)+1)","v":""},""]
[null,null,null,null,null,null,null,null,{"$f":"IF(A607=\"\",\"\",MAX(I$10:I606)+1)","v":""},""]
[null,null,null,null,null,null,null,null,{"$f":"IF(A608=\"\",\"\",MAX(I$10:I607)+1)","v":""},""]
[null,null,null,null,null,null,null,null,{"$f":"IF(A609=\"\",\"\",MAX(I$10:I608)+1)","v":""},""]
[null,null,null,null,null,null,null,null,{"$f":"IF(A610=\"\",\"\",MAX(I$10:I609)+1)","v":""},""]
[null,null,null,null,null,null,null,null,{"$f":"IF(A611=\"\",\"\",MAX(I$10:I610)+1)","v":""},""]
[null,null,null,null,null,null,null,null,{"$f":"IF(A612=\"\",\"\",MAX(I$10:I611)+1)","v":""},""]
[null,null,null,null,null,null,null,null,{"$f":"IF(A613=\"\",\"\",MAX(I$10:I612)+1)","v":""},""]
[null,null,null,null,null,null,null,null,{"$f":"IF(A614=\"\",\"\",MAX(I$10:I613)+1)","v":""},""]
[null,null,null,null,null,null,null,null,{"$f":"IF(A615=\"\",\"\",MAX(I$10:I614)+1)","v":""},""]
[null,null,null,null,null,null,null,null,{"$f":"IF(A616=\"\",\"\",MAX(I$10:I615)+1)","v":""},""]
[null,null,null,null,null,null,null,null,{"$f":"IF(A617=\"\",\"\",MAX(I$10:I616)+1)","v":""},""]
[null,null,null,null,null,null,null,null,{"$f":"IF(A618=\"\",\"\",MAX(I$10:I617)+1)","v":""},""]
[null,null,null,null,null,null,null,null,{"$f":"IF(A619=\"\",\"\",MAX(I$10:I618)+1)","v":""},""]
[null,null,null,null,null,null,null,null,{"$f":"IF(A620=\"\",\"\",MAX(I$10:I619)+1)","v":""},""]
[null,null,null,null,null,null,null,null,{"$f":"IF(A621=\"\",\"\",MAX(I$10:I620)+1)","v":""},""]
[null,null,null,null,null,null,null,null,{"$f":"IF(A622=\"\",\"\",MAX(I$10:I621)+1)","v":""},""]
[null,null,null,null,null,null,null,null,{"$f":"IF(A623=\"\",\"\",MAX(I$10:I622)+1)","v":""},""]
[null,null,null,null,null,null,null,null,{"$f":"IF(A624=\"\",\"\",MAX(I$10:I623)+1)","v":""},""]
[null,null,null,null,null,null,null,null,{"$f":"IF(A625=\"\",\"\",MAX(I$10:I624)+1)","v":""},""]
[null,null,null,null,null,null,null,null,{"$f":"IF(A626=\"\",\"\",MAX(I$10:I625)+1)","v":""},""]
[null,null,null,null,null,null,null,null,{"$f":"IF(A627=\"\",\"\",MAX(I$10:I626)+1)","v":""},""]
[null,null,null,null,null,null,null,null,{"$f":"IF(A628=\"\",\"\",MAX(I$10:I627)+1)","v":""},""]
[null,null,null,null,null,null,null,null,{"$f":"IF(A629=\"\",\"\",MAX(I$10:I628)+1)","v":""},""]
[null,null,null,null,null,null,null,null,{"$f":"IF(A630=\"\",\"\",MAX(I$10:I629)+1)","v":""},""]
[null,null,null,null,null,null,null,null,{"$f":"IF(A631=\"\",\"\",MAX(I$10:I630)+1)","v":""},""]
[null,null,null,null,null,null,null,null,{"$f":"IF(A632=\"\",\"\",MAX(I$10:I631)+1)","v":""},""]
[null,null,null,null,null,null,null,null,{"$f":"IF(A633=\"\",\"\",MAX(I$10:I632)+1)","v":""},""]
[null,null,null,null,null,null,null,null,{"$f":"IF(A634=\"\",\"\",MAX(I$10:I633)+1)","v":""},""]
[null,null,null,null,null,null,null,null,{"$f":"IF(A635=\"\",\"\",MAX(I$10:I634)+1)","v":""},""]
[null,null,null,null,null,null,null,null,{"$f":"IF(A636=\"\",\"\",MAX(I$10:I635)+1)","v":""},""]
[null,null,null,null,null,null,null,null,{"$f":"IF(A637=\"\",\"\",MAX(I$10:I636)+1)","v":""},""]
[null,null,null,null,null,null,null,null,{"$f":"IF(A638=\"\",\"\",MAX(I$10:I637)+1)","v":""},""]
[null,null,null,null,null,null,null,null,{"$f":"IF(A639=\"\",\"\",MAX(I$10:I638)+1)","v":""},""]
[null,null,null,null,null,null,null,null,{"$f":"IF(A640=\"\",\"\",MAX(I$10:I639)+1)","v":""},""]
[null,null,null,null,null,null,null,null,{"$f":"IF(A641=\"\",\"\",MAX(I$10:I640)+1)","v":""},""]
[null,null,null,null,null,null,null,null,{"$f":"IF(A642=\"\",\"\",MAX(I$10:I641)+1)","v":""},""]
[null,null,null,null,null,null,null,null,{"$f":"IF(A643=\"\",\"\",MAX(I$10:I642)+1)","v":""},""]
[null,null,null,null,null,null,null,null,{"$f":"IF(A644=\"\",\"\",MAX(I$10:I643)+1)","v":""},""]
[null,null,null,null,null,null,null,null,{"$f":"IF(A645=\"\",\"\",MAX(I$10:I644)+1)","v":""},""]
[null,null,null,null,null,null,null,null,{"$f":"IF(A646=\"\",\"\",MAX(I$10:I645)+1)","v":""},""]
[null,null,null,null,null,null,null,null,{"$f":"IF(A647=\"\",\"\",MAX(I$10:I646)+1)","v":""},""]
[null,null,null,null,null,null,null,null,{"$f":"IF(A648=\"\",\"\",MAX(I$10:I647)+1)","v":""},""]
[null,null,null,null,null,null,null,null,{"$f":"IF(A649=\"\",\"\",MAX(I$10:I648)+1)","v":""},""]
[null,null,null,null,null,null,null,null,{"$f":"IF(A650=\"\",\"\",MAX(I$10:I649)+1)","v":""},""]
[null,null,null,null,null,null,null,null,{"$f":"IF(A651=\"\",\"\",MAX(I$10:I650)+1)","v":""},""]
[null,null,null,null,null,null,null,null,{"$f":"IF(A652=\"\",\"\",MAX(I$10:I651)+1)","v":""},{"$f":"IFERROR(INDEX($A$11:$A$100000,MATCH(ROW()-10,$I$11:$I$100000,0)),\"\")","v":""}]
[null,null,null,null,null,null,null,null,{"$f":"IF(A653=\"\",\"\",MAX(I$10:I652)+1)","v":""},""]
[null,null,null,null,null,null,null,null,{"$f":"IF(A654=\"\",\"\",MAX(I$10:I653)+1)","v":""},""]
[null,null,null,null,null,null,null,null,{"$f":"IF(A655=\"\",\"\",MAX(I$10:I654)+1)","v":""},""]
[null,null,null,null,null,null,null,null,{"$f":"IF(A656=\"\",\"\",MAX(I$10:I655)+1)","v":""},""]
[null,null,null,null,null,null,null,null,{"$f":"IF(A657=\"\",\"\",MAX(I$10:I656)+1)","v":""},""]
[null,null,null,null,null,null,null,null,{"$f":"IF(A658=\"\",\"\",MAX(I$10:I657)+1)","v":""},""]
[null,null,null,null,null,null,null,null,{"$f":"IF(A659=\"\",\"\",MAX(I$10:I658)+1)","v":""},""]
[null,null,null,null,null,null,null,null,{"$f":"IF(A660=\"\",\"\",MAX(I$10:I659)+1)","v":""},""]
[null,null,null,null,null,null,null,null,{"$f":"IF(A661=\"\",\"\",MAX(I$10:I660)+1)","v":""},""]
[null,null,null,null,null,null,null,null,{"$f":"IF(A662=\"\",\"\",MAX(I$10:I661)+1)","v":""},""]
[null,null,null,null,null,null,null,null,{"$f":"IF(A663=\"\",\"\",MAX(I$10:I662)+1)","v":""},""]
[null,null,null,null,null,null,null,null,{"$f":"IF(A664=\"\",\"\",MAX(I$10:I663)+1)","v":""},""]
[null,null,null,null,null,null,null,null,{"$f":"IF(A665=\"\",\"\",MAX(I$10:I664)+1)","v":""},""]
[null,null,null,null,null,null,null,null,{"$f":"IF(A666=\"\",\"\",MAX(I$10:I665)+1)","v":""},""]
[null,null,null,null,null,null,null,null,{"$f":"IF(A667=\"\",\"\",MAX(I$10:I666)+1)","v":""},""]
[null,null,null,null,null,null,null,null,{"$f":"IF(A668=\"\",\"\",MAX(I$10:I667)+1)","v":""},""]
[null,null,null,null,null,null,null,null,{"$f":"IF(A669=\"\",\"\",MAX(I$10:I668)+1)","v":""},""]
[null,null,null,null,null,null,null,null,{"$f":"IF(A670=\"\",\"\",MAX(I$10:I669)+1)","v":""},""]
[null,null,null,null,null,null,null,null,{"$f":"IF(A671=\"\",\"\",MAX(I$10:I670)+1)","v":""},""]
[null,null,null,null,null,null,null,null,{"$f":"IF(A672=\"\",\"\",MAX(I$10:I671)+1)","v":""},""]
[null,null,null,null,null,null,null,null,{"$f":"IF(A673=\"\",\"\",MAX(I$10:I672)+1)","v":""},""]
[null,null,null,null,null,null,null,null,{"$f":"IF(A674=\"\",\"\",MAX(I$10:I673)+1)","v":""},""]
[null,null,null,null,null,null,null,null,{"$f":"IF(A675=\"\",\"\",MAX(I$10:I674)+1)","v":""},""]
[null,null,null,null,null,null,null,null,{"$f":"IF(A676=\"\",\"\",MAX(I$10:I675)+1)","v":""},""]
[null,null,null,null,null,null,null,null,{"$f":"IF(A677=\"\",\"\",MAX(I$10:I676)+1)","v":""},""]
[null,null,null,null,null,null,null,null,{"$f":"IF(A678=\"\",\"\",MAX(I$10:I677)+1)","v":""},""]
[null,null,null,null,null,null,null,null,{"$f":"IF(A679=\"\",\"\",MAX(I$10:I678)+1)","v":""},""]
[null,null,null,null,null,null,null,null,{"$f":"IF(A680=\"\",\"\",MAX(I$10:I679)+1)","v":""},""]
[null,null,null,null,null,null,null,null,{"$f":"IF(A681=\"\",\"\",MAX(I$10:I680)+1)","v":""},""]
[null,null,null,null,null,null,null,null,{"$f":"IF(A682=\"\",\"\",MAX(I$10:I681)+1)","v":""},""]
[null,null,null,null,null,null,null,null,{"$f":"IF(A683=\"\",\"\",MAX(I$10:I682)+1)","v":""},""]
[null,null,null,null,null,null,null,null,{"$f":"IF(A684=\"\",\"\",MAX(I$10:I683)+1)","v":""},""]
[null,null,null,null,null,null,null,null,{"$f":"IF(A685=\"\",\"\",MAX(I$10:I684)+1)","v":""},""]
[null,null,null,null,null,null,null,null,{"$f":"IF(A686=\"\",\"\",MAX(I$10:I685)+1)","v":""},""]
[null,null,null,null,null,null,null,null,{"$f":"IF(A687=\"\",\"\",MAX(I$10:I686)+1)","v":""},""]
[null,null,null,null,null,null,null,null,{"$f":"IF(A688=\"\",\"\",MAX(I$10:I687)+1)","v":""},""]
[null,null,null,null,null,null,null,null,{"$f":"IF(A689=\"\",\"\",MAX(I$10:I688)+1)","v":""},""]
[null,null,null,null,null,null,null,null,{"$f":"IF(A690=\"\",\"\",MAX(I$10:I689)+1)","v":""},""]
[null,null,null,null,null,null,null,null,{"$f":"IF(A691=\"\",\"\",MAX(I$10:I690)+1)","v":""},""]
[null,null,null,null,null,null,null,null,{"$f":"IF(A692=\"\",\"\",MAX(I$10:I691)+1)","v":""},""]
[null,null,null,null,null,null,null,null,{"$f":"IF(A693=\"\",\"\",MAX(I$10:I692)+1)","v":""},""]
[null,null,null,null,null,null,null,null,{"$f":"IF(A694=\"\",\"\",MAX(I$10:I693)+1)","v":""},""]
[null,null,null,null,null,null,null,null,{"$f":"IF(A695=\"\",\"\",MAX(I$10:I694)+1)","v":""},""]
[null,null,null,null,null,null,null,null,{"$f":"IF(A696=\"\",\"\",MAX(I$10:I695)+1)","v":""},""]
[null,null,null,null,null,null,null,null,{"$f":"IF(A697=\"\",\"\",MAX(I$10:I696)+1)","v":""},""]
[null,null,null,null,null,null,null,null,{"$f":"IF(A698=\"\",\"\",MAX(I$10:I697)+1)","v":""},""]
[null,null,null,null,null,null,null,null,{"$f":"IF(A699=\"\",\"\",MAX(I$10:I698)+1)","v":""},""]
[null,null,null,null,null,null,null,null,{"$f":"IF(A700=\"\",\"\",MAX(I$10:I699)+1)","v":""},""]
[null,null,null,null,null,null,null,null,{"$f":"IF(A701=\"\",\"\",MAX(I$10:I700)+1)","v":""},""]
[null,null,null,null,null,null,null,null,{"$f":"IF(A702=\"\",\"\",MAX(I$10:I701)+1)","v":""},""]
[null,null,null,null,null,null,null,null,{"$f":"IF(A703=\"\",\"\",MAX(I$10:I702)+1)","v":""},""]
[null,null,null,null,null,null,null,null,{"$f":"IF(A704=\"\",\"\",MAX(I$10:I703)+1)","v":""},""]
[null,null,null,null,null,null,null,null,{"$f":"IF(A705=\"\",\"\",MAX(I$10:I704)+1)","v":""},""]
[null,null,null,null,null,null,null,null,{"$f":"IF(A706=\"\",\"\",MAX(I$10:I705)+1)","v":""},""]
[null,null,null,null,null,null,null,null,{"$f":"IF(A707=\"\",\"\",MAX(I$10:I706)+1)","v":""},""]
[null,null,null,null,null,null,null,null,{"$f":"IF(A708=\"\",\"\",MAX(I$10:I707)+1)","v":""},""]
[null,null,null,null,null,null,null,null,{"$f":"IF(A709=\"\",\"\",MAX(I$10:I708)+1)","v":""},""]
[null,null,null,null,null,null,null,null,{"$f":"IF(A710=\"\",\"\",MAX(I$10:I709)+1)","v":""},""]
[null,null,null,null,null,null,null,null,{"$f":"IF(A711=\"\",\"\",MAX(I$10:I710)+1)","v":""},""]
[null,null,null,null,null,null,null,null,{"$f":"IF(A712=\"\",\"\",MAX(I$10:I711)+1)","v":""},""]
[null,null,null,null,null,null,null,null,{"$f":"IF(A713=\"\",\"\",MAX(I$10:I712)+1)","v":""},""]
[null,null,null,null,null,null,null,null,{"$f":"IF(A714=\"\",\"\",MAX(I$10:I713)+1)","v":""},""]
[null,null,null,null,null,null,null,null,{"$f":"IF(A715=\"\",\"\",MAX(I$10:I714)+1)","v":""},""]
[null,null,null,null,null,null,null,null,{"$f":"IF(A716=\"\",\"\",MAX(I$10:I715)+1)","v":""},{"$f":"IFERROR(INDEX($A$11:$A$100000,MATCH(ROW()-10,$I$11:$I$100000,0)),\"\")","v":""}]
[null,null,null,null,null,null,null,null,{"$f":"IF(A717=\"\",\"\",MAX(I$10:I716)+1)","v":""},""]
[null,null,null,null,null,null,null,null,{"$f":"IF(A718=\"\",\"\",MAX(I$10:I717)+1)","v":""},""]
[null,null,null,null,null,null,null,null,{"$f":"IF(A719=\"\",\"\",MAX(I$10:I718)+1)","v":""},""]
[null,null,null,null,null,null,null,null,{"$f":"IF(A720=\"\",\"\",MAX(I$10:I719)+1)","v":""},""]
[null,null,null,null,null,null,null,null,{"$f":"IF(A721=\"\",\"\",MAX(I$10:I720)+1)","v":""},""]
[null,null,null,null,null,null,null,null,{"$f":"IF(A722=\"\",\"\",MAX(I$10:I721)+1)","v":""},""]
[null,null,null,null,null,null,null,null,{"$f":"IF(A723=\"\",\"\",MAX(I$10:I722)+1)","v":""},""]
[null,null,null,null,null,null,null,null,{"$f":"IF(A724=\"\",\"\",MAX(I$10:I723)+1)","v":""},""]
[null,null,null,null,null,null,null,null,{"$f":"IF(A725=\"\",\"\",MAX(I$10:I724)+1)","v":""},""]
[null,null,null,null,null,null,null,null,{"$f":"IF(A726=\"\",\"\",MAX(I$10:I725)+1)","v":""},""]
[null,null,null,null,null,null,null,null,{"$f":"IF(A727=\"\",\"\",MAX(I$10:I726)+1)","v":""},""]
[null,null,null,null,null,null,null,null,{"$f":"IF(A728=\"\",\"\",MAX(I$10:I727)+1)","v":""},""]
[null,null,null,null,null,null,null,null,{"$f":"IF(A729=\"\",\"\",MAX(I$10:I728)+1)","v":""},""]
[null,null,null,null,null,null,null,null,{"$f":"IF(A730=\"\",\"\",MAX(I$10:I729)+1)","v":""},""]
[null,null,null,null,null,null,null,null,{"$f":"IF(A731=\"\",\"\",MAX(I$10:I730)+1)","v":""},""]
[null,null,null,null,null,null,null,null,{"$f":"IF(A732=\"\",\"\",MAX(I$10:I731)+1)","v":""},""]
[null,null,null,null,null,null,null,null,{"$f":"IF(A733=\"\",\"\",MAX(I$10:I732)+1)","v":""},""]
[null,null,null,null,null,null,null,null,{"$f":"IF(A734=\"\",\"\",MAX(I$10:I733)+1)","v":""},""]
[null,null,null,null,null,null,null,null,{"$f":"IF(A735=\"\",\"\",MAX(I$10:I734)+1)","v":""},""]
[null,null,null,null,null,null,null,null,{"$f":"IF(A736=\"\",\"\",MAX(I$10:I735)+1)","v":""},""]
[null,null,null,null,null,null,null,null,{"$f":"IF(A737=\"\",\"\",MAX(I$10:I736)+1)","v":""},""]
[null,null,null,null,null,null,null,null,{"$f":"IF(A738=\"\",\"\",MAX(I$10:I737)+1)","v":""},""]
[null,null,null,null,null,null,null,null,{"$f":"IF(A739=\"\",\"\",MAX(I$10:I738)+1)","v":""},""]
[null,null,null,null,null,null,null,null,{"$f":"IF(A740=\"\",\"\",MAX(I$10:I739)+1)","v":""},""]
[null,null,null,null,null,null,null,null,{"$f":"IF(A741=\"\",\"\",MAX(I$10:I740)+1)","v":""},""]
[null,null,null,null,null,null,null,null,{"$f":"IF(A742=\"\",\"\",MAX(I$10:I741)+1)","v":""},""]
[null,null,null,null,null,null,null,null,{"$f":"IF(A743=\"\",\"\",MAX(I$10:I742)+1)","v":""},""]
[null,null,null,null,null,null,null,null,{"$f":"IF(A744=\"\",\"\",MAX(I$10:I743)+1)","v":""},""]
[null,null,null,null,null,null,null,null,{"$f":"IF(A745=\"\",\"\",MAX(I$10:I744)+1)","v":""},""]
[null,null,null,null,null,null,null,null,{"$f":"IF(A746=\"\",\"\",MAX(I$10:I745)+1)","v":""},""]
[null,null,null,null,null,null,null,null,{"$f":"IF(A747=\"\",\"\",MAX(I$10:I746)+1)","v":""},""]
[null,null,null,null,null,null,null,null,{"$f":"IF(A748=\"\",\"\",MAX(I$10:I747)+1)","v":""},""]
[null,null,null,null,null,null,null,null,{"$f":"IF(A749=\"\",\"\",MAX(I$10:I748)+1)","v":""},""]
[null,null,null,null,null,null,null,null,{"$f":"IF(A750=\"\",\"\",MAX(I$10:I749)+1)","v":""},""]
[null,null,null,null,null,null,null,null,{"$f":"IF(A751=\"\",\"\",MAX(I$10:I750)+1)","v":""},""]
[null,null,null,null,null,null,null,null,{"$f":"IF(A752=\"\",\"\",MAX(I$10:I751)+1)","v":""},""]
[null,null,null,null,null,null,null,null,{"$f":"IF(A753=\"\",\"\",MAX(I$10:I752)+1)","v":""},""]
[null,null,null,null,null,null,null,null,{"$f":"IF(A754=\"\",\"\",MAX(I$10:I753)+1)","v":""},""]
[null,null,null,null,null,null,null,null,{"$f":"IF(A755=\"\",\"\",MAX(I$10:I754)+1)","v":""},""]
[null,null,null,null,null,null,null,null,{"$f":"IF(A756=\"\",\"\",MAX(I$10:I755)+1)","v":""},""]
[null,null,null,null,null,null,null,null,{"$f":"IF(A757=\"\",\"\",MAX(I$10:I756)+1)","v":""},""]
[null,null,null,null,null,null,null,null,{"$f":"IF(A758=\"\",\"\",MAX(I$10:I757)+1)","v":""},""]
[null,null,null,null,null,null,null,null,{"$f":"IF(A759=\"\",\"\",MAX(I$10:I758)+1)","v":""},""]
[null,null,null,null,null,null,null,null,{"$f":"IF(A760=\"\",\"\",MAX(I$10:I759)+1)","v":""},""]
[null,null,null,null,null,null,null,null,{"$f":"IF(A761=\"\",\"\",MAX(I$10:I760)+1)","v":""},""]
[null,null,null,null,null,null,null,null,{"$f":"IF(A762=\"\",\"\",MAX(I$10:I761)+1)","v":""},""]
[null,null,null,null,null,null,null,null,{"$f":"IF(A763=\"\",\"\",MAX(I$10:I762)+1)","v":""},""]
[null,null,null,null,null,null,null,null,{"$f":"IF(A764=\"\",\"\",MAX(I$10:I763)+1)","v":""},""]
[null,null,null,null,null,null,null,null,{"$f":"IF(A765=\"\",\"\",MAX(I$10:I764)+1)","v":""},""]
[null,null,null,null,null,null,null,null,{"$f":"IF(A766=\"\",\"\",MAX(I$10:I765)+1)","v":""},""]
[null,null,null,null,null,null,null,null,{"$f":"IF(A767=\"\",\"\",MAX(I$10:I766)+1)","v":""},""]
[null,null,null,null,null,null,null,null,{"$f":"IF(A768=\"\",\"\",MAX(I$10:I767)+1)","v":""},""]
[null,null,null,null,null,null,null,null,{"$f":"IF(A769=\"\",\"\",MAX(I$10:I768)+1)","v":""},""]
[null,null,null,null,null,null,null,null,{"$f":"IF(A770=\"\",\"\",MAX(I$10:I769)+1)","v":""},""]
[null,null,null,null,null,null,null,null,{"$f":"IF(A771=\"\",\"\",MAX(I$10:I770)+1)","v":""},""]
[null,null,null,null,null,null,null,null,{"$f":"IF(A772=\"\",\"\",MAX(I$10:I771)+1)","v":""},""]
[null,null,null,null,null,null,null,null,{"$f":"IF(A773=\"\",\"\",MAX(I$10:I772)+1)","v":""},""]
[null,null,null,null,null,null,null,null,{"$f":"IF(A774=\"\",\"\",MAX(I$10:I773)+1)","v":""},""]
[null,null,null,null,null,null,null,null,{"$f":"IF(A775=\"\",\"\",MAX(I$10:I774)+1)","v":""},""]
[null,null,null,null,null,null,null,null,{"$f":"IF(A776=\"\",\"\",MAX(I$10:I775)+1)","v":""},""]
[null,null,null,null,null,null,null,null,{"$f":"IF(A777=\"\",\"\",MAX(I$10:I776)+1)","v":""},""]
[null,null,null,null,null,null,null,null,{"$f":"IF(A778=\"\",\"\",MAX(I$10:I777)+1)","v":""},""]
[null,null,null,null,null,null,null,null,{"$f":"IF(A779=\"\",\"\",MAX(I$10:I778)+1)","v":""},""]
[null,null,null,null,null,null,null,null,{"$f":"IF(A780=\"\",\"\",MAX(I$10:I779)+1)","v":""},{"$f":"IFERROR(INDEX($A$11:$A$100000,MATCH(ROW()-10,$I$11:$I$100000,0)),\"\")","v":""}]
[null,null,null,null,null,null,null,null,{"$f":"IF(A781=\"\",\"\",MAX(I$10:I780)+1)","v":""},""]
[null,null,null,null,null,null,null,null,{"$f":"IF(A782=\"\",\"\",MAX(I$10:I781)+1)","v":""},""]
[null,null,null,null,null,null,null,null,{"$f":"IF(A783=\"\",\"\",MAX(I$10:I782)+1)","v":""},""]
[null,null,null,null,null,null,null,null,{"$f":"IF(A784=\"\",\"\",MAX(I$10:I783)+1)","v":""},""]
[null,null,null,null,null,null,null,null,{"$f":"IF(A785=\"\",\"\",MAX(I$10:I784)+1)","v":""},""]
[null,null,null,null,null,null,null,null,{"$f":"IF(A786=\"\",\"\",MAX(I$10:I785)+1)","v":""},""]
[null,null,null,null,null,null,null,null,{"$f":"IF(A787=\"\",\"\",MAX(I$10:I786)+1)","v":""},""]
[null,null,null,null,null,null,null,null,{"$f":"IF(A788=\"\",\"\",MAX(I$10:I787)+1)","v":""},""]
[null,null,null,null,null,null,null,null,{"$f":"IF(A789=\"\",\"\",MAX(I$10:I788)+1)","v":""},""]
[null,null,null,null,null,null,null,null,{"$f":"IF(A790=\"\",\"\",MAX(I$10:I789)+1)","v":""},""]
[null,null,null,null,null,null,null,null,{"$f":"IF(A791=\"\",\"\",MAX(I$10:I790)+1)","v":""},""]
[null,null,null,null,null,null,null,null,{"$f":"IF(A792=\"\",\"\",MAX(I$10:I791)+1)","v":""},""]
[null,null,null,null,null,null,null,null,{"$f":"IF(A793=\"\",\"\",MAX(I$10:I792)+1)","v":""},""]
[null,null,null,null,null,null,null,null,{"$f":"IF(A794=\"\",\"\",MAX(I$10:I793)+1)","v":""},""]
[null,null,null,null,null,null,null,null,{"$f":"IF(A795=\"\",\"\",MAX(I$10:I794)+1)","v":""},""]
[null,null,null,null,null,null,null,null,{"$f":"IF(A796=\"\",\"\",MAX(I$10:I795)+1)","v":""},""]
[null,null,null,null,null,null,null,null,{"$f":"IF(A797=\"\",\"\",MAX(I$10:I796)+1)","v":""},""]
[null,null,null,null,null,null,null,null,{"$f":"IF(A798=\"\",\"\",MAX(I$10:I797)+1)","v":""},""]
[null,null,null,null,null,null,null,null,{"$f":"IF(A799=\"\",\"\",MAX(I$10:I798)+1)","v":""},""]
[null,null,null,null,null,null,null,null,{"$f":"IF(A800=\"\",\"\",MAX(I$10:I799)+1)","v":""},""]
[null,null,null,null,null,null,null,null,{"$f":"IF(A801=\"\",\"\",MAX(I$10:I800)+1)","v":""},""]
[null,null,null,null,null,null,null,null,{"$f":"IF(A802=\"\",\"\",MAX(I$10:I801)+1)","v":""},""]
[null,null,null,null,null,null,null,null,{"$f":"IF(A803=\"\",\"\",MAX(I$10:I802)+1)","v":""},""]
[null,null,null,null,null,null,null,null,{"$f":"IF(A804=\"\",\"\",MAX(I$10:I803)+1)","v":""},""]
[null,null,null,null,null,null,null,null,{"$f":"IF(A805=\"\",\"\",MAX(I$10:I804)+1)","v":""},""]
[null,null,null,null,null,null,null,null,{"$f":"IF(A806=\"\",\"\",MAX(I$10:I805)+1)","v":""},""]
[null,null,null,null,null,null,null,null,{"$f":"IF(A807=\"\",\"\",MAX(I$10:I806)+1)","v":""},""]
[null,null,null,null,null,null,null,null,{"$f":"IF(A808=\"\",\"\",MAX(I$10:I807)+1)","v":""},""]
[null,null,null,null,null,null,null,null,{"$f":"IF(A809=\"\",\"\",MAX(I$10:I808)+1)","v":""},""]
[null,null,null,null,null,null,null,null,{"$f":"IF(A810=\"\",\"\",MAX(I$10:I809)+1)","v":""},""]
[null,null,null,null,null,null,null,null,{"$f":"IF(A811=\"\",\"\",MAX(I$10:I810)+1)","v":""},""]
[null,null,null,null,null,null,null,null,{"$f":"IF(A812=\"\",\"\",MAX(I$10:I811)+1)","v":""},""]
[null,null,null,null,null,null,null,null,{"$f":"IF(A813=\"\",\"\",MAX(I$10:I812)+1)","v":""},""]
[null,null,null,null,null,null,null,null,{"$f":"IF(A814=\"\",\"\",MAX(I$10:I813)+1)","v":""},""]
[null,null,null,null,null,null,null,null,{"$f":"IF(A815=\"\",\"\",MAX(I$10:I814)+1)","v":""},""]
[null,null,null,null,null,null,null,null,{"$f":"IF(A816=\"\",\"\",MAX(I$10:I815)+1)","v":""},""]
[null,null,null,null,null,null,null,null,{"$f":"IF(A817=\"\",\"\",MAX(I$10:I816)+1)","v":""},""]
[null,null,null,null,null,null,null,null,{"$f":"IF(A818=\"\",\"\",MAX(I$10:I817)+1)","v":""},""]
[null,null,null,null,null,null,null,null,{"$f":"IF(A819=\"\",\"\",MAX(I$10:I818)+1)","v":""},""]
[null,null,null,null,null,null,null,null,{"$f":"IF(A820=\"\",\"\",MAX(I$10:I819)+1)","v":""},""]
[null,null,null,null,null,null,null,null,{"$f":"IF(A821=\"\",\"\",MAX(I$10:I820)+1)","v":""},""]
[null,null,null,null,null,null,null,null,{"$f":"IF(A822=\"\",\"\",MAX(I$10:I821)+1)","v":""},""]
[null,null,null,null,null,null,null,null,{"$f":"IF(A823=\"\",\"\",MAX(I$10:I822)+1)","v":""},""]
[null,null,null,null,null,null,null,null,{"$f":"IF(A824=\"\",\"\",MAX(I$10:I823)+1)","v":""},""]
[null,null,null,null,null,null,null,null,{"$f":"IF(A825=\"\",\"\",MAX(I$10:I824)+1)","v":""},""]
[null,null,null,null,null,null,null,null,{"$f":"IF(A826=\"\",\"\",MAX(I$10:I825)+1)","v":""},""]
[null,null,null,null,null,null,null,null,{"$f":"IF(A827=\"\",\"\",MAX(I$10:I826)+1)","v":""},""]
[null,null,null,null,null,null,null,null,{"$f":"IF(A828=\"\",\"\",MAX(I$10:I827)+1)","v":""},""]
[null,null,null,null,null,null,null,null,{"$f":"IF(A829=\"\",\"\",MAX(I$10:I828)+1)","v":""},""]
[null,null,null,null,null,null,null,null,{"$f":"IF(A830=\"\",\"\",MAX(I$10:I829)+1)","v":""},""]
[null,null,null,null,null,null,null,null,{"$f":"IF(A831=\"\",\"\",MAX(I$10:I830)+1)","v":""},""]
[null,null,null,null,null,null,null,null,{"$f":"IF(A832=\"\",\"\",MAX(I$10:I831)+1)","v":""},""]
[null,null,null,null,null,null,null,null,{"$f":"IF(A833=\"\",\"\",MAX(I$10:I832)+1)","v":""},""]
[null,null,null,null,null,null,null,null,{"$f":"IF(A834=\"\",\"\",MAX(I$10:I833)+1)","v":""},""]
[null,null,null,null,null,null,null,null,{"$f":"IF(A835=\"\",\"\",MAX(I$10:I834)+1)","v":""},""]
[null,null,null,null,null,null,null,null,{"$f":"IF(A836=\"\",\"\",MAX(I$10:I835)+1)","v":""},""]
[null,null,null,null,null,null,null,null,{"$f":"IF(A837=\"\",\"\",MAX(I$10:I836)+1)","v":""},""]
[null,null,null,null,null,null,null,null,{"$f":"IF(A838=\"\",\"\",MAX(I$10:I837)+1)","v":""},""]
[null,null,null,null,null,null,null,null,{"$f":"IF(A839=\"\",\"\",MAX(I$10:I838)+1)","v":""},""]
[null,null,null,null,null,null,null,null,{"$f":"IF(A840=\"\",\"\",MAX(I$10:I839)+1)","v":""},""]
[null,null,null,null,null,null,null,null,{"$f":"IF(A841=\"\",\"\",MAX(I$10:I840)+1)","v":""},""]
[null,null,null,null,null,null,null,null,{"$f":"IF(A842=\"\",\"\",MAX(I$10:I841)+1)","v":""},""]
[null,null,null,null,null,null,null,null,{"$f":"IF(A843=\"\",\"\",MAX(I$10:I842)+1)","v":""},""]
[null,null,null,null,null,null,null,null,{"$f":"IF(A844=\"\",\"\",MAX(I$10:I843)+1)","v":""},{"$f":"IFERROR(INDEX($A$11:$A$100000,MATCH(ROW()-10,$I$11:$I$100000,0)),\"\")","v":""}]
[null,null,null,null,null,null,null,null,{"$f":"IF(A845=\"\",\"\",MAX(I$10:I844)+1)","v":""},""]
[null,null,null,null,null,null,null,null,{"$f":"IF(A846=\"\",\"\",MAX(I$10:I845)+1)","v":""},""]
[null,null,null,null,null,null,null,null,{"$f":"IF(A847=\"\",\"\",MAX(I$10:I846)+1)","v":""},""]
[null,null,null,null,null,null,null,null,{"$f":"IF(A848=\"\",\"\",MAX(I$10:I847)+1)","v":""},""]
[null,null,null,null,null,null,null,null,{"$f":"IF(A849=\"\",\"\",MAX(I$10:I848)+1)","v":""},""]
[null,null,null,null,null,null,null,null,{"$f":"IF(A850=\"\",\"\",MAX(I$10:I849)+1)","v":""},""]
[null,null,null,null,null,null,null,null,{"$f":"IF(A851=\"\",\"\",MAX(I$10:I850)+1)","v":""},""]
[null,null,null,null,null,null,null,null,{"$f":"IF(A852=\"\",\"\",MAX(I$10:I851)+1)","v":""},""]
[null,null,null,null,null,null,null,null,{"$f":"IF(A853=\"\",\"\",MAX(I$10:I852)+1)","v":""},""]
[null,null,null,null,null,null,null,null,{"$f":"IF(A854=\"\",\"\",MAX(I$10:I853)+1)","v":""},""]
[null,null,null,null,null,null,null,null,{"$f":"IF(A855=\"\",\"\",MAX(I$10:I854)+1)","v":""},""]
[null,null,null,null,null,null,null,null,{"$f":"IF(A856=\"\",\"\",MAX(I$10:I855)+1)","v":""},""]
[null,null,null,null,null,null,null,null,{"$f":"IF(A857=\"\",\"\",MAX(I$10:I856)+1)","v":""},""]
[null,null,null,null,null,null,null,null,{"$f":"IF(A858=\"\",\"\",MAX(I$10:I857)+1)","v":""},""]
[null,null,null,null,null,null,null,null,{"$f":"IF(A859=\"\",\"\",MAX(I$10:I858)+1)","v":""},""]
[null,null,null,null,null,null,null,null,{"$f":"IF(A860=\"\",\"\",MAX(I$10:I859)+1)","v":""},""]
[null,null,null,null,null,null,null,null,{"$f":"IF(A861=\"\",\"\",MAX(I$10:I860)+1)","v":""},""]
[null,null,null,null,null,null,null,null,{"$f":"IF(A862=\"\",\"\",MAX(I$10:I861)+1)","v":""},""]
[null,null,null,null,null,null,null,null,{"$f":"IF(A863=\"\",\"\",MAX(I$10:I862)+1)","v":""},""]
[null,null,null,null,null,null,null,null,{"$f":"IF(A864=\"\",\"\",MAX(I$10:I863)+1)","v":""},""]
[null,null,null,null,null,null,null,null,{"$f":"IF(A865=\"\",\"\",MAX(I$10:I864)+1)","v":""},""]
[null,null,null,null,null,null,null,null,{"$f":"IF(A866=\"\",\"\",MAX(I$10:I865)+1)","v":""},""]
[null,null,null,null,null,null,null,null,{"$f":"IF(A867=\"\",\"\",MAX(I$10:I866)+1)","v":""},""]
[null,null,null,null,null,null,null,null,{"$f":"IF(A868=\"\",\"\",MAX(I$10:I867)+1)","v":""},""]
[null,null,null,null,null,null,null,null,{"$f":"IF(A869=\"\",\"\",MAX(I$10:I868)+1)","v":""},""]
[null,null,null,null,null,null,null,null,{"$f":"IF(A870=\"\",\"\",MAX(I$10:I869)+1)","v":""},""]
[null,null,null,null,null,null,null,null,{"$f":"IF(A871=\"\",\"\",MAX(I$10:I870)+1)","v":""},""]
[null,null,null,null,null,null,null,null,{"$f":"IF(A872=\"\",\"\",MAX(I$10:I871)+1)","v":""},""]
[null,null,null,null,null,null,null,null,{"$f":"IF(A873=\"\",\"\",MAX(I$10:I872)+1)","v":""},""]
[null,null,null,null,null,null,null,null,{"$f":"IF(A874=\"\",\"\",MAX(I$10:I873)+1)","v":""},""]
[null,null,null,null,null,null,null,null,{"$f":"IF(A875=\"\",\"\",MAX(I$10:I874)+1)","v":""},""]
[null,null,null,null,null,null,null,null,{"$f":"IF(A876=\"\",\"\",MAX(I$10:I875)+1)","v":""},""]
[null,null,null,null,null,null,null,null,{"$f":"IF(A877=\"\",\"\",MAX(I$10:I876)+1)","v":""},""]
[null,null,null,null,null,null,null,null,{"$f":"IF(A878=\"\",\"\",MAX(I$10:I877)+1)","v":""},""]
[null,null,null,null,null,null,null,null,{"$f":"IF(A879=\"\",\"\",MAX(I$10:I878)+1)","v":""},""]
[null,null,null,null,null,null,null,null,{"$f":"IF(A880=\"\",\"\",MAX(I$10:I879)+1)","v":""},""]
[null,null,null,null,null,null,null,null,{"$f":"IF(A881=\"\",\"\",MAX(I$10:I880)+1)","v":""},""]
[null,null,null,null,null,null,null,null,{"$f":"IF(A882=\"\",\"\",MAX(I$10:I881)+1)","v":""},""]
[null,null,null,null,null,null,null,null,{"$f":"IF(A883=\"\",\"\",MAX(I$10:I882)+1)","v":""},""]
[null,null,null,null,null,null,null,null,{"$f":"IF(A884=\"\",\"\",MAX(I$10:I883)+1)","v":""},""]
[null,null,null,null,null,null,null,null,{"$f":"IF(A885=\"\",\"\",MAX(I$10:I884)+1)","v":""},""]
[null,null,null,null,null,null,null,null,{"$f":"IF(A886=\"\",\"\",MAX(I$10:I885)+1)","v":""},""]
[null,null,null,null,null,null,null,null,{"$f":"IF(A887=\"\",\"\",MAX(I$10:I886)+1)","v":""},""]
[null,null,null,null,null,null,null,null,{"$f":"IF(A888=\"\",\"\",MAX(I$10:I887)+1)","v":""},""]
[null,null,null,null,null,null,null,null,{"$f":"IF(A889=\"\",\"\",MAX(I$10:I888)+1)","v":""},""]
[null,null,null,null,null,null,null,null,{"$f":"IF(A890=\"\",\"\",MAX(I$10:I889)+1)","v":""},""]
[null,null,null,null,null,null,null,null,{"$f":"IF(A891=\"\",\"\",MAX(I$10:I890)+1)","v":""},""]
[null,null,null,null,null,null,null,null,{"$f":"IF(A892=\"\",\"\",MAX(I$10:I891)+1)","v":""},""]
[null,null,null,null,null,null,null,null,{"$f":"IF(A893=\"\",\"\",MAX(I$10:I892)+1)","v":""},""]
[null,null,null,null,null,null,null,null,{"$f":"IF(A894=\"\",\"\",MAX(I$10:I893)+1)","v":""},""]
[null,null,null,null,null,null,null,null,{"$f":"IF(A895=\"\",\"\",MAX(I$10:I894)+1)","v":""},""]
[null,null,null,null,null,null,null,null,{"$f":"IF(A896=\"\",\"\",MAX(I$10:I895)+1)","v":""},""]
[null,null,null,null,null,null,null,null,{"$f":"IF(A897=\"\",\"\",MAX(I$10:I896)+1)","v":""},""]
[null,null,null,null,null,null,null,null,{"$f":"IF(A898=\"\",\"\",MAX(I$10:I897)+1)","v":""},""]
[null,null,null,null,null,null,null,null,{"$f":"IF(A899=\"\",\"\",MAX(I$10:I898)+1)","v":""},""]
[null,null,null,null,null,null,null,null,{"$f":"IF(A900=\"\",\"\",MAX(I$10:I899)+1)","v":""},""]
[null,null,null,null,null,null,null,null,{"$f":"IF(A901=\"\",\"\",MAX(I$10:I900)+1)","v":""},""]
[null,null,null,null,null,null,null,null,{"$f":"IF(A902=\"\",\"\",MAX(I$10:I901)+1)","v":""},""]
[null,null,null,null,null,null,null,null,{"$f":"IF(A903=\"\",\"\",MAX(I$10:I902)+1)","v":""},""]
[null,null,null,null,null,null,null,null,{"$f":"IF(A904=\"\",\"\",MAX(I$10:I903)+1)","v":""},""]
[null,null,null,null,null,null,null,null,{"$f":"IF(A905=\"\",\"\",MAX(I$10:I904)+1)","v":""},""]
[null,null,null,null,null,null,null,null,{"$f":"IF(A906=\"\",\"\",MAX(I$10:I905)+1)","v":""},""]
[null,null,null,null,null,null,null,null,{"$f":"IF(A907=\"\",\"\",MAX(I$10:I906)+1)","v":""},""]
[null,null,null,null,null,null,null,null,{"$f":"IF(A908=\"\",\"\",MAX(I$10:I907)+1)","v":""},{"$f":"IFERROR(INDEX($A$11:$A$100000,MATCH(ROW()-10,$I$11:$I$100000,0)),\"\")","v":""}]
[null,null,null,null,null,null,null,null,{"$f":"IF(A909=\"\",\"\",MAX(I$10:I908)+1)","v":""},""]
[null,null,null,null,null,null,null,null,{"$f":"IF(A910=\"\",\"\",MAX(I$10:I909)+1)","v":""},""]
[null,null,null,null,null,null,null,null,{"$f":"IF(A911=\"\",\"\",MAX(I$10:I910)+1)","v":""},""]
[null,null,null,null,null,null,null,null,{"$f":"IF(A912=\"\",\"\",MAX(I$10:I911)+1)","v":""},""]
[null,null,null,null,null,null,null,null,{"$f":"IF(A913=\"\",\"\",MAX(I$10:I912)+1)","v":""},""]
[null,null,null,null,null,null,null,null,{"$f":"IF(A914=\"\",\"\",MAX(I$10:I913)+1)","v":""},""]
[null,null,null,null,null,null,null,null,{"$f":"IF(A915=\"\",\"\",MAX(I$10:I914)+1)","v":""},""]
[null,null,null,null,null,null,null,null,{"$f":"IF(A916=\"\",\"\",MAX(I$10:I915)+1)","v":""},""]
[null,null,null,null,null,null,null,null,{"$f":"IF(A917=\"\",\"\",MAX(I$10:I916)+1)","v":""},""]
[null,null,null,null,null,null,null,null,{"$f":"IF(A918=\"\",\"\",MAX(I$10:I917)+1)","v":""},""]
[null,null,null,null,null,null,null,null,{"$f":"IF(A919=\"\",\"\",MAX(I$10:I918)+1)","v":""},""]
[null,null,null,null,null,null,null,null,{"$f":"IF(A920=\"\",\"\",MAX(I$10:I919)+1)","v":""},""]
[null,null,null,null,null,null,null,null,{"$f":"IF(A921=\"\",\"\",MAX(I$10:I920)+1)","v":""},""]
[null,null,null,null,null,null,null,null,{"$f":"IF(A922=\"\",\"\",MAX(I$10:I921)+1)","v":""},""]
[null,null,null,null,null,null,null,null,{"$f":"IF(A923=\"\",\"\",MAX(I$10:I922)+1)","v":""},""]
[null,null,null,null,null,null,null,null,{"$f":"IF(A924=\"\",\"\",MAX(I$10:I923)+1)","v":""},""]
[null,null,null,null,null,null,null,null,{"$f":"IF(A925=\"\",\"\",MAX(I$10:I924)+1)","v":""},""]
[null,null,null,null,null,null,null,null,{"$f":"IF(A926=\"\",\"\",MAX(I$10:I925)+1)","v":""},""]
[null,null,null,null,null,null,null,null,{"$f":"IF(A927=\"\",\"\",MAX(I$10:I926)+1)","v":""},""]
[null,null,null,null,null,null,null,null,{"$f":"IF(A928=\"\",\"\",MAX(I$10:I927)+1)","v":""},""]
[null,null,null,null,null,null,null,null,{"$f":"IF(A929=\"\",\"\",MAX(I$10:I928)+1)","v":""},""]
[null,null,null,null,null,null,null,null,{"$f":"IF(A930=\"\",\"\",MAX(I$10:I929)+1)","v":""},""]
[null,null,null,null,null,null,null,null,{"$f":"IF(A931=\"\",\"\",MAX(I$10:I930)+1)","v":""},""]
[null,null,null,null,null,null,null,null,{"$f":"IF(A932=\"\",\"\",MAX(I$10:I931)+1)","v":""},""]
[null,null,null,null,null,null,null,null,{"$f":"IF(A933=\"\",\"\",MAX(I$10:I932)+1)","v":""},""]
[null,null,null,null,null,null,null,null,{"$f":"IF(A934=\"\",\"\",MAX(I$10:I933)+1)","v":""},""]
[null,null,null,null,null,null,null,null,{"$f":"IF(A935=\"\",\"\",MAX(I$10:I934)+1)","v":""},""]
[null,null,null,null,null,null,null,null,{"$f":"IF(A936=\"\",\"\",MAX(I$10:I935)+1)","v":""},""]
[null,null,null,null,null,null,null,null,{"$f":"IF(A937=\"\",\"\",MAX(I$10:I936)+1)","v":""},""]
[null,null,null,null,null,null,null,null,{"$f":"IF(A938=\"\",\"\",MAX(I$10:I937)+1)","v":""},""]
[null,null,null,null,null,null,null,null,{"$f":"IF(A939=\"\",\"\",MAX(I$10:I938)+1)","v":""},""]
[null,null,null,null,null,null,null,null,{"$f":"IF(A940=\"\",\"\",MAX(I$10:I939)+1)","v":""},""]
[null,null,null,null,null,null,null,null,{"$f":"IF(A941=\"\",\"\",MAX(I$10:I940)+1)","v":""},""]
[null,null,null,null,null,null,null,null,{"$f":"IF(A942=\"\",\"\",MAX(I$10:I941)+1)","v":""},""]
[null,null,null,null,null,null,null,null,{"$f":"IF(A943=\"\",\"\",MAX(I$10:I942)+1)","v":""},""]
[null,null,null,null,null,null,null,null,{"$f":"IF(A944=\"\",\"\",MAX(I$10:I943)+1)","v":""},""]
[null,null,null,null,null,null,null,null,{"$f":"IF(A945=\"\",\"\",MAX(I$10:I944)+1)","v":""},""]
[null,null,null,null,null,null,null,null,{"$f":"IF(A946=\"\",\"\",MAX(I$10:I945)+1)","v":""},""]
[null,null,null,null,null,null,null,null,{"$f":"IF(A947=\"\",\"\",MAX(I$10:I946)+1)","v":""},""]
[null,null,null,null,null,null,null,null,{"$f":"IF(A948=\"\",\"\",MAX(I$10:I947)+1)","v":""},""]
[null,null,null,null,null,null,null,null,{"$f":"IF(A949=\"\",\"\",MAX(I$10:I948)+1)","v":""},""]
[null,null,null,null,null,null,null,null,{"$f":"IF(A950=\"\",\"\",MAX(I$10:I949)+1)","v":""},""]
[null,null,null,null,null,null,null,null,{"$f":"IF(A951=\"\",\"\",MAX(I$10:I950)+1)","v":""},""]
[null,null,null,null,null,null,null,null,{"$f":"IF(A952=\"\",\"\",MAX(I$10:I951)+1)","v":""},""]
[null,null,null,null,null,null,null,null,{"$f":"IF(A953=\"\",\"\",MAX(I$10:I952)+1)","v":""},""]
[null,null,null,null,null,null,null,null,{"$f":"IF(A954=\"\",\"\",MAX(I$10:I953)+1)","v":""},""]
[null,null,null,null,null,null,null,null,{"$f":"IF(A955=\"\",\"\",MAX(I$10:I954)+1)","v":""},""]
[null,null,null,null,null,null,null,null,{"$f":"IF(A956=\"\",\"\",MAX(I$10:I955)+1)","v":""},""]
[null,null,null,null,null,null,null,null,{"$f":"IF(A957=\"\",\"\",MAX(I$10:I956)+1)","v":""},""]
[null,null,null,null,null,null,null,null,{"$f":"IF(A958=\"\",\"\",MAX(I$10:I957)+1)","v":""},""]
[null,null,null,null,null,null,null,null,{"$f":"IF(A959=\"\",\"\",MAX(I$10:I958)+1)","v":""},""]
[null,null,null,null,null,null,null,null,{"$f":"IF(A960=\"\",\"\",MAX(I$10:I959)+1)","v":""},""]
[null,null,null,null,null,null,null,null,{"$f":"IF(A961=\"\",\"\",MAX(I$10:I960)+1)","v":""},""]
[null,null,null,null,null,null,null,null,{"$f":"IF(A962=\"\",\"\",MAX(I$10:I961)+1)","v":""},""]
[null,null,null,null,null,null,null,null,{"$f":"IF(A963=\"\",\"\",MAX(I$10:I962)+1)","v":""},""]
[null,null,null,null,null,null,null,null,{"$f":"IF(A964=\"\",\"\",MAX(I$10:I963)+1)","v":""},""]
[null,null,null,null,null,null,null,null,{"$f":"IF(A965=\"\",\"\",MAX(I$10:I964)+1)","v":""},""]
[null,null,null,null,null,null,null,null,{"$f":"IF(A966=\"\",\"\",MAX(I$10:I965)+1)","v":""},""]
[null,null,null,null,null,null,null,null,{"$f":"IF(A967=\"\",\"\",MAX(I$10:I966)+1)","v":""},""]
[null,null,null,null,null,null,null,null,{"$f":"IF(A968=\"\",\"\",MAX(I$10:I967)+1)","v":""},""]
[null,null,null,null,null,null,null,null,{"$f":"IF(A969=\"\",\"\",MAX(I$10:I968)+1)","v":""},""]
[null,null,null,null,null,null,null,null,{"$f":"IF(A970=\"\",\"\",MAX(I$10:I969)+1)","v":""},""]
[null,null,null,null,null,null,null,null,{"$f":"IF(A971=\"\",\"\",MAX(I$10:I970)+1)","v":""},""]
[null,null,null,null,null,null,null,null,{"$f":"IF(A972=\"\",\"\",MAX(I$10:I971)+1)","v":""},{"$f":"IFERROR(INDEX($A$11:$A$100000,MATCH(ROW()-10,$I$11:$I$100000,0)),\"\")","v":""}]
[null,null,null,null,null,null,null,null,{"$f":"IF(A973=\"\",\"\",MAX(I$10:I972)+1)","v":""},""]
[null,null,null,null,null,null,null,null,{"$f":"IF(A974=\"\",\"\",MAX(I$10:I973)+1)","v":""},""]
[null,null,null,null,null,null,null,null,{"$f":"IF(A975=\"\",\"\",MAX(I$10:I974)+1)","v":""},""]
[null,null,null,null,null,null,null,null,{"$f":"IF(A976=\"\",\"\",MAX(I$10:I975)+1)","v":""},""]
[null,null,null,null,null,null,null,null,{"$f":"IF(A977=\"\",\"\",MAX(I$10:I976)+1)","v":""},""]
[null,null,null,null,null,null,null,null,{"$f":"IF(A978=\"\",\"\",MAX(I$10:I977)+1)","v":""},""]
[null,null,null,null,null,null,null,null,{"$f":"IF(A979=\"\",\"\",MAX(I$10:I978)+1)","v":""},""]
[null,null,null,null,null,null,null,null,{"$f":"IF(A980=\"\",\"\",MAX(I$10:I979)+1)","v":""},""]
[null,null,null,null,null,null,null,null,{"$f":"IF(A981=\"\",\"\",MAX(I$10:I980)+1)","v":""},""]
[null,null,null,null,null,null,null,null,{"$f":"IF(A982=\"\",\"\",MAX(I$10:I981)+1)","v":""},""]
[null,null,null,null,null,null,null,null,{"$f":"IF(A983=\"\",\"\",MAX(I$10:I982)+1)","v":""},""]
[null,null,null,null,null,null,null,null,{"$f":"IF(A984=\"\",\"\",MAX(I$10:I983)+1)","v":""},""]
[null,null,null,null,null,null,null,null,{"$f":"IF(A985=\"\",\"\",MAX(I$10:I984)+1)","v":""},""]
[null,null,null,null,null,null,null,null,{"$f":"IF(A986=\"\",\"\",MAX(I$10:I985)+1)","v":""},""]
[null,null,null,null,null,null,null,null,{"$f":"IF(A987=\"\",\"\",MAX(I$10:I986)+1)","v":""},""]
[null,null,null,null,null,null,null,null,{"$f":"IF(A988=\"\",\"\",MAX(I$10:I987)+1)","v":""},""]
[null,null,null,null,null,null,null,null,{"$f":"IF(A989=\"\",\"\",MAX(I$10:I988)+1)","v":""},""]
[null,null,null,null,null,null,null,null,{"$f":"IF(A990=\"\",\"\",MAX(I$10:I989)+1)","v":""},""]
[null,null,null,null,null,null,null,null,{"$f":"IF(A991=\"\",\"\",MAX(I$10:I990)+1)","v":""},""]
[null,null,null,null,null,null,null,null,{"$f":"IF(A992=\"\",\"\",MAX(I$10:I991)+1)","v":""},""]
[null,null,null,null,null,null,null,null,{"$f":"IF(A993=\"\",\"\",MAX(I$10:I992)+1)","v":""},""]
[null,null,null,null,null,null,null,null,{"$f":"IF(A994=\"\",\"\",MAX(I$10:I993)+1)","v":""},""]
[null,null,null,null,null,null,null,null,{"$f":"IF(A995=\"\",\"\",MAX(I$10:I994)+1)","v":""},""]
[null,null,null,null,null,null,null,null,{"$f":"IF(A996=\"\",\"\",MAX(I$10:I995)+1)","v":""},""]
[null,null,null,null,null,null,null,null,{"$f":"IF(A997=\"\",\"\",MAX(I$10:I996)+1)","v":""},""]
[null,null,null,null,null,null,null,null,{"$f":"IF(A998=\"\",\"\",MAX(I$10:I997)+1)","v":""},""]
[null,null,null,null,null,null,null,null,{"$f":"IF(A999=\"\",\"\",MAX(I$10:I998)+1)","v":""},""]
[null,null,null,null,null,null,null,null,{"$f":"IF(A1000=\"\",\"\",MAX(I$10:I999)+1)","v":""},""]
[null,null,null,null,null,null,null,null,{"$f":"IF(A1001=\"\",\"\",MAX(I$10:I1000)+1)","v":""},""]
[null,null,null,null,null,null,null,null,{"$f":"IF(A1002=\"\",\"\",MAX(I$10:I1001)+1)","v":""},""]
[null,null,null,null,null,null,null,null,{"$f":"IF(A1003=\"\",\"\",MAX(I$10:I1002)+1)","v":""},""]
[null,null,null,null,null,null,null,null,{"$f":"IF(A1004=\"\",\"\",MAX(I$10:I1003)+1)","v":""},""]
[null,null,null,null,null,null,null,null,{"$f":"IF(A1005=\"\",\"\",MAX(I$10:I1004)+1)","v":""},""]
[null,null,null,null,null,null,null,null,{"$f":"IF(A1006=\"\",\"\",MAX(I$10:I1005)+1)","v":""},""]
[null,null,null,null,null,null,null,null,{"$f":"IF(A1007=\"\",\"\",MAX(I$10:I1006)+1)","v":""},""]
[null,null,null,null,null,null,null,null,{"$f":"IF(A1008=\"\",\"\",MAX(I$10:I1007)+1)","v":""},""]
[null,null,null,null,null,null,null,null,{"$f":"IF(A1009=\"\",\"\",MAX(I$10:I1008)+1)","v":""},""]
[null,null,null,null,null,null,null,null,{"$f":"IF(A1010=\"\",\"\",MAX(I$10:I1009)+1)","v":""},""]

{"sheet":"2-4) 外皮 ","index":7,"n_rows":11,"n_cols":11,"rows_kept":11,"cut":false,"hidden":false,"merged":[[3,2,3,9],[4,5,4,6],[4,7,4,9]]}
[{"$f":"様式一覧!A7","v":"様式 2-4. (空調)外皮仕様入力シート"}]
[]
[]
["①","①","外皮構成",null,null,null,null,null,null,null,"⑨"]
[null,null,"②","③","③","壁",null,"開口部"]
["階","空調ゾーン名",null,null,null,"④","⑤","⑥","⑦","⑧","備考"]
[null,null,"方位","日除け効果係数（冷房）","日除け効果係数（暖房）","外壁名称","外皮面積 (窓含)","開口部名称","窓面積","ブラインドの有無"]
[null,null,null,"[-]","[-]",null,"[㎡]",null,"[㎡]"]
["(転記)","(転記)","(選択)",null,null,"(転記)",null,"(転記)",null,"(選択)"]
[]
["1F","事務室","南",null,null,"外壁",1200,"窓",500,"無"]

{"sheet":"2-5) 熱源","index":8,"n_rows":89,"n_cols":26,"rows_kept":89,"cut":false,"hidden":false,"merged":[[2,16,2,22],[2,3,2,4],[3,13,3,15],[2,6,2,15]]}
[{"$f":"様式一覧!A8","v":"様式 2-5. (空調)熱源入力シート"}]
[]
["①","②","③","蓄熱システム",null,"⑥","冷熱生成",null,null,null,null,null,null,null,null,null,"温熱生成",null,null,null,null,null,null,"⑰"]
[null,null,null,"④","⑤",null,"⑦","⑧","⑨","⑩","⑪","⑫","⑬","冷却塔仕様",null,null,"⑦","⑧","⑨","⑩","⑪","⑫","⑬"]
[null,null,null,null,null,null,null,null,null,null,null,null,null,"⑭","⑮","⑯"]
["熱源群名称","冷暖同時供給有無","台数制御","運転モード","蓄熱容量","熱源機種","運転順位","台数","送水温度","定格冷却能力","主機　定格消費エネルギー","補機　定格消費電力","一次ポンプ定格消費電力","定格冷却能力","冷却塔ファン消費電力","冷却水ポンプ消費電力","運転順位","台数","送水温度","定格加熱能力","主機　定格消費エネルギー","補機　定格消費電力","一次ポンプ定格消費電力","備考"]
[null,null,null,null,null,null,null,null,null,null,null,null,null,null,null,null,null,null,null,null,null,null,null,"(機器表の記号"]
[null,null,null,null,"[MJ]",null,null,"[台]","[℃]","[kW/台]","[kW/台]","[kW/台]","[kW/台]","[kW/台]","[kW/台]","[kW/台]",null,"[台]","[℃]","[kW/台]","[kW/台]","[kW/台]","[kW/台]","系統名等）"]
[null,"(選択)","(選択)","(選択)",null,"(選択)","(選択)",null,null,null,null,null,null,null,null,null,"(選択)"]
[null,null,null,null,null,null,null,null,null,null,null,null,null,null,null,null,null,null,null,null,null,null,null,null,null,"Type List"]
["熱源A",null,null,null,null,"ウォータチリングユニット(水冷式)","1番目",1,7,{"$f":"163","v":163},41,null,2.2000000000000002,null,null,null,"1番目",1,42,{"$f":"180","v":180},45,null,2.2000000000000002,null,null,"ウォータチリングユニット(空冷式)"]
[null,null,null,null,null,null,null,null,null,null,null,null,null,null,null,null,null,null,null,null,null,null,null,null,null,"ウォータチリングユニット(空冷式モジュール形)"]
[null,null,null,null,null,null,null,null,null,null,null,null,null,null,null,null,null,null,null,null,null,null,null,null,null,"ウォータチリングユニット(水冷式)"]
[null,null,null,null,null,null,null,null,null,null,null,null,null,null,null,null,null,null,null,null,null,null,null,null,null,"ウォータチリングユニット(水冷式地中熱タイプ1)"]
[null,null,null,null,null,null,null,null,null,null,null,null,null,null,null,null,null,null,null,null,null,null,null,null,null,"ウォータチリングユニット(水冷式地中熱タイプ2)"]
[null,null,null,null,null,null,null,null,null,null,null,null,null,null,null,null,null,null,null,null,null,null,null,null,null,"ウォータチリングユニット(水冷式地中熱タイプ3)"]
[null,null,null,null,null,null,null,null,null,null,null,null,null,null,null,null,null,null,null,null,null,null,null,null,null,"ウォータチリングユニット(水冷式地中熱タイプ4)"]
[null,null,null,null,null,null,null,null,null,null,null,null,null,null,null,null,null,null,null,null,null,null,null,null,null,"ウォータチリングユニット(水冷式地中熱タイプ5)"]
[null,null,null,null,null,null,null,null,null,null,null,null,null,null,null,null,null,null,null,null,null,null,null,null,null,"スクリュー冷凍機"]
[null,null,null,null,null,null,null,null,null,null,null,null,null,null,null,null,null,null,null,null,null,null,null,null,null,"ターボ冷凍機"]
[null,null,null,null,null,null,null,null,null,null,null,null,null,null,null,null,null,null,null,null,null,null,null,null,null,"インバータターボ冷凍機"]
[null,null,null,null,null,null,null,null,null,null,null,null,null,null,null,null,null,null,null,null,null,null,null,null,null,"ブラインターボ冷凍機(蓄熱時)"]
[null,null,null,null,null,null,null,null,null,null,null,null,null,null,null,null,null,null,null,null,null,null,null,null,null,"ブラインターボ冷凍機(追掛時)"]
[null,null,null,null,null,null,null,null,null,null,null,null,null,null,null,null,null,null,null,null,null,null,null,null,null,"ウォータチリングユニット(空冷式氷蓄熱用)"]
[null,null,null,null,null,null,null,null,null,null,null,null,null,null,null,null,null,null,null,null,null,null,null,null,null,"ウォータチリングユニット(空冷式モジュール形氷蓄熱用)"]
[null,null,null,null,null,null,null,null,null,null,null,null,null,null,null,null,null,null,null,null,null,null,null,null,null,"スクリュー冷凍機(氷蓄熱用)"]
[null,null,null,null,null,null,null,null,null,null,null,null,null,null,null,null,null,null,null,null,null,null,null,null,null,"吸収式冷凍機(都市ガス)"]
[null,null,null,null,null,null,null,null,null,null,null,null,null,null,null,null,null,null,null,null,null,null,null,null,null,"吸収式冷凍機(冷却水変流量、都市ガス)"]
[null,null,null,null,null,null,null,null,null,null,null,null,null,null,null,null,null,null,null,null,null,null,null,null,null,"吸収式冷凍機(LPG)"]
[null,null,null,null,null,null,null,null,null,null,null,null,null,null,null,null,null,null,null,null,null,null,null,null,null,"吸収式冷凍機(冷却水変流量、LPG)"]
[null,null,null,null,null,null,null,null,null,null,null,null,null,null,null,null,null,null,null,null,null,null,null,null,null,"吸収式冷凍機(重油)"]
[null,null,null,null,null,null,null,null,null,null,null,null,null,null,null,null,null,null,null,null,null,null,null,null,null,"吸収式冷凍機(冷却水変流量、重油)"]
[null,null,null,null,null,null,null,null,null,null,null,null,null,null,null,null,null,null,null,null,null,null,null,null,null,"吸収式冷凍機(灯油)"]
[null,null,null,null,null,null,null,null,null,null,null,null,null,null,null,null,null,null,null,null,null,null,null,null,null,"吸収式冷凍機(冷却水変流量、灯油)"]
[null,null,null,null,null,null,null,null,null,null,null,null,null,null,null,null,null,null,null,null,null,null,null,null,null,"吸収式冷凍機(蒸気)"]
[null,null,null,null,null,null,null,null,null,null,null,null,null,null,null,null,null,null,null,null,null,null,null,null,null,"吸収式冷凍機(冷却水変流量、蒸気)"]
[null,null,null,null,null,null,null,null,null,null,null,null,null,null,null,null,null,null,null,null,null,null,null,null,null,"吸収式冷凍機(温水)"]
[null,null,null,null,null,null,null,null,null,null,null,null,null,null,null,null,null,null,null,null,null,null,null,null,null,"吸収式冷凍機(一重二重併用形、都市ガス)"]
[null,null,null,null,null,null,null,null,null,null,null,null,null,null,null,null,null,null,null,null,null,null,null,null,null,"吸収式冷凍機(一重二重併用形、冷却水変流量、都市ガス)"]
[null,null,null,null,null,null,null,null,null,null,null,null,null,null,null,null,null,null,null,null,null,null,null,null,null,"吸収式冷凍機(一重二重併用形、LPG)"]
[null,null,null,null,null,null,null,null,null,null,null,null,null,null,null,null,null,null,null,null,null,null,null,null,null,"吸収式冷凍機(一重二重併用形、冷却水変流量、LPG)"]
[null,null,null,null,null,null,null,null,null,null,null,null,null,null,null,null,null,null,null,null,null,null,null,null,null,"吸収式冷凍機(一重二重併用形、蒸気)"]
[null,null,null,null,null,null,null,null,null,null,null,null,null,null,null,null,null,null,null,null,null,null,null,null,null,"吸収式冷凍機(一重二重併用形、冷却水変流量、蒸気)"]
[null,null,null,null,null,null,null,null,null,null,null,null,null,null,null,null,null,null,null,null,null,null,null,null,null,"小型貫流ボイラ(都市ガス)"]
[null,null,null,null,null,null,null,null,null,null,null,null,null,null,null,null,null,null,null,null,null,null,null,null,null,"小型貫流ボイラ(LPG)"]
[null,null,null,null,null,null,null,null,null,null,null,null,null,null,null,null,null,null,null,null,null,null,null,null,null,"小型貫流ボイラ(重油)"]
[null,null,null,null,null,null,null,null,null,null,null,null,null,null,null,null,null,null,null,null,null,null,null,null,null,"小型貫流ボイラ(灯油)"]
[null,null,null,null,null,null,null,null,null,null,null,null,null,null,null,null,null,null,null,null,null,null,null,null,null,"貫流ボイラ(都市ガス)"]
[null,null,null,null,null,null,null,null,null,null,null,null,null,null,null,null,null,null,null,null,null,null,null,null,null,"貫流ボイラ(LPG)"]
[null,null,null,null,null,null,null,null,null,null,null,null,null,null,null,null,null,null,null,null,null,null,null,null,null,"貫流ボイラ(重油)"]
[null,null,null,null,null,null,null,null,null,null,null,null,null,null,null,null,null,null,null,null,null,null,null,null,null,"貫流ボイラ(灯油)"]
[null,null,null,null,null,null,null,null,null,null,null,null,null,null,null,null,null,null,null,null,null,null,null,null,null,"温水ボイラ(都市ガス)"]
[null,null,null,null,null,null,null,null,null,null,null,null,null,null,null,null,null,null,null,null,null,null,null,null,null,"温水ボイラ(LPG)"]
[null,null,null,null,null,null,null,null,null,null,null,null,null,null,null,null,null,null,null,null,null,null,null,null,null,"温水ボイラ(重油)"]
[null,null,null,null,null,null,null,null,null,null,null,null,null,null,null,null,null,null,null,null,null,null,null,null,null,"温水ボイラ(灯油)"]
[null,null,null,null,null,null,null,null,null,null,null,null,null,null,null,null,null,null,null,null,null,null,null,null,null,"蒸気ボイラ(都市ガス)"]
[null,null,null,null,null,null,null,null,null,null,null,null,null,null,null,null,null,null,null,null,null,null,null,null,null,"蒸気ボイラ(LPG)"]
[null,null,null,null,null,null,null,null,null,null,null,null,null,null,null,null,null,null,null,null,null,null,null,null,null,"蒸気ボイラ(重油)"]
[null,null,null,null,null,null,null,null,null,null,null,null,null,null,null,null,null,null,null,null,null,null,null,null,null,"蒸気ボイラ(灯油)"]
[null,null,null,null,null,null,null,null,null,null,null,null,null,null,null,null,null,null,null,null,null,null,null,null,null,"温水発生機(都市ガス)"]
[null,null,null,null,null,null,null,null,null,null,null,null,null,null,null,null,null,null,null,null,null,null,null,null,null,"温水発生機(LPG)"]
[null,null,null,null,null,null,null,null,null,null,null,null,null,null,null,null,null,null,null,null,null,null,null,null,null,"温水発生機(重油)"]
[null,null,null,null,null,null,null,null,null,null,null,null,null,null,null,null,null,null,null,null,null,null,null,null,null,"温水発生機(灯油)"]
[null,null,null,null,null,null,null,null,null,null,null,null,null,null,null,null,null,null,null,null,null,null,null,null,null,"パッケージエアコンディショナ(空冷式)"]
[null,null,null,null,null,null,null,null,null,null,null,null,null,null,null,null,null,null,null,null,null,null,null,null,null,"パッケージエアコンディショナ(水冷式熱回収形)"]
[null,null,null,null,null,null,null,null,null,null,null,null,null,null,null,null,null,null,null,null,null,null,null,null,null,"パッケージエアコンディショナ(水冷式)"]
[null,null,null,null,null,null,null,null,null,null,null,null,null,null,null,null,null,null,null,null,null,null,null,null,null,"パッケージエアコンディショナ(水冷式地中熱タイプ1)"]
[null,null,null,null,null,null,null,null,null,null,null,null,null,null,null,null,null,null,null,null,null,null,null,null,null,"パッケージエアコンディショナ(水冷式地中熱タイプ2)"]
[null,null,null,null,null,null,null,null,null,null,null,null,null,null,null,null,null,null,null,null,null,null,null,null,null,"パッケージエアコンディショナ(水冷式地中熱タイプ3)"]
[null,null,null,null,null,null,null,null,null,null,null,null,null,null,null,null,null,null,null,null,null,null,null,null,null,"パッケージエアコンディショナ(水冷式地中熱タイプ4)"]
[null,null,null,null,null,null,null,null,null,null,null,null,null,null,null,null,null,null,null,null,null,null,null,null,null,"パッケージエアコンディショナ(水冷式地中熱タイプ5)"]
[null,null,null,null,null,null,null,null,null,null,null,null,null,null,null,null,null,null,null,null,null,null,null,null,null,"ガスヒートポンプ冷暖房機(都市ガス)"]
[null,null,null,null,null,null,null,null,null,null,null,null,null,null,null,null,null,null,null,null,null,null,null,null,null,"ガスヒートポンプ冷暖房機(LPG)"]
[null,null,null,null,null,null,null,null,null,null,null,null,null,null,null,null,null,null,null,null,null,null,null,null,null,"ルームエアコンディショナ"]
[null,null,null,null,null,null,null,null,null,null,null,null,null,null,null,null,null,null,null,null,null,null,null,null,null,"FF式ガス暖房機(都市ガス)"]
[null,null,null,null,null,null,null,null,null,null,null,null,null,null,null,null,null,null,null,null,null,null,null,null,null,"FF式ガス暖房機(LPG)"]
[null,null,null,null,null,null,null,null,null,null,null,null,null,null,null,null,null,null,null,null,null,null,null,null,null,"FF式石油暖房機"]
[null,null,null,null,null,null,null,null,null,null,null,null,null,null,null,null,null,null,null,null,null,null,null,null,null,"地域熱供給(冷水)"]
[null,null,null,null,null,null,null,null,null,null,null,null,null,null,null,null,null,null,null,null,null,null,null,null,null,"地域熱供給(温水)"]
[null,null,null,null,null,null,null,null,null,null,null,null,null,null,null,null,null,null,null,null,null,null,null,null,null,"地域熱供給(蒸気)"]
[null,null,null,null,null,null,null,null,null,null,null,null,null,null,null,null,null,null,null,null,null,null,null,null,null,"熱交換器"]
[null,null,null,null,null,null,null,null,null,null,null,null,null,null,null,null,null,null,null,null,null,null,null,null,null,"電気式ヒーター"]
[null,null,null,null,null,null,null,null,null,null,null,null,null,null,null,null,null,null,null,null,null,null,null,null,null,"電気蓄熱暖房器"]
[null,null,null,null,null,null,null,null,null,null,null,null,null,null,null,null,null,null,null,null,null,null,null,null,null,"温風暖房機(都市ガス)"]
[null,null,null,null,null,null,null,null,null,null,null,null,null,null,null,null,null,null,null,null,null,null,null,null,null,"温風暖房機(LPG)"]
[null,null,null,null,null,null,null,null,null,null,null,null,null,null,null,null,null,null,null,null,null,null,null,null,null,"温風暖房機(重油)"]
[null,null,null,null,null,null,null,null,null,null,null,null,null,null,null,null,null,null,null,null,null,null,null,null,null,"温風暖房機(灯油)"]
[null,null,null,null,null,null,null,null,null,null,null,null,null,null,null,null,null,null,null,null,null,null,null,null,null,"ガスヒートポンプ冷暖房機(消費電力自給装置付、都市ガス)"]
[null,null,null,null,null,null,null,null,null,null,null,null,null,null,null,null,null,null,null,null,null,null,null,null,null,"ガスヒートポンプ冷暖房機(消費電力自給装置付、LPG)"]

{"sheet":"SP-3) 熱源水温度","index":9,"n_rows":11,"n_cols":13,"rows_kept":11,"cut":false,"hidden":false,"merged":[]}
["様式SP-3. 熱源水温度入力シート"]
[]
[]
["SP3-1","SP3-2","SP3-3","SP3-4","SP3-5","SP3-6","SP3-7","SP3-8","SP3-9","SP3-10","SP3-11","SP3-12","SP3-13"]
[]
["熱源群名称","熱源水温度","熱源水温度","熱源水温度","熱源水温度","熱源水温度","熱源水温度","熱源水温度","熱源水温度","熱源水温度","熱源水温度","熱源水温度","熱源水温度"]
[]
[null,"(1月）","(2月）","(3月）","(4月）","(5月）","(6月）","(7月）","(8月）","(9月）","(10月）","(11月）","(12月）"]
[null,"[℃]","[℃]","[℃]","[℃]","[℃]","[℃]","[℃]","[℃]","[℃]","[℃]","[℃]","[℃]"]
[]
["熱源A",17,17,17,17,17,17,17,17,17,17,17,17]

{"sheet":"2-6) 2次ﾎﾟﾝﾌﾟ","index":10,"n_rows":12,"n_cols":11,"rows_kept":12,"cut":false,"hidden":false,"merged":[]}
[{"$f":"様式一覧!A9","v":"様式 2-6. (空調)二次ポンプ入力シート"}]
[]
["①","②","③","③","④","⑤","⑥","⑦","⑧","⑨","⑩"]
[]
["二次ポンプ群名称","台数制御の有無","冷房時温度差","暖房時温度差","運転順位","台数","定格流量","定格消費電力","流量制御方式","変流量時最小流量比","備考"]
[null,null,null,null,null,null,null,null,null,null,"（機器表の記号、系統名等）"]
[]
[null,null,"[℃]","[℃]",null,"[台]","[m3/h台]","[kW/台]",null,"[%]"]
[null,"(選択)",null,null,"(選択)",null,null,null,"(選択)"]
[]
["二次ポンプ","有",7,7,"1番目",1,10,3.75,"定流量制御"]
[null,null,null,null,"2番目",1,10,3.75,"定流量制御"]

{"sheet":"2-7) 空調機","index":11,"n_rows":11,"n_cols":24,"rows_kept":11,"cut":false,"hidden":false,"merged":[[2,21,2,22],[2,6,2,9],[2,19,2,20],[2,14,2,18]]}
[{"$f":"様式一覧!A10","v":"様式 2-7. (空調)空調機入力シート"}]
[]
["①","②","③","④","⑤","⑥","送風機定格消費電力",null,null,null,"⑪","⑫","⑬","⑭","全熱交換器",null,null,null,null,"二次ポンプ群名称",null,"熱源群名称",null,"㉔"]
[null,null,null,null,null,null,"⑦","⑧","⑨","⑩",null,null,null,null,"⑮","⑯","⑰","⑱","⑲","⑳","㉑","㉒","㉓"]
[]
["空調機群名称","台数","空調機タイプ","定格冷却(冷房)能力","定格加熱(暖房)能力","設計最大外気風量","給気","還気","外気","排気","風量制御方式","変風量時　最小風量比","予熱時外気取り入れ停止の有無","外気冷房制御の有無","全熱交換器の有無","全熱交換器の設計風量","全熱交換効率","自動換気切替機能の有無","ローター消費電力","冷熱","温熱","冷熱","温熱","備考"]
[null,null,null,null,null,null,null,null,null,null,null,null,null,null,null,null,null,null,null,null,null,null,null,"(機器表の記号"]
[null,"[台]",null,"[kW/台]","[kW/台]","[m3/h台]","[kW/台]","[kW/台]","[kW/台]","[kW/台]",null,"［%］",null,null,null,"[m3/h台]","[%]",null,"[kW/台]",null,null,null,null,"系統名等）"]
[null,null,"(選択)",null,null,null,null,null,null,null,"(選択)",null,"(選択)","(選択)","(選択)",null,null,"(選択)",null,"(転記)","(転記)","(転記)","(転記)"]
[]
["AHU",1,"空調機",130,110,null,21,null,null,null,"回転数制御",60,null,null,null,null,null,null,null,"二次ポンプ","二次ポンプ","熱源A","熱源A"]

{"sheet":"SP-2) 熱源特性","index":12,"n_rows":6,"n_cols":9,"rows_kept":6,"cut":false,"hidden":true,"merged":[]}
["様式SP-2. 熱源特性"]
[]
[]
["①","②","③","④","⑤","⑥","⑦","⑧","⑨"]
[]
["熱源機種","特性種別","冷房/暖房","x4","x3","x2","x1","a","備考"]

{"sheet":"3-1) 換気室","index":13,"n_rows":9,"n_cols":8,"rows_kept":9,"cut":false,"hidden":false,"merged":[]}
[{"$f":"様式一覧!A11","v":"様式 3-1. (換気)換気対象室入力シート"}]
[]
[]
["①","①","①","①","①","②","③","④"]
[]
["階","室名","建物用途","室用途","室面積","換気種類","換気機器名称","備考"]
[]
[null,null,null,null,"[㎡]","(給気/排気/循環/空調)"]
["(転記)","(転記)","(転記)","(転記)","(転記)","(選択)","(転記)"]

{"sheet":"3-2) 換気送風機","index":14,"n_rows":9,"n_cols":7,"rows_kept":9,"cut":false,"hidden":false,"merged":[[3,3,3,5]]}
[{"$f":"様式一覧!A12","v":"様式 3-2. (換気)給排気送風機入力シート"}]
[]
[]
["①","②","③","制御等の有無",null,null,"⑦"]
[null,null,null,"④","⑤","⑥"]
["換気機器名称","設計風量","電動機定格出力","高効率電動機の有無","インバータの有無","送風量制御","備考"]
[]
[null,"[m3/h]","[kW]"]
[null,null,null,"(選択）","(選択）","(選択）"]

{"sheet":"3-3) 換気空調機","index":15,"n_rows":8,"n_cols":12,"rows_kept":8,"cut":false,"hidden":false,"merged":[[3,3,3,4],[3,5,3,7],[3,8,3,10]]}
[{"$f":"様式一覧!A13","v":"様式 3-3. (換気)換気代替空調機入力シート"}]
[]
[]
["①","②","③","熱源",null,"送風機",null,null,"制御等の有無",null,null,"⑫"]
[null,null,null,"④","⑤","⑥","⑦","⑧","⑨","⑩","　⑪"]
["換気機器名称","換気対象室の用途","必要冷却能力","熱源効率","ポンプ","送風機の","設計","電動機","高効率電動機","インバータ","送風量","備考"]
[null,null,null,"（一次換算値）","定格出力","種類","風量","定格出力","の有無","の有無","制御"]
[null,"(選択)","[kW]","[-]","[kW]","(選択)","[m3/h]","[kW]","(選択）","(選択）","(選択）"]

{"sheet":"4) 照明","index":16,"n_rows":9,"n_cols":18,"rows_kept":9,"cut":false,"hidden":false,"merged":[[3,7,3,9],[3,13,3,16],[3,10,3,12]]}
[{"$f":"様式一覧!A14","v":"様式 4. (照明)照明入力シート"}]
[]
[]
["①","①","①","①","①","①","①","室指数",null,null,"照明器具仕様",null,null,"制御等の有無",null,null,null,"⑫"]
[null,null,null,null,null,null,null,"②","③","④","⑤","⑥","⑦","⑧","⑨","⑩","⑪"]
["階","室名","建物用途","室用途","室面積","階高","天井高","室の間口","室の奥行","室指数","機器名称","定格消費電力","台数","在室検知制御","明るさ検知制御","タイムスケジュール制御","初期照度補正機能","備考"]
[]
[null,null,null,null,"[㎡]","[m]","[m]","[m]","[m]","[-]","（照明器具表の記号等）","[W/台]","[台]"]
["(転記)","(転記)","(転記)","(転記)","(転記)","(転記)","(転記)",null,null,null,null,null,null,"(選択)","(選択)","(選択)","(選択)"]

{"sheet":"5-1) 給湯室","index":17,"n_rows":9,"n_cols":9,"rows_kept":9,"cut":false,"hidden":false,"merged":[]}
[{"$f":"様式一覧!A15","v":"様式 5-1. (給湯)給湯対象室入力シート"}]
[]
[]
["①","①","①","①","①","②","③","④","⑤"]
[]
["階","室名","建物用途","室用途","室面積","給湯箇所","節湯器具","給湯機器名称","備考"]
[null,null,null,null,null,"（給湯栓設置箇所）"]
[null,null,null,null,"[㎡]"]
["(転記)","(転記)","(転記)","(転記)","(転記)",null,"(選択)","(転記)"]

{"sheet":"5-2) 給湯機器","index":18,"n_rows":9,"n_cols":10,"rows_kept":9,"cut":false,"hidden":false,"merged":[[3,6,3,8]]}
[{"$f":"様式一覧!A16","v":"様式 5-2. (給湯)給湯機器入力シート"}]
[]
[]
["①","②","③","④","⑤","⑥","太陽熱利用",null,null,"⑩"]
[null,null,null,null,null,null,"⑦","⑧","⑨"]
["給湯機器名称","燃料種類","定格加熱能力","熱源効率（一次エネルギー換算）","配管保温仕様","接続口径","有効集熱面積","集熱面の方位角","集熱面の傾斜角","備考"]
[]
[null,"(選択）","[kW]","[-]",null,"[mm]","[㎡]","[°]","[°]"]
[null,null,null,null,"(選択)"]

{"sheet":"6) 昇降機","index":19,"n_rows":9,"n_cols":11,"rows_kept":9,"cut":false,"hidden":false,"merged":[[3,0,3,3]]}
[{"$f":"様式一覧!A17","v":"様式 6. (昇降機)昇降機入力シート"}]
[]
[]
["主要な対象室",null,null,null,"②","③","④","⑤","⑥","⑦","⑧"]
["①","①","①","①"]
["階","室名","建物用途","室用途","機器名称","台数","積載量","速度","輸送能力係数","速度制御方式","備考"]
[null,null,null,null,"(機器表の記号等）"]
[null,null,null,null,null,"[台]","[kg]","[m/min]","[-]"]
["(転記)","(転記)","(転記)","(転記)",null,null,null,null,null,"(選択)"]

{"sheet":"7-1) 太陽光発電","index":20,"n_rows":9,"n_cols":8,"rows_kept":9,"cut":false,"hidden":false,"merged":[]}
["様式 7-1. (効率化)太陽光発電システム入力シート"]
[]
[]
["①","②","③","④","⑤","⑥","⑦","⑧"]
[]
["太陽光発電システム名称","パワーコンディショナの効率","太陽電池の種類","アレイ設置方式","アレイのシステム容量","パネルの方位角","パネルの傾斜角","備考"]
[]
[null,"[-]",null,null,"[kW]","[°]","[°]"]
[null,null,"(選択)","(選択)"]

{"sheet":"7-2) コージェネレーション設備(CASCADE用)","index":21,"n_rows":8,"n_cols":15,"rows_kept":8,"cut":false,"hidden":false,"merged":[[3,1,3,6]]}
["様式 7-2. (効率化)コージェネレーション設備入力シート(CASCADE用)"]
[]
[]
["①","年間電力需要",null,null,null,null,null,"③","④","⑤","⑥","⑦","⑧","⑨","⑩"]
[null,"②","②","②","②","②","②",null,null,null,null,null,"有効排熱量の","温水吸収冷凍機または"]
["コージェネレーションシステム","空調","換気","照明","給湯","昇降機","その他","機器名称","発電効率","排熱回収率","発電依存率","有効熱利用率","冷熱利用比","排熱投入型冷温水機","備考"]
["名称",null,null,null,null,null,null,null,null,null,null,null,null,"の成績係数"]
[null,"[MWh]","[MWh]","[MWh]","[MWh]","[MWh]","[MWh]",null,"[-]","[-]","[-]","[-]","[-]","[-]"]

{"sheet":"7-3) コージェネレーション設備","index":22,"n_rows":8,"n_cols":17,"rows_kept":8,"cut":false,"hidden":false,"merged":[[3,3,3,5],[3,6,3,8],[3,9,3,11],[3,13,3,15],[4,13,4,14]]}
["様式 7-3. (効率化)コージェネレーション設備入力シート"]
[]
[]
["①","②","③","発電効率",null,null,"排熱効率",null,null,"排熱利用優先順位",null,null,"⑬","排熱利用系統",null,null,"⑰"]
[null,null,null,"④","⑤","⑥","⑦","⑧","⑨","⑩","⑪","⑫","24時間","空調熱源群",null,"⑯"]
["コージェネレーション","定格発電出力","設置台数","負荷率","負荷率","負荷率","負荷率","負荷率","負荷率","空調","空調","給湯","運転","⑭","⑮","給湯","備考"]
["設備名称",null,null,"1.00",0.75,"0.50","1.00",0.75,"0.50","冷熱源","温熱源",null,"の有無","冷熱源","温熱源","機器"]
[null,"[kW]","[台]","[-]","[-]","[-]","[-]","[-]","[-]","[-]","[-]","[-]","[-]","(選択)","(選択)","(選択)"]

{"sheet":"8) 非空調外皮","index":23,"n_rows":9,"n_cols":15,"rows_kept":9,"cut":false,"hidden":false,"merged":[[3,6,3,13],[4,9,4,10],[4,11,4,13],[3,0,3,5]]}
["様式 8. (外皮) 非空調外皮仕様入力シート"]
[]
[]
["非空調ゾーン仕様",null,null,null,null,null,"外皮構成",null,null,null,null,null,null,null,"⑨"]
["①","①","①","①","①","①","②","③","③","壁",null,"窓"]
["階","非空調ゾーン名","建物用途","室用途","室面積","階高",null,null,null,"④","⑤","⑥","⑦","⑧"]
[null,null,null,null,null,null,"方位","日除け効果係数（冷房）","日除け効果係数（暖房）","外壁名称","外皮面積 (窓含)","窓名称","窓面積","ブラインドの有無","備考"]
[null,null,null,null,"[㎡]","[m]",null,"[-]","[-]",null,"[㎡]",null,"[㎡]"]
[null,null,null,null,null,null,"(選択)",null,null,"(転記)",null,"(転記)",null,"(選択)"]

{"sheet":"9) モデル建物","index":24,"n_rows":9,"n_cols":10,"rows_kept":9,"cut":false,"hidden":false,"merged":[[3,1,3,6],[3,7,3,8],[4,3,4,4]]}
[{"$f":"様式一覧!A22","v":"様式 9. (共通)モデル建物設定シート"}]
[]
[]
["①","計算対象部分の諸元",null,null,null,null,null,"非空調コア部",null,"⑩"]
[null,"②","③","階数",null,"⑥","⑦","⑧","⑨"]
["モデル建物","床面積","空調対象床面積","④","⑤","階高の合計","外周長さ","方位","長さ","備考"]
[null,null,null,"地上","地下"]
[null,"[㎡]","[㎡]","[階]","[階]","[m]","[m]",null,"[m]"]
["(選択)","(入力)","(入力)","(入力)","(入力)","(入力)","(入力)","(選択)","(入力)"]